Workbook
Name _ftn1: '2.5.Трудоемкость'!#REF!
Name _ftnref1: '2.5.Трудоемкость'!#REF!
Name _GoBack: '2.5.Трудоемкость'!#REF!
Name _Toc424036212: '2.5.Трудоемкость'!#REF!

Sheet 2.1 Титул
I1: Приложение 2 к протоколу
I2: начальной (максимальной)
I3: цены контракта (цены лота)
A18: Таблица расчета начальной (максимальной) цены контракта
A19: на выполнение работ по развитию государственной информационной системы: автоматизированная информационная система «Единое информационное пространство мировых судей города Москвы» (третья очередь)

Sheet 2.2 Свод по годам
B1: Наименование работ | C1: Расчетная начальная (максимальная) цена контракта, руб., в том числе НДС 22% | D1: Начальная (максимальная) цена контракта с учетом лимита бюджетного финансирования, руб. в том числе НДС 22% | E1: Максимальный объем финансирования работ, в % от НМЦК
B2: 2026 год | C2: ='2.6.Расчет развития'!E13 -> 85765168 | D2: 84999945 | E2: =D2*100/D2 -> 100
B3: Этап 1. Развитие Системы | C3: =ROUND(ROUND(('2.6.Расчет развития'!E13/'2.6.Расчет развития'!C9)*SUM('2.5.Трудоемкость'!AG5:AG8),2)*1,2) -> 28588389 | D3: =ROUND(D2/'2.6.Расчет развития'!C9*SUM('2.5.Трудоемкость'!AG5:AG8)*1,2) -> 28333315 | E3: =ROUND(D3*100/D2,2) -> 33.33
B4: Этап 2. Развитие Системы по заявкам заказчика | C4: =ROUND(ROUND(('2.6.Расчет развития'!E13/'2.6.Расчет развития'!C9)*SUM('2.5.Трудоемкость'!AG9),2)*1,2) -> 57176779 | D4: =ROUND(D2/'2.6.Расчет развития'!C9*SUM('2.5.Трудоемкость'!AG9)*1,2) -> 56666630 | E4: =ROUND(D4*100/D2,2) -> 66.67

Sheet 2.3 Сводная ИТОГО
B2: № п/п | C2: Наименование работ | D2: Расчетная начальная (максимальная) цена контракта, руб., в том числе НДС 22% | E2: Начальная (максимальная) цена контракта с учетом лимита бюджетного финансирования, руб. в том числе НДС 22% | F2: Максимальный объем финансирования работ, в % от НМЦК
B3: 1 | C3: Выполнение работ по развитию автоматизированной информационной системы «Единое информационное пространство мировых судей города Москвы» (третья очередь) | D3: ='2.6.Расчет развития'!E13 -> 85765168 | E3: ='2.2 Свод по годам'!D2 -> 84999945 | F3: =E3*F4/E4 -> 100
B4: Итого: | D4: =SUM(D3:D3) -> 85765168 | E4: =SUM(E3:E3) -> 84999945 | F4: 100
B6: Расчетная начальная (максимальная) цена контракта на выполнение работ по развитию государственной информационной системы: автоматизированная информационная система «Единое информационное пространство мировых судей города Москвы» (третья очередь) составит 85 765 167,98 руб. (восемьдесят пять миллионов семьсот шестьдесят пять тысяч сто шестьдесят семь рублей 98 копеек), в том числе НДС 22%.
B7: С учетом лимита бюджетного финансирования данного проекта в размере 84 999 944,70 руб. (восьмидесяти четырех миллионов девятисот девяноста девяти тысяч девятисот сорока четырех рублей 70 копеек), в том числе НДС 22%, начальная (максимальная) цена контракта на выполнение работ по развитию государственной информационной системы: автоматизированная информационная система «Единое информационное пространство мировых судей города Москвы» (третья очередь) принимается равной 84 999 944,70 руб. (восьмидесяти четырем миллионам девятистам девяноста девяти тысячам девятистам сорока четырем рублям 70 копейкам), в том числе НДС 22%

Sheet 2.4.Функции
B3: № | C3: Наименование выполняемых работ /модулей ИС | D3: Количество функций обработки информации (Фi)
D4: Ф1 | E4: Ф2 | F4: Ф3 | G4: Ф4 | H4: Ф5 | I4: Ф6 | J4: Ф7 | K4: Ф8
B5: Выполнение работ по развитию автоматизированной информационной системы «Единое информационное пространство мировых судей города Москвы» (третья очередь) | D5: =D6+D129+D148+D169 -> 4 | E5: =E6+E129+E148+E169 -> 2 | F5: =F6+F129+F148+F169 -> 0 | G5: =G6+G129+G148+G169 -> 3 | H5: =H6+H129+H148+H169 -> 17 | I5: =I6+I129+I148+I169 -> 3 | J5: =J6+J129+J148+J169 -> 29 | K5: =K6+K129+K148+K169 -> 1
B6: 1 | C6: Подсистема «Судебное делопроизводство судебных участков мировых судей города Москвы» | D6: =D8+D17+D24+D35+D100+D112+D117 -> 2 | E6: =E8+E17+E24+E35+E100+E112+E117 -> 0 | F6: =F8+F17+F24+F35+F100+F112+F117 -> 0 | G6: =G8+G17+G24+G35+G100+G112+G117 -> 3 | H6: =H8+H17+H24+H35+H100+H112+H117 -> 2 | I6: =I8+I17+I24+I35+I100+I112+I117 -> 1 | J6: =J8+J17+J24+J35+J100+J112+J117 -> 21 | K6: =K8+K17+K24+K35+K100+K112+K117 -> 0
B7: 1.1 | C7: Развитие модуля «Судопроизводство»
B8: Доработка 1. Развитие компонента «Гражданские дела» подсистемы «Судебное делопроизводство судебных участков мировых судей города Москвы» | D8: =SUM(D9:D15) -> 0 | E8: =SUM(E9:E15) -> 0 | F8: =SUM(F9:F15) -> 0 | G8: =SUM(G9:G15) -> 2 | H8: =SUM(H9:H15) -> 0 | I8: =SUM(I9:I15) -> 0 | J8: =SUM(J9:J15) -> 1 | K8: =SUM(K9:K15) -> 0
B9: 1.1.1 | C9: Развитие компонента «Гражданские дела»
B10: 1.1.1.1 | C10: Развитие функционального блока «Журнал первичных документов»
B11: 1.1.1.1.1 | C11: доработка функции отображения/ввода/редактирования нового атрибута «Просроченный основной долг» на вкладке «Информация по договору займа/кредитному договору» на ЭФ «Первичный документ» и сохранения значений нового атрибута в БД | J11: 1
B13: 1.1.1.2 | C13: Развитие функционального блока «Журнал гражданских дел»
B14: 1.1.1.2.1 | C14: создание функции автоматического создания записей о взыскании госпошлины с реализацией бизнес-логики анализа постановлений СПИ, поступивших в электронном виде, и значения поля «Солидарное взыскание», включая алгоритм расчета сумм, распределения по полноте взыскания и присвоения признаков уплаты | G14: 1
B15: 1.1.1.2.2 | C15: создание функции автоматического создания записей о взыскании с видом взыскания «Другие» на основе анализа данных исполнительного документа «Судебный приказ», вынесенного в делах, производство по которым возбуждено на основании первичных документов, поступивших в рамках электронного взаимодействия | G15: 1
B17: Доработка 2. Развитие компонента «Уголовные дела» подсистемы «Судебное делопроизводство судебных участков мировых судей города Москвы» | D17: =SUM(D18:D22) -> 0 | E17: =SUM(E18:E22) -> 0 | F17: =SUM(F18:F22) -> 0 | G17: =SUM(G18:G22) -> 0 | H17: =SUM(H18:H22) -> 0 | I17: =SUM(I18:I22) -> 0 | J17: =SUM(J18:J22) -> 2 | K17: =SUM(K18:K22) -> 0
B18: 1.1.2 | C18: Развитие компонента «Уголовные дела»
B19: 1.1.2.1 | C19: Развитие функционального блока «Журнал уголовных дел»
B20: 1.1.2.1.1 | C20: доработка функции ввода/редактирования с последующим сохранением в БД элементов справочника «Кодексы», соответствующих новым составам преступлений, а также новым редакциям составов преступлений УК РФ, внесенных в УК РФ Федеральными законами, вступившими в законную силу в 2026 г., во всех атрибутах экранных форм учета уголовных дел, заполняемых на основе выбора значения из справочника «Кодексы» | J20: 1
B21: 1.1.2.1.2 | C21: доработка функции отображения информации о статьях, контролирующих срок рассмотрения дела, в форме просмотра уголовного дела
B22: 1.1.2.1.3 | C22: доработка алгоритма автоматического заполнения значения в атрибуте «Статья по перечню» в соответствии с приказом СД при ВС РФ от 13 января 2026 г. №3 «О внесении изменений в Перечень документов, образующихся в процессе деятельности федеральных судов общей юрисдикции, с указанием их сроков хранения, утвержденный Приказом СД при ВС РФ от 21 декабря 2022 г. №242» и сохранения значений в БД | J22: 1
B24: Доработка 3. Развитие компонента «Дела об административных правонарушениях» подсистемы «Судебное делопроизводство судебных участков мировых судей города Москвы» | D24: =SUM(D25:D32) -> 1 | E24: =SUM(E25:E32) -> 0 | F24: =SUM(F25:F32) -> 0 | G24: =SUM(G25:G32) -> 0 | H24: =SUM(H25:H32) -> 1 | I24: =SUM(I25:I32) -> 0 | J24: =SUM(J25:J32) -> 2 | K24: =SUM(K25:K32) -> 0
B25: 1.1.3 | C25: Развитие компонента «Дела об административных правонарушениях»
B26: 1.1.3.1 | C26: Развитие функционального блока «Журнал дел об административных правонарушениях»
B27: 1.1.3.1.1 | C27: создание функции формирования электронного пакета документов и автоматизированной передачи материалов дела об административном правонарушении между судебными участками г. Москвы по подведомственности | D27: 1 | H27: 1
B28: 1.1.3.1.2 | C28: создание функции обработки входящего пакета документов дела об административном правонарушении, поступившего от другого судебного участка города Москвы по подведомственности
B29: 1.1.3.1.3 | C29: создание функции хранения входящего пакета документов дела об административном правонарушении, поступившего от другого судебного участка города Москвы по подведомственности
B30: 1.1.3.1.4 | C30: доработка функции отображения/ввода/редактирования нового значения «Передано по подведомственности» в атрибуте «Порядок поступления» и сохранения значения в БД | J30: 1
B31: 1.1.3.1.5 | C31: доработка функции ввода/редактирования с последующим сохранением в БД элементов справочника «Кодексы», соответствующих новым составам правонарушений Кодекса об административных правонарушениях Российской Федерации, внесенных в КоАП РФ Федеральными законами, вступившими в законную силу в 2026 г., во всех атрибутах экранных форм учета дел об административных правонарушениях, заполняемых на основе выбора значения из справочника «Кодексы» | J31: 1
B32: 1.1.3.1.6 | C32: доработка функции выгрузки сведений о номере судебного участка при передаче дела по подведомственности/ подсудности в XML-файл
B33: 1.1.3.1.7 | C33: создание функции хранения данных электронного пакета документов и сведений о передаче материалов дела об административном правонарушении по подведомственности
B35: Доработка 4. Развитие модуля «Статистика» подсистемы «Судебное делопроизводство судебных участков мировых судей города Москвы» | D35: =SUM(D36:D98) -> 1 | E35: =SUM(E36:E98) -> 0 | F35: =SUM(F36:F98) -> 0 | G35: =SUM(G36:G98) -> 0 | H35: =SUM(H36:H98) -> 1 | I35: =SUM(I36:I98) -> 1 | J35: =SUM(J36:J98) -> 10 | K35: =SUM(K36:K98) -> 0
B36: 1.2 | C36: Развитие модуля «Статистика»
B37: 1.2.1 | C37: Развитие компонента «Статистические формы»
B38: 1.2.1.1 | C38: Развитие статистической формы № 1 «Отчет о работе судов первой инстанции по рассмотрению уголовных дел»
B39: 1.2.1.1.1 | C39: формирование ЭФ разделов статистической формы № 1 в новом представлении
B40: 1.2.1.1.2 | C40: агрегирование представленных данных в разрезе новых и измененных показателей разделов статистической формы № 1 | J40: 1
B41: 1.2.1.1.3 | C41: формирование детализированного представления агрегированных данных в разрезе новых и измененных показателей разделов формы № 1
B42: 1.2.1.1.4 | C42: выгрузка статистической формы № 1 в виде файла XLS в структурированном виде с учетом нового шаблона данной формы
B44: 1.2.1.2 | C44: Развитие статистической формы № 1-АП «Отчет о работе судов общей юрисдикции по рассмотрению дел об административных правонарушениях»
B45: 1.2.1.2.1 | C45: формирование ЭФ разделов статистической формы № 1-АП в новом представлении
B46: 1.2.1.2.2 | C46: агрегирование представленных данных в разрезе новых и измененных показателей разделов статистической формы № 1-АП | J46: 1
B47: 1.2.1.2.3 | C47: формирование детализированного представления агрегированных данных в разрезе новых и измененных показателей разделов формы № 1-АП
...

Sheet 2.5.Трудоемкость
A2: № | B2: Наименование выполняемых работ /модулей ИС | C2: Количество функций обработки информации (Фi) | L2: Количество функциональных точек (ФТi) | U2: Способ реализации (уровень языка разработки) | V2: К-нт преобраз. ФТ в БТ | W2: Базовые трудозатраты | X2: Коэффициенты трудоемкости | AG2: Общие расчетные трудозатраты, чел.-мес.
C3: Ф1 | D3: Ф2 | E3: Ф3 | F3: Ф4 | G3: Ф5 | H3: Ф6 | I3: Ф7 | J3: Ф8 | K3: ИТОГО | L3: ФТ1 | M3: ФТ2 | N3: ФТ3 | O3: ФТ4 | P3: ФТ5 | Q3: ФТ6 | R3: ФТ7 | S3: ФТ8 | T3: ИТОГО | X3: МТ1 | Y3: МТ2 | Z3: МТ3 | AA3: МТ4 | AB3: МТ5 | AC3: МТ6 | AD3: МТ7 | AE3: МТ8
A4: ='2.4.Функции'!B5 -> Выполнение работ по развитию автоматизированной информационной системы «Единое информационное пространство мировых судей города Москвы» (третья очередь) | C4: =SUBTOTAL(9,C5:C8) -> 4 | D4: =SUBTOTAL(9,D5:D8) -> 2 | E4: =SUBTOTAL(9,E5:E8) -> 0 | F4: =SUBTOTAL(9,F5:F8) -> 3 | G4: =SUBTOTAL(9,G5:G8) -> 17 | H4: =SUBTOTAL(9,H5:H8) -> 3 | I4: =SUBTOTAL(9,I5:I8) -> 29 | J4: =SUBTOTAL(9,J5:J8) -> 1 | ... S4: =SUBTOTAL(9,S5:S8) -> 1 | T4: =SUM(T5:T9) -> 630 | W4: =SUM(W5:W9) -> 125.67 | AG4: =SUM(AG5:AG9) -> 159.03
A5: 1 | B5: ='2.4.Функции'!C6 -> Подсистема «Судебное делопроизводство судебных участков мировых судей города Москвы» | C5: ='2.4.Функции'!D6 -> 2 | D5: ='2.4.Функции'!E6 -> 0 | E5: ='2.4.Функции'!F6 -> 0 | F5: ='2.4.Функции'!G6 -> 3 | G5: ='2.4.Функции'!H6 -> 2 | H5: ='2.4.Функции'!I6 -> 1 | I5: ='2.4.Функции'!J6 -> 21 | J5: ='2.4.Функции'!K6 -> 0 | K5: =SUM(C5:J5) -> 29 | L5: =C5*11 -> 22 | M5: =D5*6 -> 0 | N5: =E5*5 -> 0 | O5: =F5*5 -> 15 | P5: =G5*4 -> 8 | Q5: =H5*4 -> 4 | R5: =I5*2 -> 42 | S5: =J5*1 -> 0 | T5: =SUM(L5:S5) -> 91 | U5: язык высокого уровня | V5: 0.255 | W5: =ROUND(POWER(T5,0.94)*V5,2) -> 17.7 | X5: 1 | Y5: 1.07 | Z5: 1.05 | AA5: 1 | AB5: 1 | AC5: 1.15 | AD5: 0.97 | AE5: 1 | AF5: =ROUND(X5*Y5*Z5*AA5*AB5*AC5*AD5*AE5,3) -> 1.253 | AG5: =ROUND(W5*AF5,2) -> 22.18
A6: 2 | B6: Подсистема «Интернет-портал Единого информационного пространства мировых судей города Москвы» | C6: ='2.4.Функции'!D129 -> 0 | D6: ='2.4.Функции'!E129 -> 0 | E6: ='2.4.Функции'!F129 -> 0 | F6: ='2.4.Функции'!G129 -> 0 | G6: ='2.4.Функции'!H129 -> 0 | H6: ='2.4.Функции'!I129 -> 2 | I6: ='2.4.Функции'!J129 -> 8 | J6: ='2.4.Функции'!K129 -> 1 | K6: =SUM(C6:J6) -> 11 | L6: =C6*11 -> 0 | M6: =D6*6 -> 0 | N6: =E6*5 -> 0 | O6: =F6*5 -> 0 | P6: =G6*4 -> 0 | Q6: =H6*4 -> 8 | R6: =I6*2 -> 16 | S6: =J6*1 -> 1 | T6: =SUM(L6:S6) -> 25 | U6: язык высокого уровня | V6: 0.255 | W6: =ROUND(POWER(T6,0.94)*V6,2) -> 5.26 | X6: 1 | Y6: 1.07 | Z6: 1.05 | AA6: 1 | AB6: 1 | AC6: 1.15 | AD6: 0.97 | AE6: 1 | AF6: =ROUND(X6*Y6*Z6*AA6*AB6*AC6*AD6*AE6,3) -> 1.253 | AG6: =ROUND(W6*AF6,2) -> 6.59
A7: 3 | B7: Подсистема электронного взаимодействия между органами исполнительной власти города Москвы, учреждениями города Москвы, иными организациями и судебными участками мировых судей города Москвы | C7: ='2.4.Функции'!D148 -> 1 | D7: ='2.4.Функции'!E148 -> 2 | E7: ='2.4.Функции'!F148 -> 0 | F7: ='2.4.Функции'!G148 -> 0 | G7: ='2.4.Функции'!H148 -> 1 | H7: ='2.4.Функции'!I148 -> 0 | I7: ='2.4.Функции'!J148 -> 0 | J7: ='2.4.Функции'!K146 -> 0 | K7: =SUM(C7:J7) -> 4 | L7: =C7*11 -> 11 | M7: =D7*6 -> 12 | N7: =E7*5 -> 0 | O7: =F7*5 -> 0 | P7: =G7*4 -> 4 | Q7: =H7*4 -> 0 | R7: =I7*2 -> 0 | S7: =J7*1 -> 0 | T7: =SUM(L7:S7) -> 27 | U7: язык высокого уровня | V7: 0.255 | W7: =ROUND(POWER(T7,0.94)*V7,2) -> 5.65 | X7: 1 | Y7: 1.07 | Z7: 1.05 | AA7: 1 | AB7: 1 | AC7: 1.15 | AD7: 0.97 | AE7: 1 | AF7: =ROUND(X7*Y7*Z7*AA7*AB7*AC7*AD7*AE7,3) -> 1.253 | AG7: =ROUND(W7*AF7,2) -> 7.08
A8: 4 | B8: Подсистема «Информационные киоски и экраны» | C8: ='2.4.Функции'!D169 -> 1 | D8: ='2.4.Функции'!E169 -> 0 | E8: ='2.4.Функции'!F169 -> 0 | F8: ='2.4.Функции'!G169 -> 0 | G8: ='2.4.Функции'!H169 -> 14 | H8: ='2.4.Функции'!I169 -> 0 | I8: ='2.4.Функции'!J169 -> 0 | J8: ='2.4.Функции'!K167 -> 0 | K8: =SUM(C8:J8) -> 15 | L8: =C8*11 -> 11 | M8: =D8*6 -> 0 | N8: =E8*5 -> 0 | O8: =F8*5 -> 0 | P8: =G8*4 -> 56 | Q8: =H8*4 -> 0 | R8: =I8*2 -> 0 | S8: =J8*1 -> 0 | T8: =SUM(L8:S8) -> 67 | U8: язык высокого уровня | V8: 0.255 | W8: =ROUND(POWER(T8,0.94)*V8,2) -> 13.28 | X8: 1 | Y8: 1.07 | Z8: 1.05 | AA8: 1 | AB8: 1 | AC8: 1.15 | AD8: 1 | AE8: 1 | AF8: =ROUND(X8*Y8*Z8*AA8*AB8*AC8*AD8*AE8,3) -> 1.292 | AG8: =ROUND(W8*AF8,2) -> 17.16
A9: 5 | B9: Прочие доработки (20) | T9: =ROUND(SUM(T5:T8)/$C$11*$C$12,0) -> 420 | W9: =ROUND(SUM(W5:W8)/$C$11*$C$12,2) -> 83.78 | AG9: =ROUND(SUM(AG5:AG8)/$C$11*$C$12,2) -> 106.02
B11: Количество доработок в ТЗ | C11: 10 | D11: =C11/C13 -> 0.33333333
B12: Количество прочих доработок | C12: 20 | D12: =C12/C13 -> 0.66666667
B13: Всего | C13: =SUM(C11:C12) -> 30 | D13: =D11+D12 -> 1

Sheet 2.6.Расчет развития
A1: ='2.5.Трудоемкость'!A4 -> Выполнение работ по развитию автоматизированной информационной системы «Единое информационное пространство мировых судей города Москвы» (третья очередь)
B3: Расчет стоимости единицы трудозатрат
A4: № п/п | B4: Среднемесячная заработная плата по данным Мосстата, руб. | C4: К-нт рентабельности | D4: К-нт доли з/п в себесто-имости | E4: Стоимость единицы трудозатрат (чел-мес.), руб.
A5: 1 | B5: 274521.1 | C5: 1.05 | D5: 0.67 | E5: =ROUND(B5/D5*C5,2) -> 430219.63
B7: Расчет стоимости выполненения работ по разработке ИС
A8: № п/п | B8: Стоимость единицы трудозатрат (чел-мес.), руб. | C8: Общие расчетные трудозатраты, чел.-месяцев
A9: 1 | B9: =E5 -> 430219.63 | C9: ='2.5.Трудоемкость'!AG4 -> 159.03
A11: Год | B11: Коэффициент, учитывающий инфляцию в i-й год финансирования | C11: Доля от общих расчетных трудозатрат в i-й год финансирования | D11: Стоимость выполнения работ по разработке информационной системы по годам, (руб.) без НДС | E11: Стоимость выполнения работ по разработке информационной системы по годам, (руб.) с НДС
A12: 2026 | B12: =ROUND((1+2.75%/12*12),4) -> 1.0275 | C12: 1 | D12: =ROUND($B$9*$C$9*B12*C12,2) -> 70299318 | E12: =ROUND(D12*1.22,2) -> 85765168
A13: Итоговая стоимость работ | D13: =SUM(D12:D12) -> 70299318 | E13: =SUM(E12:E12) -> 85765168

Sheet 2.7.Коэффициенты
B2: 1. Коэффициент трудоемкости «Требуемая надежность информационной системы» (МТ1)
B3: Коэффициент определяется по ИС в целом
B5: Тип разрабатываемой ИС | C5: отраслевая ИС | D5: общегородская ИС | E5: критичная ИС
B6: Значение коэффициента трудоемкости (МТ1) | C6: 0.9 | D6: 1 | E6: 1.15
B8: 2. Коэффициент трудоемкости «Среда разработки» (МТ2)
B9: Коэффициент определяется по ИС в целом
B11: Значение отношения кол-во объектов предметной области/размер ИС | C11: 2 среды | D11: 3 среды | E11: 4 среды
B12: Значение коэффициента трудоемкости (МТ2) | C12: 0.93 | D12: 1 | E12: 1.07
B14: 3. Коэффициент трудоемкости «Интеграции с внешними системами» (МТ3)
B15: Коэффициент определяется по ИС в целом
B17: Количество интеграций | C17: менее 10 | D17: от 10 до 20 | E17: свыше 20
B19: Значение коэффициента трудоемкости (МТ3) | C19: 0.95 | D19: 1 | E19: 1.05
B21: 4. Коэффициент трудоемкости «Сложность информационной системы» (МТ4)
B22: Коэффициент определяется отдельно по каждой из подсистем ИС
B24: Класс разрабатываемой ИС | C24: информационно-поисковая (реестр, регистр и др.) | D24: обеспечения деятельности ОИВ, портал, прочая | E24: информационно-аналитическая, управляющая
B25: Значение коэффициента трудоемкости (МТ4) | C25: 0.85 | D25: 1 | E25: 1.15
B27: 5. Коэффициент трудоемкости «Размещение компонент на мобильных устройствах» (МТ5)
B28: Коэффициент определяется отдельно по каждой из подсистем ИС
B30: Использование системой мобильных устройств | C30: не | D30: предусматривается
C31: предусматривается
B32: Значение коэффициента трудоемкости (МТ5) | C32: 1 | D32: 1.07
B34: 6. Коэффициент трудоемкости «Частота обновления платформы» (МТ6)
B35: Коэффициент определяется отдельно по каждой из подсистем ИС
B37: Выход обновления ОС либо СУБД | C37: реже чем 1 раз в 12 месяцев | D37: от 1 раза в 12 месяцев до 1 раза в 6 месяцев | E37: чаще чем 1 раз в 6 месяцев
B38: Значение коэффициента трудоемкости (МТ6) | C38: 0.87 | D38: 1 | E38: 1.15
B40: 7. Коэффициент трудоемкости «Новизна информационной системы» (МТ7)
B41: Коэффициент определяется отдельно по каждой из подсистем ИС
B43: Характер выполняемых работ | C43: развитие и/или модернизация подсистем действующей ИС | D43: создание новых подсистем действующей ИС | E43: создание новой ИС
B44: Значение коэффициента трудоемкости (МТ7) | C44: 0.97 | D44: 1 | E44: 1.04
B47: 8. Коэффициент трудоемкости «Сложность аналитической деятельности и проектирования» (МТ8)
B48: Коэффициент определяется отдельно по каждой из подсистем ИС
B50: Сложность аналитической деятельности и проектирования | C50: Не требуется | D50: Наличие модели архитектуры (или новая подсистема) | E50: Отсутствие модели архитектуры
B51: Значение коэффициента трудоемкости (МТ8) | C51: 1 | D51: 1.03 | E51: 1.05

Sheet D%$&01_DevSheet
A1: D%$&01_8e65295b53b742a18c7f335338baf98e | F1: ='2.1 Титул'!A1+"BYw!%" -> #VALUE! | G1: ='2.1 Титул'!B1+"BYw!&" -> #VALUE! | H1: ='2.1 Титул'!C1+"BYw!'" -> #VALUE! | I1: ='2.1 Титул'!D1+"BYw!(" -> #VALUE! | J1: ='2.1 Титул'!E1+"BYw!)" -> #VALUE! | K1: ='2.1 Титул'!F1+"BYw!." -> #VALUE! | L1: ='2.1 Титул'!G1+"BYw!/" -> #VALUE! | M1: ='2.1 Титул'!H1+"BYw!0" -> #VALUE! | N1: ='2.1 Титул'!I1+"BYw!1" -> #VALUE! | O1: ='2.1 Титул'!J1+"BYw!2" -> #VALUE! | P1: ='2.1 Титул'!K1+"BYw!3" -> #VALUE! | Q1: ='2.1 Титул'!L1+"BYw!4" -> #VALUE! | R1: ='2.1 Титул'!A2+"BYw!5" -> #VALUE! | S1: ='2.1 Титул'!B2+"BYw!6" -> #VALUE! | T1: ='2.1 Титул'!C2+"BYw!7" -> #VALUE! | U1: ='2.1 Титул'!D2+"BYw!8" -> #VALUE! | V1: ='2.1 Титул'!E2+"BYw!9" -> #VALUE! | W1: ='2.1 Титул'!F2+"BYw!:" -> #VALUE! | X1: ='2.1 Титул'!G2+"BYw!;" -> #VALUE! | Y1: ='2.1 Титул'!H2+"BYw!<" -> #VALUE! | Z1: ='2.1 Титул'!I2+"BYw!=" -> #VALUE! | AA1: ='2.1 Титул'!J2+"BYw!>" -> #VALUE! | AB1: ='2.1 Титул'!K2+"BYw!?" -> #VALUE! | AC1: ='2.1 Титул'!L2+"BYw!@" -> #VALUE! | AD1: ='2.1 Титул'!A3+"BYw!A" -> #VALUE! | AE1: ='2.1 Титул'!B3+"BYw!B" -> #VALUE! | AF1: ='2.1 Титул'!C3+"BYw!C" -> #VALUE! | AG1: ='2.1 Титул'!D3+"BYw!D" -> #VALUE! | AH1: ='2.1 Титул'!E3+"BYw!E" -> #VALUE! | AI1: ='2.1 Титул'!F3+"BYw!F" -> #VALUE! | AJ1: ='2.1 Титул'!G3+"BYw!G" -> #VALUE! | AK1: ='2.1 Титул'!H3+"BYw!H" -> #VALUE! | AL1: ='2.1 Титул'!I3+"BYw!I" -> #VALUE! | AM1: ='2.1 Титул'!J3+"BYw!J" -> #VALUE! | AN1: ='2.1 Титул'!K3+"BYw!K" -> #VALUE! | AO1: ='2.1 Титул'!L3+"BYw!L" -> #VALUE! | AP1: ='2.1 Титул'!A4+"BYw!M" -> #VALUE! | AQ1: ='2.1 Титул'!B4+"BYw!N" -> #VALUE! | AR1: ='2.1 Титул'!C4+"BYw!O" -> #VALUE! | AS1: ='2.1 Титул'!D4+"BYw!P" -> #VALUE! | AT1: ='2.1 Титул'!E4+"BYw!Q" -> #VALUE! | AU1: ='2.1 Титул'!F4+"BYw!R" -> #VALUE! | AV1: ='2.1 Титул'!G4+"BYw!S" -> #VALUE! | AW1: ='2.1 Титул'!H4+"BYw!T" -> #VALUE! | AX1: ='2.1 Титул'!I4+"BYw!U" -> #VALUE! | AY1: ='2.1 Титул'!J4+"BYw!V" -> #VALUE! | AZ1: ='2.1 Титул'!K4+"BYw!W" -> #VALUE! | BA1: ='2.1 Титул'!L4+"BYw!X" -> #VALUE! | BB1: ='2.1 Титул'!A5+"BYw!Y" -> #VALUE! | BC1: ='2.1 Титул'!B5+"BYw!Z" -> #VALUE! | BD1: ='2.1 Титул'!C5+"BYw![" -> #VALUE! | BE1: ='2.1 Титул'!D5+"BYw!\" -> #VALUE! | BF1: ='2.1 Титул'!E5+"BYw!]" -> #VALUE! | BG1: ='2.1 Титул'!F5+"BYw!^" -> #VALUE! | BH1: ='2.1 Титул'!G5+"BYw!_" -> #VALUE! | BI1: ='2.1 Титул'!H5+"BYw!`" -> #VALUE! | BJ1: ='2.1 Титул'!I5+"BYw!a" -> #VALUE! | BK1: ='2.1 Титул'!J5+"BYw!b" -> #VALUE! | BL1: ='2.1 Титул'!K5+"BYw!c" -> #VALUE! | BM1: ='2.1 Титул'!L5+"BYw!d" -> #VALUE! | BN1: ='2.1 Титул'!A6+"BYw!e" -> #VALUE! | BO1: ='2.1 Титул'!B6+"BYw!f" -> #VALUE! | BP1: ='2.1 Титул'!C6+"BYw!g" -> #VALUE! | BQ1: ='2.1 Титул'!D6+"BYw!h" -> #VALUE! | BR1: ='2.1 Титул'!E6+"BYw!i" -> #VALUE! | BS1: ='2.1 Титул'!F6+"BYw!j" -> #VALUE! | BT1: ='2.1 Титул'!G6+"BYw!k" -> #VALUE! | BU1: ='2.1 Титул'!H6+"BYw!l" -> #VALUE! | BV1: ='2.1 Титул'!I6+"BYw!m" -> #VALUE! | BW1: ='2.1 Титул'!J6+"BYw!n" -> #VALUE! | BX1: ='2.1 Титул'!K6+"BYw!o" -> #VALUE! | BY1: ='2.1 Титул'!L6+"BYw!p" -> #VALUE! | BZ1: ='2.1 Титул'!A12+"BYw!q" -> #VALUE! | CA1: ='2.1 Титул'!B12+"BYw!r" -> #VALUE! | CB1: ='2.1 Титул'!C12+"BYw!s" -> #VALUE! | CC1: ='2.1 Титул'!D12+"BYw!t" -> #VALUE! | CD1: ='2.1 Титул'!E12+"BYw!u" -> #VALUE! | CE1: ='2.1 Титул'!F12+"BYw!v" -> #VALUE! | CF1: ='2.1 Титул'!G12+"BYw!w" -> #VALUE! | CG1: ='2.1 Титул'!H12+"BYw!x" -> #VALUE! | CH1: ='2.1 Титул'!I12+"BYw!y" -> #VALUE! | CI1: ='2.1 Титул'!J12+"BYw!z" -> #VALUE! | CJ1: ='2.1 Титул'!K12+"BYw!{" -> #VALUE! | CK1: ='2.1 Титул'!L12+"BYw!|" -> #VALUE! | CL1: ='2.1 Титул'!A13+"BYw!}" -> #VALUE! | CM1: ='2.1 Титул'!B13+"BYw!~" -> #VALUE! | CN1: ='2.1 Титул'!C13+"BYw!$#" -> #VALUE! | CO1: ='2.1 Титул'!D13+"BYw!$$" -> #VALUE! | CP1: ='2.1 Титул'!E13+"BYw!$%" -> #VALUE! | CQ1: ='2.1 Титул'!F13+"BYw!$&" -> #VALUE! | CR1: ='2.1 Титул'!G13+"BYw!$'" -> #VALUE! | CS1: ='2.1 Титул'!H13+"BYw!$(" -> #VALUE! | CT1: ='2.1 Титул'!I13+"BYw!$)" -> #VALUE! | CU1: ='2.1 Титул'!J13+"BYw!$." -> #VALUE! | CV1: ='2.1 Титул'!K13+"BYw!$/" -> #VALUE! | CW1: ='2.1 Титул'!L13+"BYw!$0" -> #VALUE! | CX1: ='2.1 Титул'!A14+"BYw!$1" -> #VALUE! | CY1: ='2.1 Титул'!B14+"BYw!$2" -> #VALUE! | CZ1: ='2.1 Титул'!C14+"BYw!$3" -> #VALUE! | DA1: ='2.1 Титул'!D14+"BYw!$4" -> #VALUE! | DB1: ='2.1 Титул'!E14+"BYw!$5" -> #VALUE! | DC1: ='2.1 Титул'!F14+"BYw!$6" -> #VALUE! | DD1: ='2.1 Титул'!G14+"BYw!$7" -> #VALUE! | DE1: ='2.1 Титул'!H14+"BYw!$8" -> #VALUE! | DF1: ='2.1 Титул'!I14+"BYw!$9" -> #VALUE! | DG1: ='2.1 Титул'!J14+"BYw!$:" -> #VALUE! | DH1: ='2.1 Титул'!K14+"BYw!$;" -> #VALUE! | DI1: ='2.1 Титул'!L14+"BYw!$<" -> #VALUE! | DJ1: ='2.1 Титул'!A15+"BYw!$=" -> #VALUE! | DK1: ='2.1 Титул'!B15+"BYw!$>" -> #VALUE! | DL1: ='2.1 Титул'!C15+"BYw!$?" -> #VALUE! | DM1: ='2.1 Титул'!D15+"BYw!$@" -> #VALUE! | DN1: ='2.1 Титул'!E15+"BYw!$A" -> #VALUE! | DO1: ='2.1 Титул'!F15+"BYw!$B" -> #VALUE! | DP1: ='2.1 Титул'!G15+"BYw!$C" -> #VALUE! | DQ1: ='2.1 Титул'!H15+"BYw!$D" -> #VALUE! | DR1: ='2.1 Титул'!I15+"BYw!$E" -> #VALUE! | DS1: ='2.1 Титул'!J15+"BYw!$F" -> #VALUE! | DT1: ='2.1 Титул'!K15+"BYw!$G" -> #VALUE! | DU1: ='2.1 Титул'!L15+"BYw!$H" -> #VALUE! | DV1: ='2.1 Титул'!A16+"BYw!$I" -> #VALUE! | DW1: ='2.1 Титул'!B16+"BYw!$J" -> #VALUE! | DX1: ='2.1 Титул'!C16+"BYw!$K" -> #VALUE! | DY1: ='2.1 Титул'!D16+"BYw!$L" -> #VALUE! | DZ1: ='2.1 Титул'!E16+"BYw!$M" -> #VALUE! | EA1: ='2.1 Титул'!F16+"BYw!$N" -> #VALUE! | EB1: ='2.1 Титул'!G16+"BYw!$O" -> #VALUE! | EC1: ='2.1 Титул'!H16+"BYw!$P" -> #VALUE! | ED1: ='2.1 Титул'!I16+"BYw!$Q" -> #VALUE! | EE1: ='2.1 Титул'!J16+"BYw!$R" -> #VALUE! | EF1: ='2.1 Титул'!K16+"BYw!$S" -> #VALUE! | EG1: ='2.1 Титул'!L16+"BYw!$T" -> #VALUE! | EH1: ='2.1 Титул'!A17+"BYw!$U" -> #VALUE! | EI1: ='2.1 Титул'!B17+"BYw!$V" -> #VALUE! | EJ1: ='2.1 Титул'!C17+"BYw!$W" -> #VALUE! | EK1: ='2.1 Титул'!D17+"BYw!$X" -> #VALUE! | EL1: ='2.1 Титул'!E17+"BYw!$Y" -> #VALUE! | EM1: ='2.1 Титул'!F17+"BYw!$Z" -> #VALUE! | EN1: ='2.1 Титул'!G17+"BYw!$[" -> #VALUE! | EO1: ='2.1 Титул'!H17+"BYw!$\" -> #VALUE! | EP1: ='2.1 Титул'!I17+"BYw!$]" -> #VALUE! | EQ1: ='2.1 Титул'!J17+"BYw!$^" -> #VALUE! | ER1: ='2.1 Титул'!K17+"BYw!$_" -> #VALUE! | ES1: ='2.1 Титул'!L17+"BYw!$`" -> #VALUE! | ET1: ='2.1 Титул'!A18+"BYw!$a" -> #VALUE! | EU1: ='2.1 Титул'!B18+"BYw!$b" -> #VALUE! | EV1: ='2.1 Титул'!C18+"BYw!$c" -> #VALUE! | EW1: ='2.1 Титул'!D18+"BYw!$d" -> #VALUE! | EX1: ='2.1 Титул'!E18+"BYw!$e" -> #VALUE! | EY1: ='2.1 Титул'!F18+"BYw!$f" -> #VALUE! | EZ1: ='2.1 Титул'!G18+"BYw!$g" -> #VALUE! | FA1: ='2.1 Титул'!H18+"BYw!$h" -> #VALUE! | FB1: ='2.1 Титул'!I18+"BYw!$i" -> #VALUE! | FC1: ='2.1 Титул'!J18+"BYw!$j" -> #VALUE! | FD1: ='2.1 Титул'!K18+"BYw!$k" -> #VALUE! | FE1: ='2.1 Титул'!L18+"BYw!$l" -> #VALUE! | FF1: ='2.1 Титул'!A19+"BYw!$m" -> #VALUE! | FG1: ='2.1 Титул'!B19+"BYw!$n" -> #VALUE! | FH1: ='2.1 Титул'!C19+"BYw!$o" -> #VALUE! | FI1: ='2.1 Титул'!D19+"BYw!$p" -> #VALUE! | FJ1: ='2.1 Титул'!E19+"BYw!$q" -> #VALUE! | FK1: ='2.1 Титул'!F19+"BYw!$r" -> #VALUE! | FL1: ='2.1 Титул'!G19+"BYw!$s" -> #VALUE! | FM1: ='2.1 Титул'!H19+"BYw!$t" -> #VALUE! | FN1: ='2.1 Титул'!I19+"BYw!$u" -> #VALUE! | FO1: ='2.1 Титул'!J19+"BYw!$v" -> #VALUE! | FP1: ='2.1 Титул'!K19+"BYw!$w" -> #VALUE! | FQ1: ='2.1 Титул'!L19+"BYw!$x" -> #VALUE! | FR1: ='2.1 Титул'!A20+"BYw!$y" -> #VALUE! | FS1: ='2.1 Титул'!B20+"BYw!$z" -> #VALUE! | FT1: ='2.1 Титул'!C20+"BYw!${" -> #VALUE! | FU1: ='2.1 Титул'!D20+"BYw!$|" -> #VALUE! | FV1: ='2.1 Титул'!E20+"BYw!$}" -> #VALUE! | FW1: ='2.1 Титул'!F20+"BYw!$~" -> #VALUE! | FX1: ='2.1 Титул'!G20+"BYw!%#" -> #VALUE! | FY1: ='2.1 Титул'!H20+"BYw!%$" -> #VALUE! | FZ1: ='2.1 Титул'!I20+"BYw!%%" -> #VALUE! | GA1: ='2.1 Титул'!J20+"BYw!%&" -> #VALUE! | GB1: ='2.1 Титул'!K20+"BYw!%'" -> #VALUE! | GC1: ='2.1 Титул'!L20+"BYw!%(" -> #VALUE! | GD1: ='2.1 Титул'!A:A*"BYw!%)" -> #VALUE! | GE1: ='2.1 Титул'!B:B*"BYw!%." -> #VALUE! | GF1: ='2.1 Титул'!C:C*"BYw!%/" -> #VALUE! | GG1: ='2.1 Титул'!D:D*"BYw!%0" -> #VALUE! | GH1: ='2.1 Титул'!E:E*"BYw!%1" -> #VALUE! | GI1: ='2.1 Титул'!F:F*"BYw!%2" -> #VALUE! | GJ1: ='2.1 Титул'!G:G*"BYw!%3" -> #VALUE! | GK1: ='2.1 Титул'!H:H*"BYw!%4" -> #VALUE! | GL1: ='2.1 Титул'!I:I*"BYw!%5" -> #VALUE! | GM1: ='2.1 Титул'!J:J*"BYw!%6" -> #VALUE! | GN1: ='2.1 Титул'!K:K*"BYw!%7" -> #VALUE! | GO1: ='2.1 Титул'!L:L*"BYw!%8" -> #VALUE! | GP1: ='2.1 Титул'!M:M*"BYw!%9" -> #VALUE! | GQ1: ='2.1 Титул'!N:N*"BYw!%:" -> #VALUE! | GR1: ='2.1 Титул'!O:O*"BYw!%;" -> #VALUE! | GS1: ='2.1 Титул'!P:P*"BYw!%<" -> #VALUE! | GT1: ='2.1 Титул'!Q:Q*"BYw!%=" -> #VALUE! | GU1: ='2.1 Титул'!R:R*"BYw!%>" -> #VALUE! | GV1: ='2.1 Титул'!S:S*"BYw!%?" -> #VALUE! | GW1: ='2.1 Титул'!T:T*"BYw!%@" -> #VALUE! | GX1: ='2.1 Титул'!U:U*"BYw!%A" -> #VALUE! | GY1: ='2.1 Титул'!V:V*"BYw!%B" -> #VALUE! | GZ1: ='2.1 Титул'!W:W*"BYw!%C" -> #VALUE! | HA1: ='2.1 Титул'!X:X*"BYw!%D" -> #VALUE! | HB1: ='2.1 Титул'!Y:Y*"BYw!%E" -> #VALUE! | HC1: ='2.1 Титул'!Z:Z*"BYw!%F" -> #VALUE! | HD1: ='2.1 Титул'!AA:AA*"BYw!%G" -> #VALUE! | HE1: ='2.1 Титул'!AB:AB*"BYw!%H" -> #VALUE! | HF1: ='2.1 Титул'!AC:AC*"BYw!%I" -> #VALUE! | HG1: ='2.1 Титул'!AD:AD*"BYw!%J" -> #VALUE! | HH1: ='2.1 Титул'!AE:AE*"BYw!%K" -> #VALUE! | HI1: ='2.1 Титул'!AF:AF*"BYw!%L" -> #VALUE! | HJ1: ='2.1 Титул'!AG:AG*"BYw!%M" -> #VALUE! | HK1: ='2.1 Титул'!AH:AH*"BYw!%N" -> #VALUE! | HL1: ='2.1 Титул'!AI:AI*"BYw!%O" -> #VALUE! | HM1: ='2.1 Титул'!AJ:AJ*"BYw!%P" -> #VALUE! | HN1: ='2.1 Титул'!AK:AK*"BYw!%Q" -> #VALUE! | HO1: ='2.1 Титул'!AL:AL*"BYw!%R" -> #VALUE! | HP1: ='2.1 Титул'!AM:AM*"BYw!%S" -> #VALUE! | HQ1: ='2.1 Титул'!AN:AN*"BYw!%T" -> #VALUE! | HR1: ='2.1 Титул'!AO:AO*"BYw!%U" -> #VALUE! | HS1: ='2.1 Титул'!AP:AP*"BYw!%V" -> #VALUE! | HT1: ='2.1 Титул'!AQ:AQ*"BYw!%W" -> #VALUE! | HU1: ='2.1 Титул'!AR:AR*"BYw!%X" -> #VALUE! | HV1: ='2.1 Титул'!AS:AS*"BYw!%Y" -> #VALUE! | HW1: ='2.1 Титул'!AT:AT*"BYw!%Z" -> #VALUE! | HX1: ='2.1 Титул'!AU:AU*"BYw!%[" -> #VALUE! | HY1: ='2.1 Титул'!AV:AV*"BYw!%\" -> #VALUE! | HZ1: ='2.1 Титул'!AW:AW*"BYw!%]" -> #VALUE! | IA1: ='2.1 Титул'!AX:AX*"BYw!%^" -> #VALUE! | IB1: ='2.1 Титул'!AY:AY*"BYw!%_" -> #VALUE! | IC1: ='2.1 Титул'!AZ:AZ*"BYw!%`" -> #VALUE! | ID1: ='2.1 Титул'!BA:BA*"BYw!%a" -> #VALUE! | IE1: ='2.1 Титул'!BB:BB*"BYw!%b" -> #VALUE! | IF1: ='2.1 Титул'!BC:BC*"BYw!%c" -> #VALUE! | IG1: ='2.1 Титул'!BD:BD*"BYw!%d" -> #VALUE! | IH1: ='2.1 Титул'!BE:BE*"BYw!%e" -> #VALUE! | II1: ='2.1 Титул'!BF:BF*"BYw!%f" -> #VALUE! | IJ1: ='2.1 Титул'!BG:BG*"BYw!%g" -> #VALUE! | IK1: ='2.1 Титул'!BH:BH*"BYw!%h" -> #VALUE! | IL1: ='2.1 Титул'!BI:BI*"BYw!%i" -> #VALUE! | IM1: ='2.1 Титул'!BJ:BJ*"BYw!%j" -> #VALUE! | IN1: ='2.1 Титул'!1:1-"BYw!%k" -> #VALUE! | IO1: ='2.1 Титул'!2:2-"BYw!%l" -> #VALUE! | IP1: ='2.1 Титул'!3:3-"BYw!%m" -> #VALUE! | IQ1: ='2.1 Титул'!4:4-"BYw!%n" -> #VALUE! | IR1: ='2.1 Титул'!5:5-"BYw!%o" -> #VALUE! | IS1: ='2.1 Титул'!6:6-"BYw!%p" -> #VALUE! | IT1: ='2.1 Титул'!12:12-"BYw!%q" -> #VALUE! | IU1: ='2.1 Титул'!13:13-"BYw!%r" -> #VALUE! | IV1: ='2.1 Титул'!14:14-"BYw!%s" -> #VALUE!
A2: Anna Kozachenko_14430__Windows (64-bit) NT 10.00_DESKTOP-FK1BROQ_mamon$$$03082026 | F2: ='2.1 Титул'!15:15-"BYw!%t" -> #VALUE! | G2: ='2.1 Титул'!16:16-"BYw!%u" -> #VALUE! | H2: ='2.1 Титул'!17:17-"BYw!%v" -> #VALUE! | I2: ='2.1 Титул'!18:18-"BYw!%w" -> #VALUE! | J2: ='2.1 Титул'!19:19-"BYw!%x" -> #VALUE! | K2: ='2.1 Титул'!20:20-"BYw!%y" -> #VALUE! | L2: ='2.1 Титул'!21:21-"BYw!%z" -> #VALUE! | M2: ='2.1 Титул'!22:22-"BYw!%{" -> #VALUE! | N2: ='2.1 Титул'!23:23-"BYw!%|" -> #VALUE! | O2: ='2.1 Титул'!24:24-"BYw!%}" -> #VALUE! | P2: ='2.1 Титул'!25:25-"BYw!%~" -> #VALUE! | Q2: ='2.1 Титул'!26:26-"BYw!&#" -> #VALUE! | R2: ='2.1 Титул'!27:27-"BYw!&$" -> #VALUE! | S2: ='2.1 Титул'!28:28-"BYw!&%" -> #VALUE! | T2: ='2.1 Титул'!29:29-"BYw!&&" -> #VALUE! | U2: ='2.1 Титул'!30:30-"BYw!&'" -> #VALUE! | V2: ='2.1 Титул'!31:31-"BYw!&(" -> #VALUE! | W2: ='2.1 Титул'!32:32-"BYw!&)" -> #VALUE! | X2: ='2.1 Титул'!33:33-"BYw!&." -> #VALUE! | Y2: ='2.1 Титул'!34:34-"BYw!&/" -> #VALUE! | Z2: ='2.1 Титул'!35:35-"BYw!&0" -> #VALUE! | AA2: ='2.1 Титул'!36:36-"BYw!&1" -> #VALUE! | AB2: ='2.1 Титул'!37:37-"BYw!&2" -> #VALUE! | AC2: ='2.1 Титул'!38:38-"BYw!&3" -> #VALUE! | AD2: ='2.1 Титул'!39:39-"BYw!&4" -> #VALUE! | AE2: ='2.1 Титул'!40:40-"BYw!&5" -> #VALUE! | AF2: ='2.1 Титул'!41:41-"BYw!&6" -> #VALUE! | AG2: ='2.1 Титул'!42:42-"BYw!&7" -> #VALUE! | AH2: ='2.1 Титул'!43:43-"BYw!&8" -> #VALUE! | AI2: ='2.1 Титул'!44:44-"BYw!&9" -> #VALUE! | AJ2: ='2.1 Титул'!45:45-"BYw!&:" -> #VALUE! | AK2: ='2.1 Титул'!46:46-"BYw!&;" -> #VALUE! | AL2: ='2.1 Титул'!47:47-"BYw!&<" -> #VALUE! | AM2: ='2.1 Титул'!48:48-"BYw!&=" -> #VALUE! | AN2: ='2.1 Титул'!49:49-"BYw!&>" -> #VALUE! | AO2: ='2.1 Титул'!50:50-"BYw!&?" -> #VALUE! | AP2: ='2.1 Титул'!51:51-"BYw!&@" -> #VALUE! | AQ2: ='2.1 Титул'!52:52-"BYw!&A" -> #VALUE! | AR2: ='2.1 Титул'!53:53-"BYw!&B" -> #VALUE! | AS2: ='2.1 Титул'!54:54-"BYw!&C" -> #VALUE! | AT2: ='2.1 Титул'!55:55-"BYw!&D" -> #VALUE! | AU2: ='2.1 Титул'!56:56-"BYw!&E" -> #VALUE! | AV2: ='2.1 Титул'!57:57-"BYw!&F" -> #VALUE! | AW2: ='2.1 Титул'!58:58-"BYw!&G" -> #VALUE! | AX2: ='2.1 Титул'!59:59-"BYw!&H" -> #VALUE! | AY2: ='2.1 Титул'!60:60-"BYw!&I" -> #VALUE! | AZ2: ='2.1 Титул'!61:61-"BYw!&J" -> #VALUE! | BA2: ='2.1 Титул'!62:62-"BYw!&K" -> #VALUE! | BB2: ='2.1 Титул'!63:63-"BYw!&L" -> #VALUE! | BC2: ='2.1 Титул'!64:64-"BYw!&M" -> #VALUE! | BD2: ='2.1 Титул'!65:65-"BYw!&N" -> #VALUE! | BE2: ='2.1 Титул'!66:66-"BYw!&O" -> #VALUE! | BF2: ='2.1 Титул'!67:67-"BYw!&P" -> #VALUE! | BG2: ='2.1 Титул'!68:68-"BYw!&Q" -> #VALUE! | BH2: ='2.1 Титул'!69:69-"BYw!&R" -> #VALUE! | BI2: ='2.1 Титул'!70:70-"BYw!&S" -> #VALUE! | BJ2: ='2.1 Титул'!71:71-"BYw!&T" -> #VALUE! | BK2: ='2.1 Титул'!72:72-"BYw!&U" -> #VALUE! | BL2: ='2.1 Титул'!73:73-"BYw!&V" -> #VALUE! | BM2: ='2.1 Титул'!74:74-"BYw!&W" -> #VALUE! | BN2: ='2.1 Титул'!75:75-"BYw!&X" -> #VALUE! | BO2: ='2.1 Титул'!76:76-"BYw!&Y" -> #VALUE! | BP2: ='2.1 Титул'!77:77-"BYw!&Z" -> #VALUE! | BQ2: ='2.1 Титул'!78:78-"BYw!&[" -> #VALUE! | BR2: ='2.1 Титул'!79:79-"BYw!&\" -> #VALUE! | BS2: ='2.1 Титул'!80:80-"BYw!&]" -> #VALUE! | BT2: ='2.1 Титул'!81:81-"BYw!&^" -> #VALUE! | BU2: ='2.1 Титул'!82:82-"BYw!&_" -> #VALUE! | BV2: ='2.1 Титул'!83:83-"BYw!&`" -> #VALUE! | BW2: ='2.1 Титул'!84:84-"BYw!&a" -> #VALUE! | BX2: ='2.1 Титул'!85:85-"BYw!&b" -> #VALUE! | BY2: ='2.1 Титул'!86:86-"BYw!&c" -> #VALUE! | BZ2: ='2.1 Титул'!87:87-"BYw!&d" -> #VALUE! | CA2: ='2.1 Титул'!88:88-"BYw!&e" -> #VALUE! | CB2: ='2.1 Титул'!89:89-"BYw!&f" -> #VALUE! | CC2: ='2.1 Титул'!90:90-"BYw!&g" -> #VALUE! | CD2: ='2.1 Титул'!91:91-"BYw!&h" -> #VALUE! | CE2: ='2.1 Титул'!92:92-"BYw!&i" -> #VALUE! | CF2: ='2.1 Титул'!93:93-"BYw!&j" -> #VALUE! | CG2: ='2.1 Титул'!94:94-"BYw!&k" -> #VALUE! | CH2: ='2.1 Титул'!95:95-"BYw!&l" -> #VALUE! | CI2: ='2.1 Титул'!96:96-"BYw!&m" -> #VALUE! | CJ2: ='2.1 Титул'!97:97-"BYw!&n" -> #VALUE! | CK2: ='2.1 Титул'!98:98-"BYw!&o" -> #VALUE! | CL2: ='2.1 Титул'!99:99-"BYw!&p" -> #VALUE! | CM2: ='2.1 Титул'!100:100-"BYw!&q" -> #VALUE! | CN2: ='2.1 Титул'!101:101-"BYw!&r" -> #VALUE! | CO2: ='2.1 Титул'!102:102-"BYw!&s" -> #VALUE! | CP2: ='2.1 Титул'!103:103-"BYw!&t" -> #VALUE! | CQ2: ='2.1 Титул'!104:104-"BYw!&u" -> #VALUE! | CR2: ='2.1 Титул'!105:105-"BYw!&v" -> #VALUE! | CS2: ='2.1 Титул'!106:106-"BYw!&w" -> #VALUE! | CT2: ='2.1 Титул'!107:107-"BYw!&x" -> #VALUE! | CU2: ='2.1 Титул'!108:108-"BYw!&y" -> #VALUE! | CV2: ='2.1 Титул'!109:109-"BYw!&z" -> #VALUE! | CW2: ='2.1 Титул'!110:110-"BYw!&{" -> #VALUE! | CX2: ='2.1 Титул'!111:111-"BYw!&|" -> #VALUE! | CY2: ='2.1 Титул'!112:112-"BYw!&}" -> #VALUE! | CZ2: ='2.1 Титул'!113:113-"BYw!&~" -> #VALUE! | DA2: ='2.1 Титул'!114:114-"BYw!'#" -> #VALUE! | DB2: ='2.1 Титул'!115:115-"BYw!'$" -> #VALUE! | DC2: ='2.1 Титул'!116:116-"BYw!'%" -> #VALUE! | DD2: ='2.1 Титул'!117:117-"BYw!'&" -> #VALUE! | DE2: ='2.1 Титул'!118:118-"BYw!''" -> #VALUE! | DF2: ='2.1 Титул'!119:119-"BYw!'(" -> #VALUE! | DG2: ='2.1 Титул'!120:120-"BYw!')" -> #VALUE! | DH2: ='2.1 Титул'!121:121-"BYw!'." -> #VALUE! | DI2: ='2.1 Титул'!122:122-"BYw!'/" -> #VALUE! | DJ2: ='2.1 Титул'!123:123-"BYw!'0" -> #VALUE! | DK2: ='2.1 Титул'!124:124-"BYw!'1" -> #VALUE! | DL2: ='2.1 Титул'!125:125-"BYw!'2" -> #VALUE! | DM2: ='2.1 Титул'!126:126-"BYw!'3" -> #VALUE! | DN2: ='2.1 Титул'!127:127-"BYw!'4" -> #VALUE! | DO2: ='2.1 Титул'!128:128-"BYw!'5" -> #VALUE! | DP2: ='2.1 Титул'!129:129-"BYw!'6" -> #VALUE! | DQ2: ='2.1 Титул'!130:130-"BYw!'7" -> #VALUE! | DR2: ='2.1 Титул'!131:131-"BYw!'8" -> #VALUE! | DS2: ='2.1 Титул'!132:132-"BYw!'9" -> #VALUE! | DT2: ='2.1 Титул'!133:133-"BYw!':" -> #VALUE! | DU2: ='2.1 Титул'!134:134-"BYw!';" -> #VALUE! | DV2: ='2.1 Титул'!135:135-"BYw!'<" -> #VALUE! | DW2: ='2.1 Титул'!136:136-"BYw!'=" -> #VALUE! | DX2: ='2.1 Титул'!137:137-"BYw!'>" -> #VALUE! | DY2: ='2.1 Титул'!138:138-"BYw!'?" -> #VALUE! | DZ2: ='2.1 Титул'!139:139-"BYw!'@" -> #VALUE! | EA2: ='2.1 Титул'!140:140-"BYw!'A" -> #VALUE! | EB2: ='2.1 Титул'!141:141-"BYw!'B" -> #VALUE! | EC2: ='2.1 Титул'!142:142-"BYw!'C" -> #VALUE! | ED2: ='2.1 Титул'!143:143-"BYw!'D" -> #VALUE! | EE2: ='2.1 Титул'!144:144-"BYw!'E" -> #VALUE! | EF2: ='2.1 Титул'!145:145-"BYw!'F" -> #VALUE! | EG2: ='2.1 Титул'!146:146-"BYw!'G" -> #VALUE! | EH2: ='2.1 Титул'!147:147-"BYw!'H" -> #VALUE! | EI2: ='2.1 Титул'!148:148-"BYw!'I" -> #VALUE! | EJ2: ='2.1 Титул'!149:149-"BYw!'J" -> #VALUE! | EK2: ='2.1 Титул'!150:150-"BYw!'K" -> #VALUE! | EL2: ='2.1 Титул'!151:151-"BYw!'L" -> #VALUE! | EM2: ='2.1 Титул'!152:152-"BYw!'M" -> #VALUE! | EN2: ='2.1 Титул'!153:153-"BYw!'N" -> #VALUE! | EO2: ='2.1 Титул'!154:154-"BYw!'O" -> #VALUE! | EP2: ='2.1 Титул'!155:155-"BYw!'P" -> #VALUE! | EQ2: ='2.1 Титул'!156:156-"BYw!'Q" -> #VALUE! | ER2: ='2.1 Титул'!157:157-"BYw!'R" -> #VALUE! | ES2: ='2.1 Титул'!158:158-"BYw!'S" -> #VALUE! | ET2: ='2.1 Титул'!159:159-"BYw!'T" -> #VALUE! | EU2: ='2.1 Титул'!160:160-"BYw!'U" -> #VALUE! | EV2: ='2.1 Титул'!161:161-"BYw!'V" -> #VALUE! | EW2: ='2.1 Титул'!162:162-"BYw!'W" -> #VALUE! | EX2: ='2.1 Титул'!163:163-"BYw!'X" -> #VALUE! | EY2: ='2.1 Титул'!164:164-"BYw!'Y" -> #VALUE! | EZ2: ='2.1 Титул'!165:165-"BYw!'Z" -> #VALUE! | FA2: ='2.1 Титул'!166:166-"BYw!'[" -> #VALUE! | FB2: ='2.1 Титул'!167:167-"BYw!'\" -> #VALUE! | FC2: ='2.1 Титул'!168:168-"BYw!']" -> #VALUE! | FD2: ='2.1 Титул'!169:169-"BYw!'^" -> #VALUE! | FE2: ='2.1 Титул'!170:170-"BYw!'_" -> #VALUE! | FF2: ='2.1 Титул'!171:171-"BYw!'`" -> #VALUE! | FG2: ='2.1 Титул'!172:172-"BYw!'a" -> #VALUE! | FH2: ='2.1 Титул'!173:173-"BYw!'b" -> #VALUE! | FI2: ='2.1 Титул'!174:174-"BYw!'c" -> #VALUE! | FJ2: ='2.1 Титул'!175:175-"BYw!'d" -> #VALUE! | FK2: ='2.1 Титул'!176:176-"BYw!'e" -> #VALUE! | FL2: ='2.1 Титул'!177:177-"BYw!'f" -> #VALUE! | FM2: ='2.1 Титул'!178:178-"BYw!'g" -> #VALUE! | FN2: ='2.1 Титул'!179:179-"BYw!'h" -> #VALUE! | FO2: ='2.1 Титул'!180:180-"BYw!'i" -> #VALUE! | FP2: ='2.1 Титул'!181:181-"BYw!'j" -> #VALUE! | FQ2: ='2.1 Титул'!182:182-"BYw!'k" -> #VALUE! | FR2: ='2.1 Титул'!183:183-"BYw!'l" -> #VALUE! | FS2: ='2.1 Титул'!184:184-"BYw!'m" -> #VALUE! | FT2: ='2.1 Титул'!185:185-"BYw!'n" -> #VALUE! | FU2: ='2.1 Титул'!186:186-"BYw!'o" -> #VALUE! | FV2: ='2.1 Титул'!187:187-"BYw!'p" -> #VALUE! | FW2: ='2.1 Титул'!188:188-"BYw!'q" -> #VALUE! | FX2: ='2.1 Титул'!189:189-"BYw!'r" -> #VALUE! | FY2: ='2.1 Титул'!190:190-"BYw!'s" -> #VALUE! | FZ2: ='2.1 Титул'!191:191-"BYw!'t" -> #VALUE! | GA2: ='2.1 Титул'!192:192-"BYw!'u" -> #VALUE! | GB2: ='2.1 Титул'!193:193-"BYw!'v" -> #VALUE! | GC2: ='2.1 Титул'!194:194-"BYw!'w" -> #VALUE! | GD2: ='2.1 Титул'!195:195-"BYw!'x" -> #VALUE! | GE2: ='2.1 Титул'!196:196-"BYw!'y" -> #VALUE! | GF2: ='2.1 Титул'!197:197-"BYw!'z" -> #VALUE! | GG2: ='2.1 Титул'!198:198-"BYw!'{" -> #VALUE! | GH2: ='2.1 Титул'!199:199-"BYw!'|" -> #VALUE! | GI2: ='2.1 Титул'!200:200-"BYw!'}" -> #VALUE! | GJ2: ='2.1 Титул'!201:201-"BYw!'~" -> #VALUE! | GK2: ='2.1 Титул'!202:202-"BYw!(#" -> #VALUE! | GL2: ='2.1 Титул'!203:203-"BYw!($" -> #VALUE! | GM2: ='2.1 Титул'!204:204-"BYw!(%" -> #VALUE! | GN2: ='2.1 Титул'!205:205-"BYw!(&" -> #VALUE! | GO2: ='2.1 Титул'!206:206-"BYw!('" -> #VALUE! | GP2: ='2.1 Титул'!207:207-"BYw!((" -> #VALUE! | GQ2: ='2.1 Титул'!208:208-"BYw!()" -> #VALUE! | GR2: ='2.1 Титул'!209:209-"BYw!(." -> #VALUE! | GS2: ='2.1 Титул'!210:210-"BYw!(/" -> #VALUE! | GT2: ='2.1 Титул'!211:211-"BYw!(0" -> #VALUE! | GU2: ='2.1 Титул'!212:212-"BYw!(1" -> #VALUE! | GV2: ='2.1 Титул'!213:213-"BYw!(2" -> #VALUE! | GW2: ='2.1 Титул'!214:214-"BYw!(3" -> #VALUE! | GX2: ='2.1 Титул'!215:215-"BYw!(4" -> #VALUE! | GY2: ='2.1 Титул'!216:216-"BYw!(5" -> #VALUE! | GZ2: ='2.1 Титул'!217:217-"BYw!(6" -> #VALUE! | HA2: ='2.1 Титул'!218:218-"BYw!(7" -> #VALUE! | HB2: ='2.1 Титул'!219:219-"BYw!(8" -> #VALUE! | HC2: ='2.1 Титул'!220:220-"BYw!(9" -> #VALUE! | HD2: ='2.2 Свод по годам'!#REF!+"BYw!(:" -> #REF! | HE2: ='2.2 Свод по годам'!B1+"BYw!(;" -> #VALUE! | HF2: ='2.2 Свод по годам'!C1+"BYw!(<" -> #VALUE! | HG2: ='2.2 Свод по годам'!D1+"BYw!(=" -> #VALUE! | HH2: ='2.2 Свод по годам'!E1+"BYw!(>" -> #VALUE! | HI2: ='2.2 Свод по годам'!#REF!+"BYw!(?" -> #REF! | HJ2: ='2.2 Свод по годам'!B2+"BYw!(@" -> #VALUE! | HK2: ='2.2 Свод по годам'!C2+"BYw!(A" -> #VALUE! | HL2: ='2.2 Свод по годам'!D2+"BYw!(B" -> #VALUE! | HM2: ='2.2 Свод по годам'!E2+"BYw!(C" -> #VALUE! | HN2: ='2.2 Свод по годам'!#REF!+"BYw!(D" -> #REF! | HO2: ='2.2 Свод по годам'!B3+"BYw!(E" -> #VALUE! | HP2: ='2.2 Свод по годам'!C3+"BYw!(F" -> #VALUE! | HQ2: ='2.2 Свод по годам'!D3+"BYw!(G" -> #VALUE! | HR2: ='2.2 Свод по годам'!E3+"BYw!(H" -> #VALUE! | HS2: ='2.2 Свод по годам'!#REF!+"BYw!(I" -> #REF! | HT2: ='2.2 Свод по годам'!B4+"BYw!(J" -> #VALUE! | HU2: ='2.2 Свод по годам'!C4+"BYw!(K" -> #VALUE! | HV2: ='2.2 Свод по годам'!D4+"BYw!(L" -> #VALUE! | HW2: ='2.2 Свод по годам'!E4+"BYw!(M" -> #VALUE! | HX2: ='2.2 Свод по годам'!D5+"BYw!(N" -> #VALUE! | HY2: ='2.2 Свод по годам'!C9+"BYw!(O" -> #VALUE! | HZ2: ='2.2 Свод по годам'!C10+"BYw!(P" -> #VALUE! | IA2: ='2.2 Свод по годам'!C11+"BYw!(Q" -> #VALUE! | IB2: ='2.2 Свод по годам'!C12+"BYw!(R" -> #VALUE! | IC2: ='2.2 Свод по годам'!C13+"BYw!(S" -> #VALUE! | ID2: ='2.2 Свод по годам'!#REF!*"BYw!(T" -> #REF! | IE2: ='2.2 Свод по годам'!B:B*"BYw!(U" -> #VALUE! | IF2: ='2.2 Свод по годам'!C:C*"BYw!(V" -> #VALUE! | IG2: ='2.2 Свод по годам'!D:D*"BYw!(W" -> #VALUE! | IH2: ='2.2 Свод по годам'!E:E*"BYw!(X" -> #VALUE! | II2: ='2.2 Свод по годам'!F:F*"BYw!(Y" -> #VALUE! | IJ2: ='2.2 Свод по годам'!G:G*"BYw!(Z" -> #VALUE! | IK2: ='2.2 Свод по годам'!H:H*"BYw!([" -> #VALUE! | IL2: ='2.2 Свод по годам'!I:I*"BYw!(\" -> #VALUE! | IM2: ='2.2 Свод по годам'!J:J*"BYw!(]" -> #VALUE! | IN2: ='2.2 Свод по годам'!K:K*"BYw!(^" -> #VALUE! | IO2: ='2.2 Свод по годам'!L:L*"BYw!(_" -> #VALUE! | IP2: ='2.2 Свод по годам'!M:M*"BYw!(`" -> #VALUE! | IQ2: ='2.2 Свод по годам'!N:N*"BYw!(a" -> #VALUE! | IR2: ='2.2 Свод по годам'!O:O*"BYw!(b" -> #VALUE! | IS2: ='2.2 Свод по годам'!P:P*"BYw!(c" -> #VALUE! | IT2: ='2.2 Свод по годам'!Q:Q*"BYw!(d" -> #VALUE! | IU2: ='2.2 Свод по годам'!R:R*"BYw!(e" -> #VALUE! | IV2: ='2.2 Свод по годам'!S:S*"BYw!(f" -> #VALUE!
A3: "BYw!43935" | F3: ='2.2 Свод по годам'!T:T*"BYw!(g" -> #VALUE! | G3: ='2.2 Свод по годам'!U:U*"BYw!(h" -> #VALUE! | H3: ='2.2 Свод по годам'!V:V*"BYw!(i" -> #VALUE! | I3: ='2.2 Свод по годам'!W:W*"BYw!(j" -> #VALUE! | J3: ='2.2 Свод по годам'!X:X*"BYw!(k" -> #VALUE! | K3: ='2.2 Свод по годам'!Y:Y*"BYw!(l" -> #VALUE! | L3: ='2.2 Свод по годам'!Z:Z*"BYw!(m" -> #VALUE! | M3: ='2.2 Свод по годам'!AA:AA*"BYw!(n" -> #VALUE! | N3: ='2.2 Свод по годам'!AB:AB*"BYw!(o" -> #VALUE! | O3: ='2.2 Свод по годам'!AC:AC*"BYw!(p" -> #VALUE! | P3: ='2.2 Свод по годам'!AD:AD*"BYw!(q" -> #VALUE! | Q3: ='2.2 Свод по годам'!AE:AE*"BYw!(r" -> #VALUE! | R3: ='2.2 Свод по годам'!AF:AF*"BYw!(s" -> #VALUE! | S3: ='2.2 Свод по годам'!AG:AG*"BYw!(t" -> #VALUE! | T3: ='2.2 Свод по годам'!AH:AH*"BYw!(u" -> #VALUE! | U3: ='2.2 Свод по годам'!AI:AI*"BYw!(v" -> #VALUE! | V3: ='2.2 Свод по годам'!AJ:AJ*"BYw!(w" -> #VALUE! | W3: ='2.2 Свод по годам'!AK:AK*"BYw!(x" -> #VALUE! | X3: ='2.2 Свод по годам'!AL:AL*"BYw!(y" -> #VALUE! | Y3: ='2.2 Свод по годам'!AM:AM*"BYw!(z" -> #VALUE! | Z3: ='2.2 Свод по годам'!AN:AN*"BYw!({" -> #VALUE! | AA3: ='2.2 Свод по годам'!AO:AO*"BYw!(|" -> #VALUE! | AB3: ='2.2 Свод по годам'!AP:AP*"BYw!(}" -> #VALUE! | AC3: ='2.2 Свод по годам'!AQ:AQ*"BYw!(~" -> #VALUE! | AD3: ='2.2 Свод по годам'!AR:AR*"BYw!)#" -> #VALUE! | AE3: ='2.2 Свод по годам'!AS:AS*"BYw!)$" -> #VALUE! | AF3: ='2.2 Свод по годам'!AT:AT*"BYw!)%" -> #VALUE! | AG3: ='2.2 Свод по годам'!AU:AU*"BYw!)&" -> #VALUE! | AH3: ='2.2 Свод по годам'!AV:AV*"BYw!)'" -> #VALUE! | AI3: ='2.2 Свод по годам'!AW:AW*"BYw!)(" -> #VALUE! | AJ3: ='2.2 Свод по годам'!AX:AX*"BYw!))" -> #VALUE! | AK3: ='2.2 Свод по годам'!AY:AY*"BYw!)." -> #VALUE! | AL3: ='2.2 Свод по годам'!AZ:AZ*"BYw!)/" -> #VALUE! | AM3: ='2.2 Свод по годам'!BA:BA*"BYw!)0" -> #VALUE! | AN3: ='2.2 Свод по годам'!BB:BB*"BYw!)1" -> #VALUE! | AO3: ='2.2 Свод по годам'!BC:BC*"BYw!)2" -> #VALUE! | AP3: ='2.2 Свод по годам'!1:1-"BYw!)3" -> #VALUE! | AQ3: ='2.2 Свод по годам'!2:2-"BYw!)4" -> #VALUE! | AR3: ='2.2 Свод по годам'!3:3-"BYw!)5" -> #VALUE! | AS3: ='2.2 Свод по годам'!4:4-"BYw!)6" -> #VALUE! | AT3: ='2.2 Свод по годам'!5:5-"BYw!)7" -> #VALUE! | AU3: ='2.2 Свод по годам'!6:6-"BYw!)8" -> #VALUE! | AV3: ='2.2 Свод по годам'!7:7-"BYw!)9" -> #VALUE! | AW3: ='2.2 Свод по годам'!8:8-"BYw!):" -> #VALUE! | AX3: ='2.2 Свод по годам'!9:9-"BYw!);" -> #VALUE! | AY3: ='2.2 Свод по годам'!10:10-"BYw!)<" -> #VALUE! | AZ3: ='2.2 Свод по годам'!11:11-"BYw!)=" -> #VALUE! | BA3: ='2.2 Свод по годам'!12:12-"BYw!)>" -> #VALUE! | BB3: ='2.2 Свод по годам'!13:13-"BYw!)?" -> #VALUE! | BC3: ='2.2 Свод по годам'!14:14-"BYw!)@" -> #VALUE! | BD3: ='2.2 Свод по годам'!15:15-"BYw!)A" -> #VALUE! | BE3: ='2.2 Свод по годам'!16:16-"BYw!)B" -> #VALUE! | BF3: ='2.2 Свод по годам'!17:17-"BYw!)C" -> #VALUE! | BG3: ='2.2 Свод по годам'!18:18-"BYw!)D" -> #VALUE! | BH3: ='2.2 Свод по годам'!19:19-"BYw!)E" -> #VALUE! | BI3: ='2.2 Свод по годам'!20:20-"BYw!)F" -> #VALUE! | BJ3: ='2.2 Свод по годам'!21:21-"BYw!)G" -> #VALUE! | BK3: ='2.2 Свод по годам'!22:22-"BYw!)H" -> #VALUE! | BL3: ='2.2 Свод по годам'!23:23-"BYw!)I" -> #VALUE! | BM3: ='2.2 Свод по годам'!24:24-"BYw!)J" -> #VALUE! | BN3: ='2.2 Свод по годам'!25:25-"BYw!)K" -> #VALUE! | BO3: ='2.2 Свод по годам'!26:26-"BYw!)L" -> #VALUE! | BP3: ='2.2 Свод по годам'!27:27-"BYw!)M" -> #VALUE! | BQ3: ='2.2 Свод по годам'!28:28-"BYw!)N" -> #VALUE! | BR3: ='2.2 Свод по годам'!29:29-"BYw!)O" -> #VALUE! | BS3: ='2.2 Свод по годам'!30:30-"BYw!)P" -> #VALUE! | BT3: ='2.2 Свод по годам'!31:31-"BYw!)Q" -> #VALUE! | BU3: ='2.2 Свод по годам'!32:32-"BYw!)R" -> #VALUE! | BV3: ='2.2 Свод по годам'!33:33-"BYw!)S" -> #VALUE! | BW3: ='2.2 Свод по годам'!34:34-"BYw!)T" -> #VALUE! | BX3: ='2.2 Свод по годам'!35:35-"BYw!)U" -> #VALUE! | BY3: ='2.2 Свод по годам'!36:36-"BYw!)V" -> #VALUE! | BZ3: ='2.2 Свод по годам'!37:37-"BYw!)W" -> #VALUE! | CA3: ='2.2 Свод по годам'!38:38-"BYw!)X" -> #VALUE! | CB3: ='2.2 Свод по годам'!39:39-"BYw!)Y" -> #VALUE! | CC3: ='2.2 Свод по годам'!40:40-"BYw!)Z" -> #VALUE! | CD3: ='2.2 Свод по годам'!41:41-"BYw!)[" -> #VALUE! | CE3: ='2.2 Свод по годам'!42:42-"BYw!)\" -> #VALUE! | CF3: ='2.2 Свод по годам'!43:43-"BYw!)]" -> #VALUE! | CG3: ='2.2 Свод по годам'!44:44-"BYw!)^" -> #VALUE! | CH3: ='2.2 Свод по годам'!45:45-"BYw!)_" -> #VALUE! | CI3: ='2.2 Свод по годам'!46:46-"BYw!)`" -> #VALUE! | CJ3: ='2.2 Свод по годам'!47:47-"BYw!)a" -> #VALUE! | CK3: ='2.2 Свод по годам'!48:48-"BYw!)b" -> #VALUE! | CL3: ='2.2 Свод по годам'!49:49-"BYw!)c" -> #VALUE! | CM3: ='2.2 Свод по годам'!50:50-"BYw!)d" -> #VALUE! | CN3: ='2.2 Свод по годам'!51:51-"BYw!)e" -> #VALUE! | CO3: ='2.2 Свод по годам'!52:52-"BYw!)f" -> #VALUE! | CP3: ='2.2 Свод по годам'!53:53-"BYw!)g" -> #VALUE! | CQ3: ='2.2 Свод по годам'!54:54-"BYw!)h" -> #VALUE! | CR3: ='2.2 Свод по годам'!55:55-"BYw!)i" -> #VALUE! | CS3: ='2.2 Свод по годам'!56:56-"BYw!)j" -> #VALUE! | CT3: ='2.2 Свод по годам'!57:57-"BYw!)k" -> #VALUE! | CU3: ='2.2 Свод по годам'!58:58-"BYw!)l" -> #VALUE! | CV3: ='2.2 Свод по годам'!59:59-"BYw!)m" -> #VALUE! | CW3: ='2.2 Свод по годам'!60:60-"BYw!)n" -> #VALUE! | CX3: ='2.2 Свод по годам'!61:61-"BYw!)o" -> #VALUE! | CY3: ='2.2 Свод по годам'!62:62-"BYw!)p" -> #VALUE! | CZ3: ='2.2 Свод по годам'!63:63-"BYw!)q" -> #VALUE! | DA3: ='2.2 Свод по годам'!64:64-"BYw!)r" -> #VALUE! | DB3: ='2.2 Свод по годам'!65:65-"BYw!)s" -> #VALUE! | DC3: ='2.2 Свод по годам'!66:66-"BYw!)t" -> #VALUE! | DD3: ='2.2 Свод по годам'!67:67-"BYw!)u" -> #VALUE! | DE3: ='2.2 Свод по годам'!68:68-"BYw!)v" -> #VALUE! | DF3: ='2.2 Свод по годам'!69:69-"BYw!)w" -> #VALUE! | DG3: ='2.2 Свод по годам'!70:70-"BYw!)x" -> #VALUE! | DH3: ='2.2 Свод по годам'!71:71-"BYw!)y" -> #VALUE! | DI3: ='2.2 Свод по годам'!72:72-"BYw!)z" -> #VALUE! | DJ3: ='2.2 Свод по годам'!73:73-"BYw!){" -> #VALUE! | DK3: ='2.2 Свод по годам'!74:74-"BYw!)|" -> #VALUE! | DL3: ='2.2 Свод по годам'!75:75-"BYw!)}" -> #VALUE! | DM3: ='2.2 Свод по годам'!76:76-"BYw!)~" -> #VALUE! | DN3: ='2.2 Свод по годам'!77:77-"BYw!.#" -> #VALUE! | DO3: ='2.2 Свод по годам'!78:78-"BYw!.$" -> #VALUE! | DP3: ='2.2 Свод по годам'!79:79-"BYw!.%" -> #VALUE! | DQ3: ='2.2 Свод по годам'!80:80-"BYw!.&" -> #VALUE! | DR3: ='2.2 Свод по годам'!81:81-"BYw!.'" -> #VALUE! | DS3: ='2.2 Свод по годам'!82:82-"BYw!.(" -> #VALUE! | DT3: ='2.2 Свод по годам'!83:83-"BYw!.)" -> #VALUE! | DU3: ='2.2 Свод по годам'!84:84-"BYw!.." -> #VALUE! | DV3: ='2.2 Свод по годам'!85:85-"BYw!./" -> #VALUE! | DW3: ='2.2 Свод по годам'!86:86-"BYw!.0" -> #VALUE! | DX3: ='2.2 Свод по годам'!87:87-"BYw!.1" -> #VALUE! | DY3: ='2.2 Свод по годам'!88:88-"BYw!.2" -> #VALUE! | DZ3: ='2.2 Свод по годам'!89:89-"BYw!.3" -> #VALUE! | EA3: ='2.2 Свод по годам'!90:90-"BYw!.4" -> #VALUE! | EB3: ='2.2 Свод по годам'!91:91-"BYw!.5" -> #VALUE! | EC3: ='2.2 Свод по годам'!92:92-"BYw!.6" -> #VALUE! | ED3: ='2.2 Свод по годам'!93:93-"BYw!.7" -> #VALUE! | EE3: ='2.2 Свод по годам'!94:94-"BYw!.8" -> #VALUE! | EF3: ='2.2 Свод по годам'!95:95-"BYw!.9" -> #VALUE! | EG3: ='2.2 Свод по годам'!96:96-"BYw!.:" -> #VALUE! | EH3: ='2.2 Свод по годам'!97:97-"BYw!.;" -> #VALUE! | EI3: ='2.2 Свод по годам'!98:98-"BYw!.<" -> #VALUE! | EJ3: ='2.2 Свод по годам'!99:99-"BYw!.=" -> #VALUE! | EK3: ='2.2 Свод по годам'!100:100-"BYw!.>" -> #VALUE! | EL3: ='2.2 Свод по годам'!101:101-"BYw!.?" -> #VALUE! | EM3: ='2.2 Свод по годам'!102:102-"BYw!.@" -> #VALUE! | EN3: ='2.2 Свод по годам'!103:103-"BYw!.A" -> #VALUE! | EO3: ='2.2 Свод по годам'!104:104-"BYw!.B" -> #VALUE! | EP3: ='2.2 Свод по годам'!105:105-"BYw!.C" -> #VALUE! | EQ3: ='2.2 Свод по годам'!106:106-"BYw!.D" -> #VALUE! | ER3: ='2.2 Свод по годам'!107:107-"BYw!.E" -> #VALUE! | ES3: ='2.2 Свод по годам'!108:108-"BYw!.F" -> #VALUE! | ET3: ='2.2 Свод по годам'!109:109-"BYw!.G" -> #VALUE! | EU3: ='2.2 Свод по годам'!110:110-"BYw!.H" -> #VALUE! | EV3: ='2.2 Свод по годам'!111:111-"BYw!.I" -> #VALUE! | EW3: ='2.2 Свод по годам'!112:112-"BYw!.J" -> #VALUE! | EX3: ='2.2 Свод по годам'!113:113-"BYw!.K" -> #VALUE! | EY3: ='2.2 Свод по годам'!114:114-"BYw!.L" -> #VALUE! | EZ3: ='2.2 Свод по годам'!115:115-"BYw!.M" -> #VALUE! | FA3: ='2.2 Свод по годам'!116:116-"BYw!.N" -> #VALUE! | FB3: ='2.2 Свод по годам'!117:117-"BYw!.O" -> #VALUE! | FC3: ='2.2 Свод по годам'!118:118-"BYw!.P" -> #VALUE! | FD3: ='2.2 Свод по годам'!119:119-"BYw!.Q" -> #VALUE! | FE3: ='2.2 Свод по годам'!120:120-"BYw!.R" -> #VALUE! | FF3: ='2.2 Свод по годам'!121:121-"BYw!.S" -> #VALUE! | FG3: ='2.2 Свод по годам'!122:122-"BYw!.T" -> #VALUE! | FH3: ='2.2 Свод по годам'!123:123-"BYw!.U" -> #VALUE! | FI3: ='2.2 Свод по годам'!124:124-"BYw!.V" -> #VALUE! | FJ3: ='2.2 Свод по годам'!125:125-"BYw!.W" -> #VALUE! | FK3: ='2.2 Свод по годам'!126:126-"BYw!.X" -> #VALUE! | FL3: ='2.2 Свод по годам'!127:127-"BYw!.Y" -> #VALUE! | FM3: ='2.2 Свод по годам'!128:128-"BYw!.Z" -> #VALUE! | FN3: ='2.2 Свод по годам'!129:129-"BYw!.[" -> #VALUE! | FO3: ='2.2 Свод по годам'!130:130-"BYw!.\" -> #VALUE! | FP3: ='2.2 Свод по годам'!131:131-"BYw!.]" -> #VALUE! | FQ3: ='2.2 Свод по годам'!132:132-"BYw!.^" -> #VALUE! | FR3: ='2.2 Свод по годам'!133:133-"BYw!._" -> #VALUE! | FS3: ='2.2 Свод по годам'!134:134-"BYw!.`" -> #VALUE! | FT3: ='2.2 Свод по годам'!135:135-"BYw!.a" -> #VALUE! | FU3: ='2.2 Свод по годам'!136:136-"BYw!.b" -> #VALUE! | FV3: ='2.2 Свод по годам'!137:137-"BYw!.c" -> #VALUE! | FW3: ='2.2 Свод по годам'!138:138-"BYw!.d" -> #VALUE! | FX3: ='2.2 Свод по годам'!139:139-"BYw!.e" -> #VALUE! | FY3: ='2.2 Свод по годам'!140:140-"BYw!.f" -> #VALUE! | FZ3: ='2.2 Свод по годам'!141:141-"BYw!.g" -> #VALUE! | GA3: ='2.2 Свод по годам'!142:142-"BYw!.h" -> #VALUE! | GB3: ='2.2 Свод по годам'!143:143-"BYw!.i" -> #VALUE! | GC3: ='2.2 Свод по годам'!144:144-"BYw!.j" -> #VALUE! | GD3: ='2.2 Свод по годам'!145:145-"BYw!.k" -> #VALUE! | GE3: ='2.2 Свод по годам'!146:146-"BYw!.l" -> #VALUE! | GF3: ='2.2 Свод по годам'!147:147-"BYw!.m" -> #VALUE! | GG3: ='2.2 Свод по годам'!148:148-"BYw!.n" -> #VALUE! | GH3: ='2.2 Свод по годам'!149:149-"BYw!.o" -> #VALUE! | GI3: ='2.2 Свод по годам'!150:150-"BYw!.p" -> #VALUE! | GJ3: ='2.2 Свод по годам'!151:151-"BYw!.q" -> #VALUE! | GK3: ='2.2 Свод по годам'!152:152-"BYw!.r" -> #VALUE! | GL3: ='2.2 Свод по годам'!153:153-"BYw!.s" -> #VALUE! | GM3: ='2.2 Свод по годам'!154:154-"BYw!.t" -> #VALUE! | GN3: ='2.2 Свод по годам'!155:155-"BYw!.u" -> #VALUE! | GO3: ='2.2 Свод по годам'!156:156-"BYw!.v" -> #VALUE! | GP3: ='2.2 Свод по годам'!157:157-"BYw!.w" -> #VALUE! | GQ3: ='2.2 Свод по годам'!158:158-"BYw!.x" -> #VALUE! | GR3: ='2.2 Свод по годам'!159:159-"BYw!.y" -> #VALUE! | GS3: ='2.2 Свод по годам'!160:160-"BYw!.z" -> #VALUE! | GT3: ='2.2 Свод по годам'!161:161-"BYw!.{" -> #VALUE! | GU3: ='2.2 Свод по годам'!162:162-"BYw!.|" -> #VALUE! | GV3: ='2.2 Свод по годам'!163:163-"BYw!.}" -> #VALUE! | GW3: ='2.2 Свод по годам'!164:164-"BYw!.~" -> #VALUE! | GX3: ='2.2 Свод по годам'!165:165-"BYw!/#" -> #VALUE! | GY3: ='2.2 Свод по годам'!166:166-"BYw!/$" -> #VALUE! | GZ3: ='2.2 Свод по годам'!167:167-"BYw!/%" -> #VALUE! | HA3: ='2.2 Свод по годам'!168:168-"BYw!/&" -> #VALUE! | HB3: ='2.2 Свод по годам'!169:169-"BYw!/'" -> #VALUE! | HC3: ='2.2 Свод по годам'!170:170-"BYw!/(" -> #VALUE! | HD3: ='2.2 Свод по годам'!171:171-"BYw!/)" -> #VALUE! | HE3: ='2.2 Свод по годам'!172:172-"BYw!/." -> #VALUE! | HF3: ='2.2 Свод по годам'!173:173-"BYw!//" -> #VALUE! | HG3: ='2.2 Свод по годам'!174:174-"BYw!/0" -> #VALUE! | HH3: ='2.2 Свод по годам'!175:175-"BYw!/1" -> #VALUE! | HI3: ='2.2 Свод по годам'!176:176-"BYw!/2" -> #VALUE! | HJ3: ='2.2 Свод по годам'!177:177-"BYw!/3" -> #VALUE! | HK3: ='2.2 Свод по годам'!178:178-"BYw!/4" -> #VALUE! | HL3: ='2.2 Свод по годам'!179:179-"BYw!/5" -> #VALUE! | HM3: ='2.2 Свод по годам'!180:180-"BYw!/6" -> #VALUE! | HN3: ='2.2 Свод по годам'!181:181-"BYw!/7" -> #VALUE! | HO3: ='2.2 Свод по годам'!182:182-"BYw!/8" -> #VALUE! | HP3: ='2.2 Свод по годам'!183:183-"BYw!/9" -> #VALUE! | HQ3: ='2.2 Свод по годам'!184:184-"BYw!/:" -> #VALUE! | HR3: ='2.2 Свод по годам'!185:185-"BYw!/;" -> #VALUE! | HS3: ='2.2 Свод по годам'!186:186-"BYw!/<" -> #VALUE! | HT3: ='2.2 Свод по годам'!187:187-"BYw!/=" -> #VALUE! | HU3: ='2.2 Свод по годам'!188:188-"BYw!/>" -> #VALUE! | HV3: ='2.2 Свод по годам'!189:189-"BYw!/?" -> #VALUE! | HW3: ='2.2 Свод по годам'!190:190-"BYw!/@" -> #VALUE! | HX3: ='2.2 Свод по годам'!191:191-"BYw!/A" -> #VALUE! | HY3: ='2.2 Свод по годам'!192:192-"BYw!/B" -> #VALUE! | HZ3: ='2.2 Свод по годам'!193:193-"BYw!/C" -> #VALUE! | IA3: ='2.2 Свод по годам'!194:194-"BYw!/D" -> #VALUE! | IB3: ='2.2 Свод по годам'!195:195-"BYw!/E" -> #VALUE! | IC3: ='2.2 Свод по годам'!196:196-"BYw!/F" -> #VALUE! | ID3: ='2.2 Свод по годам'!197:197-"BYw!/G" -> #VALUE! | IE3: ='2.2 Свод по годам'!198:198-"BYw!/H" -> #VALUE! | IF3: ='2.2 Свод по годам'!199:199-"BYw!/I" -> #VALUE! | IG3: ='2.2 Свод по годам'!200:200-"BYw!/J" -> #VALUE! | IH3: ='2.2 Свод по годам'!201:201-"BYw!/K" -> #VALUE! | II3: ='2.2 Свод по годам'!202:202-"BYw!/L" -> #VALUE! | IJ3: ='2.2 Свод по годам'!203:203-"BYw!/M" -> #VALUE! | IK3: ='2.2 Свод по годам'!204:204-"BYw!/N" -> #VALUE! | IL3: ='2.2 Свод по годам'!205:205-"BYw!/O" -> #VALUE! | IM3: ='2.2 Свод по годам'!206:206-"BYw!/P" -> #VALUE! | IN3: ='2.2 Свод по годам'!207:207-"BYw!/Q" -> #VALUE! | IO3: ='2.2 Свод по годам'!208:208-"BYw!/R" -> #VALUE! | IP3: ='2.2 Свод по годам'!209:209-"BYw!/S" -> #VALUE! | IQ3: ='2.2 Свод по годам'!210:210-"BYw!/T" -> #VALUE! | IR3: ='2.2 Свод по годам'!211:211-"BYw!/U" -> #VALUE! | IS3: ='2.2 Свод по годам'!212:212-"BYw!/V" -> #VALUE! | IT3: ='2.2 Свод по годам'!213:213-"BYw!/W" -> #VALUE! | IU3: ='2.3 Сводная ИТОГО'!B1+"BYw!/X" -> #VALUE! | IV3: ='2.3 Сводная ИТОГО'!C1+"BYw!/Y" -> #VALUE!
