Workbook
Name _ftn1: Трудоемкость!#REF!
Name _ftnref1: Трудоемкость!#REF!
Name _GoBack: Трудоемкость!#REF!
Name _Toc424036212: Трудоемкость!#REF!

Sheet Свод ТЗ
B4: Выполнение работ по модернизации Динамической транспортной модели города Москвы (ДТМ).
B6: № п/п | C6: Наименование работ | E6: Начальная (максимальная) цена контракта (расчетная), руб., в том числе НДС 22% | F6: Начальная (максимальная) цена контракта с учетом рекомендаций ГБУ "Аналитический центр" и решения Заказчика в целях экономии бюджетных средств руб. в том числе НДС 22% | H6: Начальная (максимальная) цена контракта с учетом стоимости чел-месяца в этапе с учетом КП, руб. в том числе НДС 22%
B8: 1 | C8: Работы по модернизации информационных систем и ресурсов | E8: ='Расчет развития'!E24 -> 99727692 | F8: 99281144 | H8: ='Свод по годам'!G5 -> 99281144
C9: Итого | E9: =E8 -> 99727692 | F9: 99281144 | H9: 99281144
B11: Расчетная начальная (максимальная) цена контракта на выполнение работ по модернизации Динамической транспортной модели города Москвы (ДТМ) составит 99 727 692 (Девяносто девять миллионов семьсот двадцать семь тысяч шестьсот девяносто два) рубля 03 копейки в том числе НДС 22% - 17 983 682 (Семнадцать миллионов девятьсот восемьдесят три тысячи шестьсот восемьдесят два) рубля 17 копеек.
B13: С учетом снижения по решению Заказчика в целях экономии бюджетных средств на основании полученного коммерческого предложения НМЦК принимается в размере: 99 281 144 (Девяносто девять миллионов двести восемьдесят одна тысяча сто сорок четыре) рубля 04 копейки, в том числе НДС 22% - 17 903 157 (Семнадцать миллионов девятьсот три тысячи сто пятьдесят семь) рублей 12 копеек, начальная (максимальная) цена контракта на выполнение работ по модернизации Динамической транспортной модели города Москвы (ДТМ) была принята равной: 99 281 144 (Девяносто девять миллионов двести восемьдесят одна тысяча сто сорок четыре) рубля 04 копейки, в том числе НДС 22% - 17 903 157 (Семнадцать миллионов девятьсот три тысячи сто пятьдесят семь) рублей 12 копеек.
B15: С учетом экспертного заключения ГБУ "Аналитический центр" от 10.09.2026 № 0905-5-1-3-100926-П к № 0905-5-1-3-280726, а также снижения по решению Заказчика в целях экономии бюджетных средств начальная (максимальная) цена контракта на: выполнение работ по модернизации Динамической транспортной модели города Москвы (ДТМ) составляет 99 281 144 (Девяносто девять миллионов двести восемьдесят одна тысяча сто сорок четыре) рубля 04 копейки, в том числе НДС 22% - 17 903 157 (Семнадцать миллионов девятьсот три тысячи сто пятьдесят семь) рублей 12 копеек.

Sheet Свод по годам
B2: ='Свод ТЗ'!B4 -> Выполнение работ по модернизации Динамической транспортной модели города Москвы (ДТМ).
B4: № этапа | C4: Год | D4: Наименование работ | E4: Начальная (максимальная) цена контракта (расчетная), руб., в том числе НДС 22% | F4: Начальная (максимальная) цена контракта с учетом рекомендаций ГБУ "Аналитический центр" и решения Заказчика в целях экономии бюджетных средств руб. в том числе НДС 22% | G4: Начальная (максимальная) цена контракта с учетом стоимости чел-месяца в этапе с учетом КП, руб. в том числе НДС 22%
C5: Всего, в т.ч. по годам: | E5: =E7+E6 -> 99727692 | F5: 99281144 | G5: =G6+G7 -> 99281144
B6: 1 | C6: 2026 | D6: Работы по модернизации информационных систем и ресурсов | E6: ='Расчет развития'!E22 -> 23465022 | F6: 23359953 | G6: ='Расчет развития'!I22 -> 23359953
B7: 2 | C7: 2027 | D7: Работы по модернизации информационных систем и ресурсов | E7: ='Расчет развития'!E23 -> 76262670 | F7: 75921191 | G7: ='Расчет развития'!I23 -> 75921191

Sheet Функции
A1: № | B1: Раздел ТЗ | C1: Наименование выполняемых работ /подсистем ИС | D1: Количество функций обработки информации (Фi) | L1: ПРОВЕРКА
D2: Внутренние логические файлы Ф1 | E2: Внешние интерфейсные файлы Ф2 | F2: Внешние входные элементы Ф3 | G2: Внешние выходные элементы и обработка информации Ф4 | H2: Внешние запросы Ф5 | I2: Развитие функций хранения информации и интеграций Ф6 | J2: Развитие функций ввода-вывода информации Ф7 | K2: Функции повышения удобства использования Ф8 | M2: Комментарий Екатерина
C3: Выполнение работ по модернизации Динамической транспортной модели города Москвы (ДТМ) | D3: =D4+D14+D33+D41 -> 5 | E3: =E4+E14+E33+E41 -> 7 | F3: =F4+F14+F33+F41 -> 0 | G3: =G4+G14+G33+G41 -> 8 | H3: =H4+H14+H33+H41 -> 11 | I3: =I4+I14+I33+I41 -> 2 | J3: =J4+J14+J33+J41 -> 4 | K3: =K4+K14+K33+K41 -> 2 | L3: =L4+L14+L33+L41 -> 39
B4: 3.2.1.1. | C4: Подсистема расчета | D4: =SUM(D5:D13) -> 1 | E4: =SUM(E5:E13) -> 0 | F4: =SUM(F5:F13) -> 0 | G4: =SUM(G5:G13) -> 6 | H4: =SUM(H5:H13) -> 0 | I4: =SUM(I5:I13) -> 1 | J4: =SUM(J5:J13) -> 1 | K4: =SUM(K5:K13) -> 0 | L4: =SUM(L5:L13) -> 9
A5: 1 | C5: Реализация алгоритм расчета теоретической пропускной способности на ребрах ДТМ для последующего сохранения в БД | G5: 1 | L5: =SUM(D5:K5) -> 1 | M5: Если это просто расчет константы, то доказать Ф1 будет сложно
A6: 2 | C6: Реализация алгоритма вычисления максимальной фактической пропускной способности по данным детекторов транспорта на всех ребрах графа и сохранения данных в БД в случае если текущая фактическая пропускная способность превышает исторический максимум | G6: 1 | L6: =SUM(D6:K6) -> 1 | M6: В текущем описании это какой-то расчет, без управляющего воздействия и даже без вывода результатов, так что и Ф4 под вопросом
A7: 3 | C7: Реализация механизма определения изменившихся при обновлении графа ДТМ ребер графа ДТМ, расчет теоретической пропускной способности на таких ребрах и последующее сохранение данных в БД | I7: 1 | L7: =SUM(D7:K7) -> 1 | M7: По той же логике, что у строки выше, только теперь это доработка от Ф4, т.е. Ф7
A8: 4 | C8: Расчет и формирование блока управляющей информации в виде перечня маршрутов, позволяющих объехать аномальный участок и не являющихся оптимальными в нормальных условиях (альтеранитвных маршрутов), и его перерасчет до достижения соответствия пропускной способности альтернативных маршрутов аномальному участку с последующей передачей данных во внешние системы и сохранением в БД | D8: 1 | L8: =SUM(D8:K8) -> 1 | M8: В текущем описании это какой-то расчет, без управляющего воздействия и даже без вывода результатов, так что и Ф4 под вопросом
A9: 5 | C9: Функция поиска минимального теоретического значения пропускной способности входящих в маршрут ребер графа ДТМ для каждого из альтернативных маршрутов и присвоения найденного значения минимальной теоретической пропускной способности альтернативному маршруту для последующей передачи во внешние системы и сохранением данных в БД | G9: 1 | L9: =SUM(D9:K9) -> 1
A10: 6 | C10: Функция определения требуемой минимальной теоретической пропускной способности для объезда аномального участка на основании данных о пропускной способности аномального участка для последующей передачи во внешние системы и сохранением данных в БД | G10: 1 | L10: =SUM(D10:K10) -> 1
A11: 7 | C11: Функция расчета отклонений на аномальном участке для мониторинга окончания ситуации и вывода значений отклонений на график в пользовательский интерфейс | G11: 1 | L11: =SUM(D11:K11) -> 1
A12: 8 | C12: Функция расчета и вывода на график признака допустимого и (или) недопустимого значения параметров на аномальном участке при их отклонении от допустимых значений | G12: 1 | L12: =SUM(D12:K12) -> 1 | M12: из описания непонятно, что это две разыне функции
A13: 9 | C13: Функция расчета и вывода длительности События в карточку События | J13: 1 | L13: =SUM(D13:K13) -> 1
B14: 3.2.1.2. | C14: Подсистема отображения | D14: =SUM(D15:D32) -> 0 | E14: =SUM(E15:E32) -> 0 | F14: =SUM(F15:F32) -> 0 | G14: =SUM(G15:G32) -> 2 | H14: =SUM(H15:H32) -> 11 | I14: =SUM(I15:I32) -> 0 | J14: =SUM(J15:J32) -> 3 | K14: =SUM(K15:K32) -> 2 | L14: =SUM(L15:L32) -> 18
A15: 1 | C15: Функция фильтрации отображаемых Событий на карте по статусу | H15: 1 | L15: =SUM(D15:K15) -> 1
A16: 2 | C16: Функция фильтрации Событий по дате для форм вывода на карте и в реестр | H16: 1 | L16: 1
A17: 3 | C17: Вывод реестра событий на отдельную экранную форму | H17: 1 | L17: 1 | M17: есил на экран, т.е. на уже созданную экранную форму, то это доработка
A18: 4 | C18: Функция отображения слоя актуальных Событий на карте в виде выделенных участков дорожной сети, на которых зафиксированы События | H18: 1 | L18: =SUM(D18:K18) -> 1
A19: 5 | C19: Форма карточки События и вывод в нее информации из таблицы "События" | H19: 1 | L19: =SUM(D19:K19) -> 1
A20: 6 | C20: Функция центрирования карты и фокусирования на выбранном Событии при выборе События в реестре Событий | K20: 1 | L20: =SUM(D20:K20) -> 1
A21: 7 | C21: Отображение сведений о подтвержденном Событии на отдельной форме | H21: 1 | L21: =SUM(D21:K21) -> 1
A22: 8 | C22: Отображение на карте слоя с альтернативными маршрутами с центрированием карты и расчетом оптимального масштаба карты | H22: 1 | L22: =SUM(D22:K22) -> 1
A23: 9 | C23: Функция отображения слоя светофорных объектов, на которых в связи с Событием были изменены фазы | H23: 1 | L23: =SUM(D23:K23) -> 1
A24: 10 | C24: Индикация признака возврата параметров на аномальном участке в допустимые значения | K24: 1 | L24: =SUM(D24:K24) -> 1
A25: 11 | C25: Функция учета подтверждения оператором завершения События | J25: 1 | L25: =SUM(D25:K25) -> 1
A26: 12 | C26: Функция расчета диапазона значений осей и отображения графика динамики изменения параметра на аномальном участке | H26: 1 | L26: =SUM(D26:K26) -> 1
A27: 13 | C27: Доработка карточки ребра графа ДТМ: добавление сведений о расчетной пропускной способности для рёбер автомобильного графа ДТМ. | J27: 1 | L27: =SUM(D27:K27) -> 1
A28: 14 | C28: Слой отображения максимумов фактической пропускной способности на ребрах графа ДТМ с визуализацией (изменяющаяся толщина линий или цветовая градация) | H28: 1 | L28: =SUM(D28:K28) -> 1
A29: 15 | C29: Слой отображения расчетной пропускной способности на ребрах графа ДТМ с визуализацией (изменяющаяся толщина линий или цветовая градация) | H29: 1 | L29: =SUM(D29:K29) -> 1
A30: 16 | C30: Корректировка порядка отображения слоев карты на экране на основании иерархии слоев для создаваемых слоев с данными | J30: 1 | L30: =SUM(D30:K30) -> 1
A31: 17 | C31: Функция форматирования и экспорта файла реестра Событий в файл формата xlsx на основании заданных пользователем параметров | G31: 1 | L31: =SUM(D31:K31) -> 1
A32: 18 | C32: Функция форматирования и экспорта файла сводка по Событию в файл формата pptx на основании заданных пользователем параметров | G32: 1 | L32: =SUM(D32:K32) -> 1
B33: 3.2.1.3. | C33: Подсистема интеграции | D33: =SUM(D34:D40) -> 0 | E33: =SUM(E34:E40) -> 7 | F33: =SUM(F34:F40) -> 0 | G33: =SUM(G34:G40) -> 0 | H33: =SUM(H34:H40) -> 0 | I33: =SUM(I34:I40) -> 0 | J33: =SUM(J34:J40) -> 0 | K33: =SUM(K34:K40) -> 0 | L33: =SUM(L34:L40) -> 7
A34: 1 | C34: Получение информации о подтвержденном Событии и информации о завершении События из внешней ИС "ПроСобытие" | E34: 1 | L34: =SUM(D34:K34) -> 1
A35: 2 | C35: Передача информации для формирования инцидента и отображения альтернативных маршрутов объезда в ВИС "Прособытие" | E35: 1 | L35: 1 | M35: Две одинаковые передачи в разные ИС, одно попробуют как доработку тарифицировать
A36: 3 | C36: Передача альтернативных маршрутов объезда для их проверки и определения возможности перераспределения потоков в ВИС "АСУТСРиОДД" | E36: 1 | L36: =SUM(D36:K36) -> 1
A37: 4 | C37: Передача оценочного количества ТС, которые должны быть направлены на альтернативные маршруты в ВИС "АСУТСРиОДД" | E37: 1 | L37: =SUM(D37:K37) -> 1
A38: 5 | C38: Получение из внешней ВИС "АСУТСРиОДД" данных о возможности перенаправления оценочного количества ТС по альтернативным маршрутам для последующего сохранения в БД | E38: 1 | L38: =SUM(D38:K38) -> 1
A39: 6 | C39: Передача информации о начале и завершении События во внешнюю ИС "ПроСобытие" | E39: 1 | L39: =SUM(D39:K39) -> 1
A40: 7 | C40: Получение из ВИС "АСУТСРиОДД" перечня светофорных объектов, на которых были изменены программы в связи с Событием для последующего хранения в БД | E40: 1 | L40: =SUM(D40:K40) -> 1
...

Sheet Трудоемкость
A1: =Функции!C3 -> Выполнение работ по модернизации Динамической транспортной модели города Москвы (ДТМ)
A2: № | B2: Наименование выполняемых работ /модулей ИС | C2: Количество функций обработки информации (Фi) | L2: Количество функциональных точек (ФТi) | U2: Способ реализации (уровень языка разработки) | V2: К-нт преобраз. ФТ в БТ | W2: Базовые трудозатраты | X2: Коэффициенты трудоемкости | AG2: КППК | AH2: Общие расчетные трудозатраты, чел.-мес. | AI2: Процент от общих расчетных трудозатрат
C3: Ф1 | D3: Ф2 | E3: Ф3 | F3: Ф4 | G3: Ф5 | H3: Ф6 | I3: Ф7 | J3: Ф8 | K3: ИТОГО | L3: ФТ1 | M3: ФТ2 | N3: ФТ3 | O3: ФТ4 | P3: ФТ5 | Q3: ФТ6 | R3: ФТ7 | S3: ФТ8 | T3: ИТОГО | X3: МТ1 | Y3: МТ2 | Z3: МТ3 | AA3: МТ4 | AB3: МТ5 | AC3: МТ6 | AD3: МТ7 | AE3: МТ8
B4: =Функции!C3 -> Выполнение работ по модернизации Динамической транспортной модели города Москвы (ДТМ) | C4: =SUBTOTAL(9,C5:C9) -> 5 | D4: =SUBTOTAL(9,D5:D9) -> 7 | E4: =SUBTOTAL(9,E5:E9) -> 0 | F4: =SUBTOTAL(9,F5:F9) -> 8 | G4: =SUBTOTAL(9,G5:G9) -> 11 | H4: =SUBTOTAL(9,H5:H9) -> 2 | I4: =SUBTOTAL(9,I5:I9) -> 4 | J4: =SUBTOTAL(9,J5:J9) -> 2 | ... T4: =SUBTOTAL(9,T5:T9) -> 846 | W4: =SUM(W5:W9) -> 170.47 | AH4: =SUM(AH5:AH9) -> 184.92 | AI4: =ROUND(SUM(AI5:AI9),2) -> 1
A5: 1 | B5: =Функции!C4 -> Подсистема расчета | C5: =Функции!D4 -> 1 | D5: =Функции!E4 -> 0 | E5: =Функции!F4 -> 0 | F5: =Функции!G4 -> 6 | G5: =Функции!H4 -> 0 | H5: =Функции!I4 -> 1 | I5: =Функции!J4 -> 1 | ... K5: =Функции!L4 -> 9 | L5: =C5*11 -> 11 | M5: =D5*6 -> 0 | N5: =E5*5 -> 0 | O5: =F5*5 -> 30 | P5: =G5*4 -> 0 | Q5: =H5*4 -> 4 | R5: =I5*2 -> 2 | S5: =J5*1 -> 0 | T5: =SUM(L5:S5) -> 47 | U5: язык высокого уровня | V5: 0.255 | W5: =ROUND(POWER(T5,0.94)*V5,2) -> 9.51 | X5: =Коэффициенты!C4 -> 1 | Y5: =Коэффициенты!D4 -> 1.07 | Z5: =Коэффициенты!E4 -> 1 | AA5: =Коэффициенты!F4 -> 1.15 | AB5: =Коэффициенты!G4 -> 1 | AC5: =Коэффициенты!H4 -> 1 | AD5: =Коэффициенты!I4 -> 0.97 | AE5: =Коэффициенты!J4 -> 1 | AF5: =ROUND(X5*Y5*Z5*AA5*AB5*AC5*AD5*AE5,3) -> 1.194 | AG5: 1 | AH5: =ROUND(W5*AF5*AG5,3) -> 11.36 | AI5: =AH5/$AH$4 -> 0.0614
A6: 2 | B6: =Функции!C14 -> Подсистема отображения | C6: =Функции!D14 -> 0 | D6: =Функции!E14 -> 0 | E6: =Функции!F14 -> 0 | F6: =Функции!G14 -> 2 | G6: =Функции!H14 -> 11 | H6: =Функции!I14 -> 0 | I6: =Функции!J14 -> 3 | ... K6: =Функции!L14 -> 18 | L6: =C6*11 -> 0 | M6: =D6*6 -> 0 | N6: =E6*5 -> 0 | O6: =F6*5 -> 10 | P6: =G6*4 -> 44 | Q6: =H6*4 -> 0 | R6: =I6*2 -> 6 | S6: =J6*1 -> 2 | T6: =SUM(L6:S6) -> 62 | U6: язык высокого уровня | V6: 0.255 | W6: =ROUND(POWER(T6,0.94)*V6,2) -> 12.34 | X6: =Коэффициенты!C5 -> 1 | Y6: =Коэффициенты!D5 -> 1.07 | Z6: =Коэффициенты!E5 -> 1 | AA6: =Коэффициенты!F5 -> 1 | AB6: =Коэффициенты!G5 -> 1 | AC6: =Коэффициенты!H5 -> 1 | AD6: =Коэффициенты!I5 -> 0.97 | AE6: =Коэффициенты!D58 -> 1.03 | AF6: =ROUND(X6*Y6*Z6*AA6*AB6*AC6*AD6*AE6,3) -> 1.069 | AG6: 1 | AH6: =ROUND(W6*AF6*AG6,3) -> 13.19 | AI6: =AH6/$AH$4 -> 0.0713
A7: 3 | B7: =Функции!C33 -> Подсистема интеграции | C7: =Функции!D33 -> 0 | D7: =Функции!E33 -> 7 | E7: =Функции!F33 -> 0 | F7: =Функции!G33 -> 0 | G7: =Функции!H33 -> 0 | H7: =Функции!I33 -> 0 | I7: =Функции!J33 -> 0 | ... K7: =Функции!L33 -> 7 | L7: =C7*11 -> 0 | M7: =D7*6 -> 42 | N7: =E7*5 -> 0 | O7: =F7*5 -> 0 | P7: =G7*4 -> 0 | Q7: =H7*4 -> 0 | R7: =I7*2 -> 0 | S7: =J7*1 -> 0 | T7: =SUM(L7:S7) -> 42 | U7: язык высокого уровня | V7: 0.255 | W7: =ROUND(POWER(T7,0.94)*V7,2) -> 8.56 | X7: =Коэффициенты!C6 -> 1 | Y7: =Коэффициенты!D6 -> 1.07 | Z7: =Коэффициенты!E6 -> 1 | AA7: =Коэффициенты!F6 -> 1 | AB7: =Коэффициенты!G6 -> 1 | AC7: =Коэффициенты!H6 -> 1 | AD7: =Коэффициенты!I6 -> 0.97 | AE7: =Коэффициенты!J6 -> 1 | AF7: =ROUND(X7*Y7*Z7*AA7*AB7*AC7*AD7*AE7,3) -> 1.038 | AG7: 1 | AH7: =ROUND(W7*AF7*AG7,3) -> 8.89 | AI7: =AH7/$AH$4+0.0001 -> 0.0482
A8: 4 | B8: =Функции!C41 -> Подсистема хранения данных | C8: =Функции!D41 -> 4 | D8: =Функции!E41 -> 0 | E8: =Функции!F41 -> 0 | F8: =Функции!G41 -> 0 | G8: =Функции!H41 -> 0 | H8: =Функции!I41 -> 1 | I8: =Функции!J41 -> 0 | ... K8: =Функции!L41 -> 5 | L8: =C8*11 -> 44 | M8: =D8*6 -> 0 | N8: =E8*5 -> 0 | O8: =F8*5 -> 0 | P8: =G8*4 -> 0 | Q8: =H8*4 -> 4 | R8: =I8*2 -> 0 | S8: =J8*1 -> 0 | T8: =SUM(L8:S8) -> 48 | U8: язык высокого уровня | V8: 0.255 | W8: =ROUND(POWER(T8,0.94)*V8,2) -> 9.7 | X8: =Коэффициенты!C7 -> 1 | Y8: =Коэффициенты!D7 -> 1.07 | Z8: =Коэффициенты!E7 -> 1 | AA8: =Коэффициенты!F7 -> 1 | AB8: =Коэффициенты!G7 -> 1 | AC8: =Коэффициенты!H7 -> 1 | AD8: =Коэффициенты!I7 -> 0.97 | AE8: =Коэффициенты!J7 -> 1 | AF8: =ROUND(X8*Y8*Z8*AA8*AB8*AC8*AD8*AE8,3) -> 1.038 | AG8: 1 | AH8: =ROUND(W8*AF8*AG8,3) -> 10.07 | AI8: =AH8/$AH$4 -> 0.0545
A9: 5 | B9: Работы по заявкам | T9: =ROUND(SUM(T5:T8)/$C$14*$C$15,2) -> 647 | W9: =ROUND(SUM(W5:W8)/$C$14*$C$15,2) -> 130.36 | AH9: =ROUND(SUM(AH5:AH8)/$C$14*$C$15,3) -> 141.41 | AI9: =AH9/AH4 -> 0.7647
B10: Выполнение работ по модернизации информационной системы «Динамической транспортной модели г. Москвы (ДТМ)» (1 этап) | T10: =SUM(T5:T8) -> 199 | W10: =SUM(W5:W8) -> 40.11 | AH10: =SUM(AH5:AH8) -> 43.51
B11: Работы по заявкам (2 этап) | T11: =T9 -> 647 | W11: =W9 -> 130.36 | AH11: =AH9 -> 141.41
B14: Количество детализированных задач | C14: 4
B15: Количество прочих задач | C15: 13

Sheet Расчет развития
C1: Приложение № 2 к Протоколу начальной (максимальной) цены контракта (цены лота), начальной цены единицы товара, работы, услуги
A3: Определение начальной (максимальной) цены контракта (цены лота)
A5: =Трудоемкость!A1 -> Выполнение работ по модернизации Динамической транспортной модели города Москвы (ДТМ)
B7: Расчет стоимости единицы трудозатрат
A9: № п/п | B9: Среднемесячная заработная плата по данным Мосстата, руб.* | C9: К-нт рентабельности | D9: К-нт доли з/п в себесто-имости | E9: Стоимость единицы трудозатрат (чел-мес.), руб.
A10: 1 | B10: 274521.1 | C10: 1.05 | D10: 0.67 | E10: =ROUND(B10/D10*C10,2) -> 430219.63
B13: Расчет стоимости выполненения работ по разработке ИС (разбивка трудозатрах по этапам - годам финансирования)
A15: № п/п | B15: Стоимость единицы трудозатрат (чел-мес.), руб. | C15: общие расчетные трудозатраты, чел.-месяцев
A16: 1 | B16: =E10 -> 430219.63 | C16: =[1]Трудоемкость!AH4 -> 184.92
C17: =[1]Трудоемкость!AH10 -> 43.51
C18: =[1]Трудоемкость!AH11 -> 141.41
A21: Год | B21: Коэффициент, учитывающий инфляцию в i-й год финансирования | C21: Доля от общих расчетных трудозатрат в i-й год финансирования, % | D21: Стоимость выполнения работ по разработке информационной системы по годам, (руб.) без НДС | E21: Стоимость выполнения работ по разработке информационной системы по годам, (руб.) с НДС 22% | F21: Стоимость единицы трудозатрат (чел-мес.), руб. | G21: Стоимость выполнения работ по разработке информационной системы по годам в соответствии с заключением экспертизы ГБУ АЦ, (руб.) с НДС 22% | H21: Стоимость единицы трудозатрат с учетом заключения экспертизы ГБУ АЦ (чел-мес.), руб. с НДС 22% | I21: Стоимость выполнения работ по разработке информационной системы по годам с учетом стоимости чел-месяца в этапе с учетом КП, (руб.) с НДС 22% | J21: Стоимость единицы трудозатрат с учетом КП, руб. с НДС 22% | K21: % для ТЗ | L21: Проверка | M21: Проверка
A22: 2026 | B22: 1.0275 | C22: =C17/C16 -> 0.23529094 | D22: =ROUND($B$16*$C$16*B22*C22,2) -> 19233625 | E22: =ROUND(D22*1.22,2) -> 23465022 | F22: =E22/C17 -> 539301.82 | G22: =E22*F26 -> 23359972 | H22: =G22/C17 -> 536887.42 | I22: =ROUNDDOWN(G22/C17,0)*C17 -> 23359953 | J22: =I22/C17 -> 536887 | K22: =I22/I24 -> 0.23529094 | L22: =I24*K22/C17 -> 536887 | M22: =J22*C17 -> 23359953
A23: 2027 | B23: 1.0275 | C23: =C18/C16 -> 0.76470906 | D23: =ROUND($B$16*$C$16*B23*C23,2) -> 62510385 | E23: =ROUND(D23*1.22,2) -> 76262670 | F23: =E23/C18 -> 539301.82 | G23: =E23*F26 -> 75921251 | H23: =G23/C18 -> 536887.42 | I23: =ROUNDDOWN(G23/C18,0)*C18 -> 75921191 | J23: =I23/C18 -> 536887 | K23: =I23/I24 -> 0.76470906 | L23: =I24*K23/C18 -> 536887 | M23: =J23*C18 -> 75921191
A24: Итоговая стоимость работ | D24: =D22+D23 -> 81744010 | E24: =E22+E23 -> 99727692 | G24: =G22+G23 -> 99281223 | I24: =I22+I23 -> 99281144 | K24: =K22+K23 -> 1 | M24: =M22+M23 -> 99281144
E26: 99281223 | F26: =E26/E24 -> 0.99552311
A28: Консультант отдела реализации информационно-аналитического обеспечения | E28: Д.В. Путро
A29: Начальник Управления по информационно-аналитическому обеспечению | E29: А.В. Козыч
A31: Дата составления: 28.08.2026 г.

Sheet Коэффициенты
C1: Коэффициенты трудоемкости
A2: № | B2: Наименование выполняемых работ /модулей ИС | C2: МТ1 | D2: МТ2 | E2: МТ3 | F2: МТ4 | G2: МТ5 | H2: МТ6 | I2: МТ7 | J2: МТ8
C3: по ИС в целом | F3: отдельно по каждой из подсистем ИС | K3: Итого
A4: 1 | B4: =Трудоемкость!B5 -> Подсистема расчета | C4: ='Показатели для расчета НМЦК'!D4 -> 1 | D4: ='Показатели для расчета НМЦК'!D6 -> 1.07 | E4: ='Показатели для расчета НМЦК'!D8 -> 1 | F4: ='Показатели для расчета НМЦК'!D28 -> 1.15 | G4: ='Показатели для расчета НМЦК'!D31 -> 1 | H4: ='Показатели для расчета НМЦК'!D36 -> 1 | I4: ='Показатели для расчета НМЦК'!D40 -> 0.97 | J4: ='Показатели для расчета НМЦК'!D45 -> 1 | K4: =ROUND(C4*D4*E4*F4*G4*H4*I4*J4,3) -> 1.194
A5: 2 | B5: =Трудоемкость!B6 -> Подсистема отображения | C5: ='Показатели для расчета НМЦК'!D4 -> 1 | D5: ='Показатели для расчета НМЦК'!D6 -> 1.07 | E5: ='Показатели для расчета НМЦК'!D8 -> 1 | F5: ='Показатели для расчета НМЦК'!D27 -> 1 | G5: ='Показатели для расчета НМЦК'!D31 -> 1 | H5: ='Показатели для расчета НМЦК'!D36 -> 1 | I5: ='Показатели для расчета НМЦК'!D40 -> 0.97 | J5: ='Показатели для расчета НМЦК'!D45 -> 1 | K5: =ROUND(C5*D5*E5*F5*G5*H5*I5*J5,3) -> 1.038
A6: 3 | B6: =Трудоемкость!B7 -> Подсистема интеграции | C6: ='Показатели для расчета НМЦК'!D4 -> 1 | D6: ='Показатели для расчета НМЦК'!D6 -> 1.07 | E6: ='Показатели для расчета НМЦК'!D8 -> 1 | F6: ='Показатели для расчета НМЦК'!D27 -> 1 | G6: ='Показатели для расчета НМЦК'!D31 -> 1 | H6: ='Показатели для расчета НМЦК'!D36 -> 1 | I6: ='Показатели для расчета НМЦК'!D40 -> 0.97 | J6: ='Показатели для расчета НМЦК'!D45 -> 1 | K6: =ROUND(C6*D6*E6*F6*G6*H6*I6*J6,3) -> 1.038
A7: 4 | B7: =Трудоемкость!B8 -> Подсистема хранения данных | C7: ='Показатели для расчета НМЦК'!D4 -> 1 | D7: ='Показатели для расчета НМЦК'!D6 -> 1.07 | E7: ='Показатели для расчета НМЦК'!D8 -> 1 | F7: 1 | G7: ='Показатели для расчета НМЦК'!D31 -> 1 | H7: ='Показатели для расчета НМЦК'!D36 -> 1 | I7: ='Показатели для расчета НМЦК'!D40 -> 0.97 | J7: ='Показатели для расчета НМЦК'!D45 -> 1 | K7: =ROUND(C7*D7*E7*F7*G7*H7*I7*J7,3) -> 1.038
B9: 1. Коэффициент трудоемкости «Требуемая надежность информационной системы» (МТ1)
B10: Коэффициент определяется по ИС в целом
B12: Тип разрабатываемой ИС | C12: отраслевая ИС | D12: общегородская ИС | E12: критичная ИС
B13: Значение коэффициента трудоемкости (МТ1) | C13: 0.9 | D13: 1 | E13: 1.15
B15: 2. Коэффициент трудоемкости «Среда разработки» (МТ2)
B16: Коэффициент определяется по ИС в целом
B18: Значение отношения кол-во объектов предметной области/размер ИС | C18: 2 среды | D18: 3 среды | E18: 4 среды
B19: Значение коэффициента трудоемкости (МТ2) | C19: 0.93 | D19: 1 | E19: 1.07
B21: 3. Коэффициент трудоемкости «Интеграции с внешними системами» (МТ3)
B22: Коэффициент определяется по ИС в целом
B24: Количество интеграций | C24: менее 10 | D24: от 10 до 20 | E24: свыше 20
B26: Значение коэффициента трудоемкости (МТ3) | C26: 0.95 | D26: 1 | E26: 1.05
B28: 4. Коэффициент трудоемкости «Сложность информационной системы» (МТ4)
B29: Коэффициент определяется отдельно по каждой из подсистем ИС
B31: Класс разрабатываемой ИС | C31: информационно-поисковая (реестр, регистр и др.) | D31: обеспечения деятельности ОИВ, портал, прочая | E31: информационно-аналитическая, управляющая
B32: Значение коэффициента трудоемкости (МТ4) | C32: 0.85 | D32: 1 | E32: 1.15
B34: 5. Коэффициент трудоемкости «Размещение компонент на мобильных устройствах» (МТ5)
B35: Коэффициент определяется отдельно по каждой из подсистем ИС
B37: Использование системой мобильных устройств | C37: не | D37: предусматривается
C38: предусматривается
B39: Значение коэффициента трудоемкости (МТ5) | C39: 1 | D39: 1.07
B41: 6. Коэффициент трудоемкости «Частота обновления платформы» (МТ6)
B42: Коэффициент определяется отдельно по каждой из подсистем ИС
B44: Выход обновления ОС либо СУБД | C44: реже чем 1 раз в 12 месяцев | D44: от 1 раза в 12 месяцев до 1 раза в 6 месяцев | E44: чаще чем 1 раз в 6 месяцев
B45: Значение коэффициента трудоемкости (МТ6) | C45: 0.87 | D45: 1 | E45: 1.15
B47: 7. Коэффициент трудоемкости «Новизна информационной системы» (МТ7)
B48: Коэффициент определяется отдельно по каждой из подсистем ИС
B50: Характер выполняемых работ | C50: развитие и/или модернизация подсистем действующей ИС | D50: создание новых подсистем действующей ИС | E50: создание новой ИС
B51: Значение коэффициента трудоемкости (МТ7) | C51: 0.97 | D51: 1 | E51: 1.04
B54: 8. Коэффициент трудоемкости «Сложность аналитической деятельности и проектирования» (МТ8)
B55: Коэффициент определяется отдельно по каждой из подсистем ИС
B57: Сложность аналитической деятельности и проектирования | C57: Не требуется | D57: Наличие модели архитектуры (или новая подсистема) | E57: Отсутствие модели архитектуры
B58: Значение коэффициента трудоемкости (МТ8) | C58: 1 | D58: 1.03 | E58: 1.05

Sheet Показатели для расчета НМЦК
A1: Выполнение работ по модернизации информационной системы «Динамической транспортной модели г. Москвы (ДТМ)»
A3: КТ | B3: Вид КТ | C3: Параметры КТ | D3: Значение КТ
A4: МТ1 | B4: Тип разрабатываемой ИС (Коэффициент определяется по ИС в целом) | C4: общегородская ИС | D4: 1
A6: МТ2 | B6: Значение отношения кол-во объектов предметной области/размер ИС (Коэффициент определяется по ИС в целом) | C6: 4 среды (разработка, тестовый контуринг, предпро контуринг/превью конуринг, промышленный контуринг) | D6: 1.07
A8: МТ3 | B8: Количество интеграций (Коэффициент определяется по ИС в целом) | D8: 1
A9: Интеграции с внешними системами:
A10: 1 | B10: Единая региональная навигационно-информационная система г. Москвы (РНИС) | C10: Входящий
A11: 2 | B11: Информационные системы ГУП «Мосгортранс» | C11: Входящий и Исходящий
A12: 3 | B12: Информационные системы ГК У «Организатор перевозок» | C12: Входящий
A13: 4 | B13: Система «Служба 112» | C13: Входящий
A14: 5 | B14: Автоматизированная информационная система ситуационного управления пассажирскими перевозками в г. Москве в условиях нештатных ситуаций (АСУ НС) | C14: Входящий
A15: 6 | B15: Автоматизированная информационная система «Контроль пассажирских перевозчиков» (АИС КПП) | C15: Входящий и Исходящий
A16: 7 | B16: Информационная система индикации состояния объектов интеллектуальной транспортной системы г. Москвы (ИС ИСО ИТС) | C16: Входящий
A17: 8 | B17: Интеллектуальная транспортная система г. Москвы (ИТС) | C17: Входящий и Исходящий
A18: 9 | B18: Информационно-аналитическая система мониторинга подвижного состава (ИАС МПС) | C18: Входящий
A19: 10 | B19: Яндекс.Пробки | C19: Входящий
A20: 11 | B20: Информационная система ГБУ г. Москвы «Автомобильные дороги» | C20: Входящий и Исходящий
A21: 12 | B21: Информационная система ГУП «Московский метрополитен» | C21: Входящий
... A23: 14 | B23: Государственная информационная система «Единый центр хранения и обработки данных» (ЕЦХД) | C23: Входящий
A25: МТ4 | B25: Класс разрабатываемой ИС
B26: информационно-поисковая (реестр, регистр и др.) | D26: 0.85
B27: обеспечения деятельности ОИВ, портал, прочая | C27: Подсистема отображения Подсистема интеграции Подсистема хранения данных Подсистема статистического анализа Подсистема администрирования | D27: 1
B28: информационно-аналитическая, управляющая | C28: Подсистема расчета | D28: 1.15
A30: МТ5 | B30: Использование системой мобильных устройств
B31: не предусматривается | C31: Подсистема отображения Подсистема интеграции Подсистема хранения данных Подсистема расчета Подсистема статистического анализа Подсистема администрирования | D31: 1
B32: предусматривается | D32: 1.07
A34: МТ6 | B34: Выход обновления ОС либо СУБД
B35: реже чем 1 раз в 12 месяцев | D35: 0.87
B36: от 1 раза в 12 месяцев до 1 раза в 6 месяцев | C36: Подсистема отображения Подсистема интеграции Подсистема хранения данных Подсистема расчета Подсистема статистического анализа Подсистема администрирования | D36: 1
B37: чаще чем 1 раз в 6 месяцев | D37: 1.15
A39: МТ7 | B39: Характер выполняемых работ
B40: развитие и/или модернизация подсистем действующей ИС | C40: Подсистема отображения Подсистема интеграции Подсистема хранения данных Подсистема расчета Подсистема статистического анализа Подсистема администрирования | D40: 0.97
B41: создание новых подсистем действующей ИС | D41: 1
B42: создание новой ИС | D42: 1.04
A44: МТ8 | B44: Сложность аналитической деятельности и проектирования
B45: Не требуется | C45: Подсистема отображения Подсистема интеграции Подсистема хранения данных Подсистема расчета Подсистема статистического анализа Подсистема администрирования | D45: 1
B46: Наличие модели архитектуры (или новая подсистема) | D46: 1.03
B47: Отсутствие модели архитектуры | D47: 1.05
