Workbook
Name _ftn1: Трудоемкость!#REF!
Name _ftn1: 'Трудоемкость (2)'!#REF!
Name _ftnref1: Трудоемкость!#REF!
Name _ftnref1: 'Трудоемкость (2)'!#REF!
Name _GoBack: Трудоемкость!#REF!
Name _GoBack: 'Трудоемкость (2)'!#REF!
Name _Toc424036212: Трудоемкость!#REF!
Name _Toc424036212: 'Трудоемкость (2)'!#REF!

Sheet Титул-свод
A1: Приложение № 2 к Протоколу начальной (максимальной) цены контракта (цены лота)
A2: Расчет начальной (максимальной) цены контракта (цены лота) - СВОД
A3: Выполнение работ по созданию специального программного обеспечения информационной системы «Паноптикум»
A4: № | B4: Состав работ | I4: Метод расчета | J4: НМЦК с учетом Экспертного заключения ГБУ "Аналитический центр" от 27.08.2026 № 1093-5-1-3-270826 с учетом округления, (с НДС 22%), руб. | K4: НМЦК (с НДС 22%), руб. | L4: в том числе: | M4: Лимит БО, руб. | N4: Стоимость работ с НДС 22%, руб. | O4: в том числе: | P4: Год БО
L5: НДС 22%, руб. | O5: НДС 22%, руб.
A6: 1 | B6: Работы по модернизации информационных систем и ресурсов | I6: Метод составления смет расчет произведен в соответствии с совместным распоряжением Департамента информационных технологий города Москвы и Департамента экономической политики и развития города Москвы от 28.02.2018 № 64-16-89/18/3-р и совместным распоряжением Департамента информационных технологий города Москвы и Департамента экономической политики и развития города Москвы от 21.09.2023 № ДПР-Р-18/23/64-16-504/23 | J6: 1.847618e+08 | K6: ='Расчет развития'!E14 -> 1.8523939e+08 | L6: =K6*22/122 -> 33403824 | M6: 1.8711616e+08 | N6: =IF(M6="",K6,IF(K6<M6,K6,M6)) -> 1.8523939e+08 | O6: =N6*22/122 -> 33403824 | P6: 2026
A7: 2 | B7: Работы по модернизации информационных систем и ресурсов | J7: 1.9237668e+08 | K7: ='Расчет развития'!E15 -> 1.9287395e+08 | L7: =K7*22/122 -> 34780549 | M7: 1.9095864e+08 | N7: =IF(M7="",K7,IF(K7<M7,K7,M7)) -> 1.9095864e+08 | O7: =N7*22/122 -> 34435165 | P7: 2027
J8: =SUM(J6:J7) -> 3.7713848e+08 | K8: ='Расчет развития'!E16 -> 3.7811334e+08 | L8: =K8*22/122 -> 68184373 | M8: 3.780748e+08 | N8: =IF(M8>K8,SUM(N6:N7),IF(K8<M8,K8,M8)) -> 3.780748e+08 | O8: =N8*22/122 -> 68177423 | P8: 2026-2027
A10: Начальная (максимальная) цена контракта составляет: 377 138 481 (Триста семьдесят семь миллионов сто тридцать восемь тысяч четыреста восемьдесят один) рубль 12 копеек, в том числе НДС 22% – 68 008 578 (Шестьдесят восемь миллионов восемь тысяч пятьсот семьдесят восемь) рублей 56 копеек
A12: Расчет подготовил Ведущий специалист по закупкам __________________ И.В. Ракчеева
A14: И.о. заместителя генерального директора __________________ Д.И. Климов
A16: Дата составления: 28.08.2026
M128: Функция обеспечивает управление основными данными сущности "Состав совета воспитателей отряда" и работает с отдельнымы таблицами БД. Имеет самостоятельное значение, так как включает собственную логику работы с данными: добавление, редактирование и просмотр текущих сведений о сущности. С точки зрения интерфейса реализована отдельной экранной формой. Доступ к функции предоставляется отдельным правом, привязанным к работе с предметной сущностью. Это отдельный пользовательский сценарий - добавление, редактирование и просмотр текущих сведений о сущности.
M129: Функция обеспечивает протоколирование и отображение истории изменений данных сущности "Состав совета воспитателей отряда" и работает с отдельной системной таблицей аудита, связанной с этой сущностью. Имеет самостоятельное значение, так как включает собственную логику регистрации действий пользователей изолированно от основной таблицы сущности: автоматическое формирование записей журнала при любом изменении основных данных предметной сущности и фильтрацию по параметрам аудита. Работает в режиме чтения - данные пользовательскому редактированию не подлежат. С точки зрения интерфейса реализована отдельной экранной формой. Доступ к функции предоставляется отдельным правом на просмотр журнала изменений. Это отдельный пользовательский сценарий - аудит изменений сущности.
M130: Функция обеспечивает управление основными данными сущности "Заседания совета воспитателей отряда" и работает с отдельнымы таблицами БД. Имеет самостоятельное значение, так как включает собственную логику работы с данными: добавление, редактирование и просмотр текущих сведений о сущности. С точки зрения интерфейса реализована отдельной экранной формой. Доступ к функции предоставляется отдельным правом, привязанным к работе с предметной сущностью. Это отдельный пользовательский сценарий - добавление, редактирование и просмотр текущих сведений о сущности.
M131: Функция обеспечивает протоколирование и отображение истории изменений данных сущности "Заседания совета воспитателей отряда" и работает с отдельной системной таблицей аудита, связанной с этой сущностью. Имеет самостоятельное значение, так как включает собственную логику регистрации действий пользователей изолированно от основной таблицы сущности: автоматическое формирование записей журнала при любом изменении основных данных предметной сущности и фильтрацию по параметрам аудита. Работает в режиме чтения - данные пользовательскому редактированию не подлежат. С точки зрения интерфейса реализована отдельной экранной формой. Доступ к функции предоставляется отдельным правом на просмотр журнала изменений. Это отдельный пользовательский сценарий - аудит изменений сущности.
M132: Функция обеспечивает управление основными данными сущности "План работы совета воспитателей отряда" и работает с отдельнымы таблицами БД. Имеет самостоятельное значение, так как включает собственную логику работы с данными: добавление, редактирование и просмотр текущих сведений о сущности. С точки зрения интерфейса реализована отдельной экранной формой. Доступ к функции предоставляется отдельным правом, привязанным к работе с предметной сущностью. Это отдельный пользовательский сценарий - добавление, редактирование и просмотр текущих сведений о сущности.
M133: Функция обеспечивает протоколирование и отображение истории изменений данных сущности "План работы совета воспитателей отряда" и работает с отдельной системной таблицей аудита, связанной с этой сущностью. Имеет самостоятельное значение, так как включает собственную логику регистрации действий пользователей изолированно от основной таблицы сущности: автоматическое формирование записей журнала при любом изменении основных данных предметной сущности и фильтрацию по параметрам аудита. Работает в режиме чтения - данные пользовательскому редактированию не подлежат. С точки зрения интерфейса реализована отдельной экранной формой. Доступ к функции предоставляется отдельным правом на просмотр журнала изменений. Это отдельный пользовательский сценарий - аудит изменений сущности.
M134: Функция обеспечивает управление основными данными сущности "Приемы по личным вопросам" и работает с отдельнымы таблицами БД. Имеет самостоятельное значение, так как включает собственную логику работы с данными: добавление, редактирование и просмотр текущих сведений о сущности. С точки зрения интерфейса реализована отдельной экранной формой. Доступ к функции предоставляется отдельным правом, привязанным к работе с предметной сущностью. Это отдельный пользовательский сценарий - добавление, редактирование и просмотр текущих сведений о сущности.
M135: Функция обеспечивает протоколирование и отображение истории изменений данных сущности "Приемы по личным вопросам" и работает с отдельной системной таблицей аудита, связанной с этой сущностью. Имеет самостоятельное значение, так как включает собственную логику регистрации действий пользователей изолированно от основной таблицы сущности: автоматическое формирование записей журнала при любом изменении основных данных предметной сущности и фильтрацию по параметрам аудита. Работает в режиме чтения - данные пользовательскому редактированию не подлежат. С точки зрения интерфейса реализована отдельной экранной формой. Доступ к функции предоставляется отдельным правом на просмотр журнала изменений. Это отдельный пользовательский сценарий - аудит изменений сущности.
M136: Функция обеспечивает управление основными данными сущности "Кружковая работа" и работает с отдельнымы таблицами БД. Имеет самостоятельное значение, так как включает собственную логику работы с данными: добавление, редактирование и просмотр текущих сведений о сущности. С точки зрения интерфейса реализована отдельной экранной формой. Доступ к функции предоставляется отдельным правом, привязанным к работе с предметной сущностью. Это отдельный пользовательский сценарий - добавление, редактирование и просмотр текущих сведений о сущности.
M137: Функция обеспечивает протоколирование и отображение истории изменений данных сущности "Кружковая работа" и работает с отдельной системной таблицей аудита, связанной с этой сущностью. Имеет самостоятельное значение, так как включает собственную логику регистрации действий пользователей изолированно от основной таблицы сущности: автоматическое формирование записей журнала при любом изменении основных данных предметной сущности и фильтрацию по параметрам аудита. Работает в режиме чтения - данные пользовательскому редактированию не подлежат. С точки зрения интерфейса реализована отдельной экранной формой. Доступ к функции предоставляется отдельным правом на просмотр журнала изменений. Это отдельный пользовательский сценарий - аудит изменений сущности.
M138: Функция обеспечивает управление основными данными сущности "Аттестация осужденных" и работает с отдельнымы таблицами БД. Имеет самостоятельное значение, так как включает собственную логику работы с данными: добавление, редактирование и просмотр текущих сведений о сущности. С точки зрения интерфейса реализована отдельной экранной формой. Доступ к функции предоставляется отдельным правом, привязанным к работе с предметной сущностью. Это отдельный пользовательский сценарий - добавление, редактирование и просмотр текущих сведений о сущности.
M139: Функция обеспечивает протоколирование и отображение истории изменений данных сущности "Аттестация осужденных" и работает с отдельной системной таблицей аудита, связанной с этой сущностью. Имеет самостоятельное значение, так как включает собственную логику регистрации действий пользователей изолированно от основной таблицы сущности: автоматическое формирование записей журнала при любом изменении основных данных предметной сущности и фильтрацию по параметрам аудита. Работает в режиме чтения - данные пользовательскому редактированию не подлежат. С точки зрения интерфейса реализована отдельной экранной формой. Доступ к функции предоставляется отдельным правом на просмотр журнала изменений. Это отдельный пользовательский сценарий - аудит изменений сущности.
C140: Создание логической группы данных с сохранением сведений о краткосрочных выездах за пределы ИЦ, механизма редактирования сведений о краткосрочных выездах за пределы ИЦ | M140: Функция обеспечивает управление основными данными сущности "Краткосрочные выезды за пределы ИЦ" и работает с отдельнымы таблицами БД. Имеет самостоятельное значение, так как включает собственную логику работы с данными: добавление, редактирование и просмотр текущих сведений о сущности. С точки зрения интерфейса реализована отдельной экранной формой. Доступ к функции предоставляется отдельным правом, привязанным к работе с предметной сущностью. Это отдельный пользовательский сценарий - добавление, редактирование и просмотр текущих сведений о сущности.
M141: Функция обеспечивает протоколирование и отображение истории изменений данных сущности "Краткосрочные выезды за пределы ИЦ" и работает с отдельной системной таблицей аудита, связанной с этой сущностью. Имеет самостоятельное значение, так как включает собственную логику регистрации действий пользователей изолированно от основной таблицы сущности: автоматическое формирование записей журнала при любом изменении основных данных предметной сущности и фильтрацию по параметрам аудита. Работает в режиме чтения - данные пользовательскому редактированию не подлежат. С точки зрения интерфейса реализована отдельной экранной формой. Доступ к функции предоставляется отдельным правом на просмотр журнала изменений. Это отдельный пользовательский сценарий - аудит изменений сущности.
C142: Создание логической группы данных с сохранением сведений об изъятых личных и ценных вещах, механизма редактирования сведений об изъятых личных и ценных вещах | M142: Функция обеспечивает управление основными данными сущности "Изъятие личных и ценных вещей" и работает с отдельнымы таблицами БД. Имеет самостоятельное значение, так как включает собственную логику работы с данными: добавление, редактирование и просмотр текущих сведений о сущности. С точки зрения интерфейса реализована отдельной экранной формой. Доступ к функции предоставляется отдельным правом, привязанным к работе с предметной сущностью. Это отдельный пользовательский сценарий - добавление, редактирование и просмотр текущих сведений о сущности.
M143: Функция обеспечивает протоколирование и отображение истории изменений данных сущности "Изъятие личных и ценных вещей" и работает с отдельной системной таблицей аудита, связанной с этой сущностью. Имеет самостоятельное значение, так как включает собственную логику регистрации действий пользователей изолированно от основной таблицы сущности: автоматическое формирование записей журнала при любом изменении основных данных предметной сущности и фильтрацию по параметрам аудита. Работает в режиме чтения - данные пользовательскому редактированию не подлежат. С точки зрения интерфейса реализована отдельной экранной формой. Доступ к функции предоставляется отдельным правом на просмотр журнала изменений. Это отдельный пользовательский сценарий - аудит изменений сущности.
C144: Создание логической группы данных с сохранением сведений о выявлении запрещенных предметов, механизма редактирования сведений о выявлении запрещенных предметов | M144: Функция обеспечивает управление основными данными сущности "Выявление запрещенных предметов" и работает с отдельнымы таблицами БД. Имеет самостоятельное значение, так как включает собственную логику работы с данными: добавление, редактирование и просмотр текущих сведений о сущности. С точки зрения интерфейса реализована отдельной экранной формой. Доступ к функции предоставляется отдельным правом, привязанным к работе с предметной сущностью. Это отдельный пользовательский сценарий - добавление, редактирование и просмотр текущих сведений о сущности.
M145: Функция обеспечивает протоколирование и отображение истории изменений данных сущности "Выявление запрещенных предметов" и работает с отдельной системной таблицей аудита, связанной с этой сущностью. Имеет самостоятельное значение, так как включает собственную логику регистрации действий пользователей изолированно от основной таблицы сущности: автоматическое формирование записей журнала при любом изменении основных данных предметной сущности и фильтрацию по параметрам аудита. Работает в режиме чтения - данные пользовательскому редактированию не подлежат. С точки зрения интерфейса реализована отдельной экранной формой. Доступ к функции предоставляется отдельным правом на просмотр журнала изменений. Это отдельный пользовательский сценарий - аудит изменений сущности.
M146: Функция обеспечивает управление основными данными сущности "Нападения абонентов на сотрудников" и работает с отдельнымы таблицами БД. Имеет самостоятельное значение, так как включает собственную логику работы с данными: добавление, редактирование и просмотр текущих сведений о сущности. С точки зрения интерфейса реализована отдельной экранной формой. Доступ к функции предоставляется отдельным правом, привязанным к работе с предметной сущностью. Это отдельный пользовательский сценарий - добавление, редактирование и просмотр текущих сведений о сущности.
M147: Функция обеспечивает протоколирование и отображение истории изменений данных сущности "Нападения абонентов на сотрудников" и работает с отдельной системной таблицей аудита, связанной с этой сущностью. Имеет самостоятельное значение, так как включает собственную логику регистрации действий пользователей изолированно от основной таблицы сущности: автоматическое формирование записей журнала при любом изменении основных данных предметной сущности и фильтрацию по параметрам аудита. Работает в режиме чтения - данные пользовательскому редактированию не подлежат. С точки зрения интерфейса реализована отдельной экранной формой. Доступ к функции предоставляется отдельным правом на просмотр журнала изменений. Это отдельный пользовательский сценарий - аудит изменений сущности.

Sheet Функции
A1: № пп. в ТЗ | B1: Подсистема | C1: Наименование функции | D1: Количество функций обработки информации (Фi)
D2: Внутренние логические файлы Ф1 | E2: Внешние интерфейсные файлы Ф2 | F2: Внешние входные элементы Ф3 | G2: Внешние выходные элементы и обработка информации Ф4 | H2: Внешние запросы Ф5 | I2: Развитие функций хранения информации и интеграций Ф6 | J2: Развитие функций ввода-вывода информации Ф7 | K2: Функции повышения удобства использования Ф8 | L2: Комментарий
C3: Всего
A4: 1 | C4: Модуль «Нормативно-справочная информация» (этап 1) | D4: =D11 -> 2 | E4: =E11 -> 0 | F4: =F11 -> 2 | G4: =G11 -> 0 | H4: =H11 -> 2 | I4: =I11 -> 0 | J4: =J11 -> 0 | K4: =K11 -> 0
A5: 2 | C5: Модуль «Учет абонентов» (этап 1) | D5: =D23 -> 0 | E5: =E23 -> 0 | F5: =F23 -> 0 | G5: =G23 -> 0 | H5: =H23 -> 30 | I5: =I23 -> 0 | J5: =J23 -> 0 | K5: =K23 -> 0
A6: 3 | C6: Модуль «Центральная база данных» (этап 1) | D6: =D78 -> 21 | E6: =E78 -> 0 | F6: =F78 -> 21 | G6: =G78 -> 0 | H6: =H78 -> 0 | I6: =I78 -> 0 | J6: =J78 -> 0 | K6: =K78 -> 0
A7: 4 | C7: Модуль «Нормативно-справочная информация» (этап 2) | D7: =D14 -> 8 | E7: =E14 -> 0 | F7: =F14 -> 8 | G7: =G14 -> 0 | H7: =H14 -> 8 | I7: =I14 -> 0 | J7: =J14 -> 0 | K7: =K14 -> 0
A8: 5 | C8: Модуль «Учет абонентов» (этап 2) | D8: =D54 -> 0 | E8: =E54 -> 0 | F8: =F54 -> 3 | G8: =G54 -> 0 | H8: =H54 -> 20 | I8: =I54 -> 0 | J8: =J54 -> 0 | K8: =K54 -> 0
A9: 6 | C9: Модуль «Центральная база данных» (этап 2) | D9: =D100 -> 13 | E9: =E100 -> 0 | F9: =F100 -> 13 | G9: =G100 -> 0 | H9: =H100 -> 0 | I9: =I100 -> 0 | J9: =J100 -> 0 | K9: =K100 -> 0
A10: 7 | C10: Модуль «Информационное взаимодействие» (этап 2) | D10: =D114 -> 4 | E10: =E114 -> 2 | F10: =F114 -> 1 | G10: =G114 -> 0 | H10: =H114 -> 2 | I10: =I114 -> 0 | J10: =J114 -> 0 | K10: =K114 -> 0
C11: Модуль «Нормативно-справочная информация» (этап 1) | D11: =SUM(D12:D13) -> 2 | E11: =SUM(E12:E13) -> 0 | F11: =SUM(F12:F13) -> 2 | G11: =SUM(G12:G13) -> 0 | H11: =SUM(H12:H13) -> 2 | I11: =SUM(I12:I13) -> 0 | J11: =SUM(J12:J13) -> 0 | K11: =SUM(K12:K13) -> 0
A12: 3.1.1.2.1 | C12: Создание логической группы данных с сохранением сведений по сущности «Отряды» | D12: 1 | F12: 1 | H12: 1
A13: 3.1.1.2.2 | C13: Создание логической группы данных с сохранением сведений по сущности «Технические средства надзора и контроля» | D13: 1 | F13: 1 | H13: 1
C14: Модуль «Нормативно-справочная информация» (этап 2) | D14: =SUM(D15:D22) -> 8 | E14: =SUM(E15:E22) -> 0 | F14: =SUM(F15:F22) -> 8 | G14: =SUM(G15:G22) -> 0 | H14: =SUM(H15:H22) -> 8 | I14: =SUM(I15:I22) -> 0 | J14: =SUM(J15:J22) -> 0 | K14: =SUM(K15:K22) -> 0
A15: 3.1.2.2.1 | C15: Создание логической группы данных с сохранением сведений по сущности «Виды мероприятий начальника отряда» | D15: 1 | F15: 1 | H15: 1
A16: 3.1.2.2.2 | C16: Создание логической группы данных с сохранением сведений по сущности «Виды мероприятий по воспитательной работе» | D16: 1 | F16: 1 | H16: 1
A17: 3.1.2.2.3 | C17: Создание логической группы данных с сохранением сведений по сущности «Виды занятий по вопросам социально-правовой работы» | D17: 1 | F17: 1 | H17: 1
A18: 3.1.2.2.4 | C18: Создание логической группы данных с сохранением сведений по сущности «Форматы проведения мероприятий» (индивидуальные, массовые, групповые) | D18: 1 | F18: 1 | H18: 1
A19: 3.1.2.2.5 | C19: Создание логической группы данных с сохранением сведений по сущности «Направление кружка» | D19: 1 | F19: 1 | H19: 1
A20: 3.1.2.2.6 | C20: Создание логической группы данных с сохранением сведений по сущности «Отношение к кружковой работе» | D20: 1 | F20: 1 | H20: 1
A21: 3.1.2.2.7 | C21: Создание логической группы данных с сохранением сведений по сущности «Результат проведенного социального мероприятия» | D21: 1 | F21: 1 | H21: 1
A22: 3.1.2.2.8 | C22: Создание логической группы данных с сохранением сведений по сущности «Виды запрещенных предметов» | D22: 1 | F22: 1 | H22: 1
C23: Модуль «Учет абонентов» (этап 1) | D23: =SUM(D24:D53) -> 0 | E23: =SUM(E24:E53) -> 0 | F23: =SUM(F24:F53) -> 0 | G23: =SUM(G24:G53) -> 0 | H23: =SUM(H24:H53) -> 30 | I23: =SUM(I24:I53) -> 0 | J23: =SUM(J24:J53) -> 0 | K23: =SUM(K24:K53) -> 0
A24: 3.1.1.1.1 | C24: Функция отображения формы для редактирования (ввода) размещения абонента в отряде | H24: 1
A25: 3.1.1.1.2 | C25: Функция отображения найденных абонентов, которые находились в одно и то же время в одном и том же отряде | H25: 1
A26: 3.1.1.1.3 | C26: Функция отображения формы для определения условий для поиска абонентов, которые находились в одно и то же время в одном и том же отряде | H26: 1
A27: 3.1.1.1.4 | C27: Функция отображения формы для редактирования (ввода) информации о проживании за пределами учреждения | H27: 1
A28: 3.1.1.1.5 | C28: Функция отображения формы для редактирования (ввода) информации о явках абонентов на регистрацию | H28: 1
A29: 3.1.1.1.6 | C29: Функция отображения формы для редактирования (ввода) информации о надзоре за осужденными | H29: 1
A30: 3.1.1.1.7 | C30: Функция отображения формы для редактирования (ввода) информации о беседах с абонентами | H30: 1
A31: 3.1.1.1.8 | C31: Функция отображения формы для редактирования (ввода) информации о посещениях абонента сотрудниками УИИ | H31: 1
A32: 3.1.1.1.9 | C32: Функция отображения формы для редактирования (ввода) сведений об использовании ТСК | H32: 1
A33: 3.1.1.1.10 | C33: Функция отображения формы ввода информации о прохождении курса лечения | H33: 1
A34: 3.1.1.1.11 | C34: Функция отображения формы ввода информации об административном надзоре | H34: 1
A35: 3.1.1.1.12 | C35: Функция отображения формы ввода информации об условиях содержания абонента | H35: 1
... A46: 3.1.1.1.23 | C46: Функция отображения формы для редактирования (ввода) информации о доставке абонентов при выездах в судебные и иные органы | H46: 1
A47: 3.1.1.1.24 | C47: Функция отображения формы формирования журнала временно убывших | H47: 1 | L47: Функция предоставляет пользователю интерфейс для задания параметров формирования журнала и предварительного просмотра результата - без создания файла и вывода на печать. Имеет самостоятельное функциональное значение, так как включает собственную логику обработки ввода: валидацию фильтров, применение условий отбора, постраничную навигацию, сортировку по столбцам и сохранение параметров фильтрации при изменении представления данных. Состав отображаемой информации утверждён соответствующим нормативным правовым актом ФСИН России, и печатное представление должно строго ему соответствовать. Это отдельный пользовательский сценарий - проверка корректности параметров и визуальный контроль выборки до её сохранения или печати.
A48: 3.1.1.1.25 | C48: Функция сохранения в файл журнала временно убывших | H48: 1 | L48: Функция обеспечивает выгрузку сформированной выборки журнала во внешний файл в требуемых форматах для последующего использования вне системы. Имеет самостоятельное функциональное значение, так как включает собственную логику подготовки данных в соответствии с выбранным форматом, формирование структуры документа, присвоение имени файла и передачу файла пользователю для скачивания. Это отдельный пользовательский сценарий - получение электронной копии журнала без необходимости вывода на печать.
A49: 3.1.1.1.26 | C49: Функция вывода на печать журнала временно убывших | H49: 1 | L49: Функция обеспечивает формирование печатного представления полученной выборки журнала и передачу задания в подсистему печати операционной системы для получения твёрдой копии документа. Имеет самостоятельное значение, так как включает собственную логику постраничной разметки, формирования колонтитулов, повторяющихся заголовков таблицы на каждой странице, нумерации страниц, сквозной нумерации записей, а также полей для подписей, дат и оттиска печати. Внешний вид журнала утверждён соответствующим нормативным правовым актом ФСИН России. Это отдельный пользовательский сценарий - получение бумажной копии журнала без промежуточного сохранения файла.
A50: 3.1.1.1.27 | C50: Функция отображения формы для формирования выгрузки по административному надзору в МВД России | H50: 1
...

Sheet Трудоемкость (2)
A1: Выполнение работ по созданию специального программного обеспечения информационной системы «Паноптикум»
A3: № | B3: Наименование подсистем ИС | C3: Количество функций обработки информации (Фi) | L3: Количество функциональных точек (ФТi) | U3: Способ реализации (уровень языка разработки) | V3: К-нт преобраз. ФТ в БТ | W3: Базовые трудозатраты, чел.-мес. | X3: Коэффициенты трудоемкости | AG3: КППК | AH3: Общие расчетные трудозатраты, чел.-мес. (рассчитаны по этапам) | AI3: Процент общих расчетных трудозатрат, %
C4: Ф1 | D4: Ф2 | E4: Ф3 | F4: Ф4 | G4: Ф5 | H4: Ф6 | I4: Ф7 | J4: Ф8 | K4: ИТОГО | L4: ФТ1 | M4: ФТ2 | N4: ФТ3 | O4: ФТ4 | P4: ФТ5 | Q4: ФТ6 | R4: ФТ7 | S4: ФТ8 | T4: ИТОГО | X4: МТ1 | Y4: МТ2 | Z4: МТ3 | AA4: МТ4 | AB4: МТ5 | AC4: МТ6 | AD4: МТ7 | AE4: МТ8
B5: Выполнение работ по созданию специального программного обеспечения информационной системы «Паноптикум» (2 этапа) | C5: =SUM(C7:C16) -> 48 | D5: =SUM(D7:D16) -> 2 | E5: =SUM(E7:E16) -> 48 | F5: =SUM(F7:F16) -> 0 | G5: =SUM(G7:G16) -> 62 | H5: =SUM(H7:H16) -> 0 | I5: =SUM(I7:I16) -> 0 | J5: =SUM(J7:J16) -> 0 | ... T5: =SUM(T7:T16) -> 1028 | W5: =SUM(W7:W15) -> 192.25 | AH5: =SUM(AH7:AH9,AH12:AH15,AH17) -> 693.92 | AI5: =SUM(AI7:AI17) -> 1
A6: 1 этап | AH6: =SUM(AH7:AH10) -> 343.48
A7: 1 | B7: =Функции!C4 -> Модуль «Нормативно-справочная информация» (этап 1) | C7: =Функции!D4 -> 2 | D7: =Функции!E4 -> 0 | E7: =Функции!F4 -> 2 | F7: =Функции!G4 -> 0 | G7: =Функции!H4 -> 2 | H7: =Функции!I4 -> 0 | I7: =Функции!J4 -> 0 | J7: =Функции!K4 -> 0 | K7: =SUM(C7:J7) -> 6 | L7: =C7*11 -> 22 | M7: =D7*6 -> 0 | N7: =E7*5 -> 10 | O7: =F7*5 -> 0 | P7: =G7*4 -> 8 | Q7: =H7*4 -> 0 | R7: =I7*2 -> 0 | S7: =J7*1 -> 0 | T7: =SUM(L7:S7) -> 40 | U7: язык высокого уровня | V7: 0.255 | W7: =ROUND(POWER(T7,0.94)*V7,2) -> 8.17 | X7: 1 | Y7: 1.07 | Z7: 0.95 | AA7: 1 | AB7: 1 | AC7: 0.87 | AD7: 0.97 | AE7: 1.03 | AF7: =ROUND(X7*Y7*Z7*AA7*AB7*AC7*AD7*AE7,3) -> 0.884 | AG7: 1 | AH7: =ROUND(W7*AF7*AG7,2) -> 7.22 | AI7: =AH7/$AH$5 -> 0.010404658
A8: 2 | B8: =Функции!C5 -> Модуль «Учет абонентов» (этап 1) | C8: =Функции!D5 -> 0 | D8: =Функции!E5 -> 0 | E8: =Функции!F5 -> 0 | F8: =Функции!G5 -> 0 | G8: =Функции!H5 -> 30 | H8: =Функции!I5 -> 0 | I8: =Функции!J5 -> 0 | J8: =Функции!K5 -> 0 | K8: =SUM(C8:J8) -> 30 | L8: =C8*11 -> 0 | M8: =D8*6 -> 0 | N8: =E8*5 -> 0 | O8: =F8*5 -> 0 | P8: =G8*4 -> 120 | Q8: =H8*4 -> 0 | R8: =I8*2 -> 0 | S8: =J8*1 -> 0 | T8: =SUM(L8:S8) -> 120 | U8: язык высокого уровня | V8: 0.255 | W8: =ROUND(POWER(T8,0.94)*V8,2) -> 22.96 | X8: 1 | Y8: 1.07 | Z8: 0.95 | AA8: 1.15 | AB8: 1 | AC8: 0.87 | AD8: 0.97 | AE8: 1.03 | AF8: =ROUND(X8*Y8*Z8*AA8*AB8*AC8*AD8*AE8,3) -> 1.016 | AG8: 1 | AH8: =ROUND(W8*AF8*AG8,2) -> 23.33 | AI8: =AH8/$AH$5 -> 0.03362059
A9: 3 | B9: =Функции!C6 -> Модуль «Центральная база данных» (этап 1) | C9: =Функции!D6 -> 21 | D9: =Функции!E6 -> 0 | E9: =Функции!F6 -> 21 | F9: =Функции!G6 -> 0 | G9: =Функции!H6 -> 0 | H9: =Функции!I6 -> 0 | I9: =Функции!J6 -> 0 | J9: =Функции!K6 -> 0 | K9: =SUM(C9:J9) -> 42 | L9: =C9*11 -> 231 | M9: =D9*6 -> 0 | N9: =E9*5 -> 105 | O9: =F9*5 -> 0 | P9: =G9*4 -> 0 | Q9: =H9*4 -> 0 | R9: =I9*2 -> 0 | S9: =J9*1 -> 0 | T9: =SUM(L9:S9) -> 336 | U9: язык высокого уровня | V9: 0.255 | W9: =ROUND(POWER(T9,0.94)*V9,2) -> 60.44 | X9: 1 | Y9: 1.07 | Z9: 0.95 | AA9: 1.15 | AB9: 1 | AC9: 0.87 | AD9: 0.97 | AE9: 1.03 | AF9: =ROUND(X9*Y9*Z9*AA9*AB9*AC9*AD9*AE9,3) -> 1.016 | AG9: 1 | AH9: =ROUND(W9*AF9*AG9,2) -> 61.41 | AI9: =AH9/$AH$5 -> 0.088497233
A10: 4 | B10: Прочие задачи | K10: 141 | AH10: =ROUNDDOWN(SUM(AH7:AH9,AH12:AH15)/C20*K10, 2) -> 251.52 | AI10: =AH10/$AH$5 -> 0.36246253
A11: 2 этап | AH11: =SUM(AH12:AH16) -> 350.44
A12: 1 | B12: =Функции!C7 -> Модуль «Нормативно-справочная информация» (этап 2) | C12: =Функции!D7 -> 8 | D12: =Функции!E7 -> 0 | E12: =Функции!F7 -> 8 | F12: =Функции!G7 -> 0 | G12: =Функции!H7 -> 8 | H12: =Функции!I7 -> 0 | I12: =Функции!J7 -> 0 | J12: =Функции!K7 -> 0 | K12: =SUM(C12:J12) -> 24 | L12: =C12*11 -> 88 | M12: =D12*6 -> 0 | N12: =E12*5 -> 40 | O12: =F12*5 -> 0 | P12: =G12*4 -> 32 | Q12: =H12*4 -> 0 | R12: =I12*2 -> 0 | S12: =J12*1 -> 0 | T12: =SUM(L12:S12) -> 160 | U12: язык высокого уровня | V12: 0.255 | W12: =ROUND(POWER(T12,0.94)*V12,2) -> 30.09 | X12: 1 | Y12: 1.07 | Z12: 0.95 | AA12: 1 | AB12: 1 | AC12: 0.87 | AD12: 0.97 | AE12: 1.03 | AF12: =ROUND(X12*Y12*Z12*AA12*AB12*AC12*AD12*AE12,3) -> 0.884 | AG12: 1 | AH12: =ROUND(W12*AF12*AG12,2) -> 26.6 | AI12: =AH12/$AH$5 -> 0.038332949
A13: 2 | B13: =Функции!C8 -> Модуль «Учет абонентов» (этап 2) | C13: =Функции!D8 -> 0 | D13: =Функции!E8 -> 0 | E13: =Функции!F8 -> 3 | F13: =Функции!G8 -> 0 | G13: =Функции!H8 -> 20 | H13: =Функции!I8 -> 0 | I13: =Функции!J8 -> 0 | J13: =Функции!K8 -> 0 | K13: =SUM(C13:J13) -> 23 | L13: =C13*11 -> 0 | M13: =D13*6 -> 0 | N13: =E13*5 -> 15 | O13: =F13*5 -> 0 | P13: =G13*4 -> 80 | Q13: =H13*4 -> 0 | R13: =I13*2 -> 0 | S13: =J13*1 -> 0 | T13: =SUM(L13:S13) -> 95 | U13: язык высокого уровня | V13: 0.255 | W13: =ROUND(POWER(T13,0.94)*V13,2) -> 18.43 | X13: 1 | Y13: 1.07 | Z13: 0.95 | AA13: 1.15 | AB13: 1 | AC13: 0.87 | AD13: 0.97 | AE13: 1.03 | AF13: =ROUND(X13*Y13*Z13*AA13*AB13*AC13*AD13*AE13,3) -> 1.016 | AG13: 1 | AH13: =ROUND(W13*AF13*AG13,2) -> 18.72 | AI13: =AH13/$AH$5 -> 0.026977173
A14: 3 | B14: =Функции!C9 -> Модуль «Центральная база данных» (этап 2) | C14: =Функции!D9 -> 13 | D14: =Функции!E9 -> 0 | E14: =Функции!F9 -> 13 | F14: =Функции!G9 -> 0 | G14: =Функции!H9 -> 0 | H14: =Функции!I9 -> 0 | I14: =Функции!J9 -> 0 | J14: =Функции!K9 -> 0 | K14: =SUM(C14:J14) -> 26 | L14: =C14*11 -> 143 | M14: =D14*6 -> 0 | N14: =E14*5 -> 65 | O14: =F14*5 -> 0 | P14: =G14*4 -> 0 | Q14: =H14*4 -> 0 | R14: =I14*2 -> 0 | S14: =J14*1 -> 0 | T14: =SUM(L14:S14) -> 208 | U14: язык высокого уровня | V14: 0.255 | W14: =ROUND(POWER(T14,0.94)*V14,2) -> 38.51 | X14: 1 | Y14: 1.07 | Z14: 0.95 | AA14: 1.15 | AB14: 1 | AC14: 0.87 | AD14: 0.97 | AE14: 1.03 | AF14: =ROUND(X14*Y14*Z14*AA14*AB14*AC14*AD14*AE14,3) -> 1.016 | AG14: 1 | AH14: =ROUND(W14*AF14*AG14,2) -> 39.13 | AI14: =AH14/$AH$5 -> 0.056389786
A15: 4 | B15: =Функции!C10 -> Модуль «Информационное взаимодействие» (этап 2) | C15: =Функции!D10 -> 4 | D15: =Функции!E10 -> 2 | E15: =Функции!F10 -> 1 | F15: =Функции!G10 -> 0 | G15: =Функции!H10 -> 2 | H15: =Функции!I10 -> 0 | I15: =Функции!J10 -> 0 | J15: =Функции!K10 -> 0 | K15: =SUM(C15:J15) -> 9 | L15: =C15*11 -> 44 | M15: =D15*6 -> 12 | N15: =E15*5 -> 5 | O15: =F15*5 -> 0 | P15: =G15*4 -> 8 | Q15: =H15*4 -> 0 | R15: =I15*2 -> 0 | S15: =J15*1 -> 0 | T15: =SUM(L15:S15) -> 69 | U15: язык высокого уровня | V15: 0.255 | W15: =ROUND(POWER(T15,0.94)*V15,2) -> 13.65 | X15: 1 | Y15: 1.07 | Z15: 0.95 | AA15: 1 | AB15: 1 | AC15: 0.87 | AD15: 1 | AE15: 1.05 | AF15: =ROUND(X15*Y15*Z15*AA15*AB15*AC15*AD15*AE15,3) -> 0.929 | AG15: 1 | AH15: =ROUND(W15*AF15*AG15,2) -> 12.68 | AI15: =AH15/$AH$5 -> 0.018273
A16: 5 | B16: Прочие задачи | K16: 142 | AH16: =ROUND(SUM(AH12:AH15,AH7:AH9)/C20*K16, 2) -> 253.31 | AI16: =AH16/$AH$5 -> 0.36504208
B17: Итого прочие задачи | K17: =SUM(K10,K16) -> 283 | AH17: =SUM(AH10,AH16) -> 504.83
C19: Количество работ, шт. | D19: % от работ по этапу
B20: Количество работ по ТЗ | C20: 106 | D20: =C20/C22 -> 0.27249357 | AE20: `
B21: Количество работ по ЧТЗ (по заявкам) | C21: 283 | D21: =C21/C22 -> 0.72750643
B22: Общее количество работ | C22: =C21+C20 -> 389 | D22: =C22/C22 -> 1

Sheet Трудоемкость
A1: Выполнение работ по созданию специального программного обеспечения информационной системы «Паноптикум»
A3: № | B3: Наименование подсистем ИС | C3: Количество функций обработки информации (Фi) | L3: Количество функциональных точек (ФТi) | U3: Способ реализации (уровень языка разработки) | V3: К-нт преобраз. ФТ в БТ | W3: Базовые трудозатраты, чел.-мес. | X3: Коэффициенты трудоемкости | AG3: КППК | AH3: Общие расчетные трудозатраты, чел.-мес. (рассчитаны по этапам) | AI3: Процент общих расчетных трудозатрат, %
C4: Ф1 | D4: Ф2 | E4: Ф3 | F4: Ф4 | G4: Ф5 | H4: Ф6 | I4: Ф7 | J4: Ф8 | K4: ИТОГО | L4: ФТ1 | M4: ФТ2 | N4: ФТ3 | O4: ФТ4 | P4: ФТ5 | Q4: ФТ6 | R4: ФТ7 | S4: ФТ8 | T4: ИТОГО | X4: МТ1 | Y4: МТ2 | Z4: МТ3 | AA4: МТ4 | AB4: МТ5 | AC4: МТ6 | AD4: МТ7 | AE4: МТ8
B5: Выполнение работ по созданию специального программного обеспечения информационной системы «Паноптикум» | C5: =SUM(C6:C9) -> 48 | D5: =SUM(D6:D9) -> 2 | E5: =SUM(E6:E9) -> 48 | F5: =SUM(F6:F9) -> 0 | G5: =SUM(G6:G9) -> 62 | H5: =SUM(H6:H9) -> 0 | I5: =SUM(I6:I9) -> 0 | J5: =SUM(J6:J9) -> 0 | K5: =SUM(K6:K10) -> 546 | L5: =SUM(L6:L9) -> 528 | M5: =SUM(M6:M9) -> 12 | N5: =SUM(N6:N9) -> 240 | O5: =SUM(O6:O9) -> 0 | P5: =SUM(P6:P9) -> 248 | Q5: =SUM(Q6:Q9) -> 0 | R5: =SUM(R6:R9) -> 0 | S5: =SUM(S6:S9) -> 0 | T5: =SUM(T6:T9) -> 1028 | U5: язык высокого уровня | V5: 0.255 | W5: =SUM(W6:W9) -> 192.25 | AH5: =SUM(AH6:AH10) -> 693.92 | AI5: =SUM(AI6:AI10) -> 1
A6: 1 | B6: Модуль "Нормативно-справочная информация" | C6: =SUM(Функции!D4,Функции!D7) -> 10 | D6: =SUM(Функции!E4,Функции!E7) -> 0 | E6: =SUM(Функции!F4,Функции!F7) -> 10 | F6: =SUM(Функции!G4,Функции!G7) -> 0 | G6: =SUM(Функции!H4,Функции!H7) -> 10 | H6: =SUM(Функции!I4,Функции!I7) -> 0 | I6: =SUM(Функции!J4,Функции!J7) -> 0 | J6: =SUM(Функции!K4,Функции!K7) -> 0 | K6: =SUM(C6:J6) -> 30 | L6: =C6*11 -> 110 | M6: =D6*6 -> 0 | N6: =E6*5 -> 50 | O6: =F6*5 -> 0 | P6: =G6*4 -> 40 | Q6: =H6*4 -> 0 | R6: =I6*2 -> 0 | S6: =J6*1 -> 0 | T6: =SUM(L6:S6) -> 200 | U6: язык высокого уровня | V6: 0.255 | W6: =SUM('Трудоемкость (2)'!W7,'Трудоемкость (2)'!W12) -> 38.26 | X6: 1 | Y6: 1.07 | Z6: 0.95 | AA6: 1 | AB6: 1 | AC6: 0.87 | AD6: 0.97 | AE6: 1.03 | AF6: =ROUND(X6*Y6*Z6*AA6*AB6*AC6*AD6*AE6,3) -> 0.884 | AG6: 1 | AH6: =ROUND(W6*AF6*AG6,2) -> 33.82 | AI6: =AH6/$AH$5 -> 0.048737607
A7: 2 | B7: Модуль "Учет абонентов" | C7: =SUM(Функции!D5,Функции!D8) -> 0 | D7: =SUM(Функции!E5,Функции!E8) -> 0 | E7: =SUM(Функции!F5,Функции!F8) -> 3 | F7: =SUM(Функции!G5,Функции!G8) -> 0 | G7: =SUM(Функции!H5,Функции!H8) -> 50 | H7: =SUM(Функции!I5,Функции!I8) -> 0 | I7: =SUM(Функции!J5,Функции!J8) -> 0 | J7: =SUM(Функции!K5,Функции!K8) -> 0 | K7: =SUM(C7:J7) -> 53 | L7: =C7*11 -> 0 | M7: =D7*6 -> 0 | N7: =E7*5 -> 15 | O7: =F7*5 -> 0 | P7: =G7*4 -> 200 | Q7: =H7*4 -> 0 | R7: =I7*2 -> 0 | S7: =J7*1 -> 0 | T7: =SUM(L7:S7) -> 215 | U7: язык высокого уровня | V7: 0.255 | W7: =SUM('Трудоемкость (2)'!W8,'Трудоемкость (2)'!W13) -> 41.39 | X7: 1 | Y7: 1.07 | Z7: 0.95 | AA7: 1.15 | AB7: 1 | AC7: 0.87 | AD7: 0.97 | AE7: 1.03 | AF7: =ROUND(X7*Y7*Z7*AA7*AB7*AC7*AD7*AE7,3) -> 1.016 | AG7: 1 | AH7: =ROUND(W7*AF7*AG7,2) -> 42.05 | AI7: =AH7/$AH$5 -> 0.060597763
A8: 3 | B8: Модуль "Центральная база данных" | C8: =SUM(Функции!D6,Функции!D9) -> 34 | D8: =SUM(Функции!E6,Функции!E9) -> 0 | E8: =SUM(Функции!F6,Функции!F9) -> 34 | F8: =SUM(Функции!G6,Функции!G9) -> 0 | G8: =SUM(Функции!H6,Функции!H9) -> 0 | H8: =SUM(Функции!I6,Функции!I9) -> 0 | I8: =SUM(Функции!J6,Функции!J9) -> 0 | J8: =SUM(Функции!K6,Функции!K9) -> 0 | K8: =SUM(C8:J8) -> 68 | L8: =C8*11 -> 374 | M8: =D8*6 -> 0 | N8: =E8*5 -> 170 | O8: =F8*5 -> 0 | P8: =G8*4 -> 0 | Q8: =H8*4 -> 0 | R8: =I8*2 -> 0 | S8: =J8*1 -> 0 | T8: =SUM(L8:S8) -> 544 | U8: язык высокого уровня | V8: 0.255 | W8: =SUM('Трудоемкость (2)'!W9,'Трудоемкость (2)'!W14) -> 98.95 | X8: 1 | Y8: 1.07 | Z8: 0.95 | AA8: 1.15 | AB8: 1 | AC8: 0.87 | AD8: 0.97 | AE8: 1.03 | AF8: =ROUND(X8*Y8*Z8*AA8*AB8*AC8*AD8*AE8,3) -> 1.016 | AG8: 1 | AH8: =ROUNDUP(W8*AF8*AG8,2) -> 100.54 | AI8: =AH8/$AH$5 -> 0.14488702
A9: 4 | B9: Модуль "Информационное взаимодействие" | C9: =Функции!D10 -> 4 | D9: =Функции!E10 -> 2 | E9: =Функции!F10 -> 1 | F9: =Функции!G10 -> 0 | G9: =Функции!H10 -> 2 | H9: =Функции!I10 -> 0 | I9: =Функции!J10 -> 0 | J9: =Функции!K10 -> 0 | K9: =SUM(C9:J9) -> 9 | L9: =C9*11 -> 44 | M9: =D9*6 -> 12 | N9: =E9*5 -> 5 | O9: =F9*5 -> 0 | P9: =G9*4 -> 8 | Q9: =H9*4 -> 0 | R9: =I9*2 -> 0 | S9: =J9*1 -> 0 | T9: =SUM(L9:S9) -> 69 | U9: язык высокого уровня | V9: 0.255 | W9: =SUM('Трудоемкость (2)'!W10,'Трудоемкость (2)'!W15) -> 13.65 | X9: 1 | Y9: 1.07 | Z9: 0.95 | AA9: 1 | AB9: 1 | AC9: 0.87 | AD9: 1 | AE9: 1.05 | AF9: =ROUND(X9*Y9*Z9*AA9*AB9*AC9*AD9*AE9,3) -> 0.929 | AG9: 1 | AH9: =ROUND(W9*AF9*AG9,2) -> 12.68 | AI9: =AH9/$AH$5 -> 0.018273
A10: 5 | B10: Прочие задачи | K10: 386 | AH10: =ROUND(SUM(AH6:AH9)/C18*C19, 2) -> 504.83 | AI10: =AH10/$AH$5 -> 0.72750461
C17: Количество работ, шт. | D17: % от работ по этапу
B18: Количество работ по ТЗ | C18: 106 | D18: =C18/C20 -> 0.27249357 | AE18: `
B19: Количество работ по ЧТЗ (по заявкам) | C19: 283 | D19: =C19/C20 -> 0.72750643
B20: Общее количество работ | C20: =C19+C18 -> 389 | D20: =C20/C20 -> 1

Sheet Расчет развития (2)
A1: Выполнение работ по созданию специального программного обеспечения информационной системы «Паноптикум»
A3: 1. Расчет стоимости единицы трудозатрат
A4: № п/п | B4: Среднемесячная заработная плата по данным Мосстата, руб. | C4: К-нт рентабельности | D4: К-нт доли з/п в себестоимости | E4: Стоимость единицы трудозатрат (чел-мес.), руб.
A5: 1 | B5: 274521.1 | C5: 1.05 | D5: 0.67 | E5: =ROUND(B5/D5*C5,2) -> 430219.63
A7: 2. Расчет стоимости выполненения работ сметным методом по методике ДЭПР Москвы и ДИТ Москвы
A8: Этап | B8: Стоимость единицы трудозатрат (чел-мес.), руб. | C8: Общие расчетные трудозатраты, чел.-месяцев | D8: Общие расчетные трудозатраты, 1 этап чел.-месяцев | E8: Общие расчетные трудозатраты, 2 этап чел.-месяцев
A9: Всего | B9: =E5 -> 430219.63 | C9: =Трудоемкость!AH5 -> 693.92 | D9: ='Трудоемкость (2)'!AH6 -> 343.48 | E9: ='Трудоемкость (2)'!AH11 -> 350.44
A13: Этап | B13: Коэффициент, учитывающий инфляцию в i-й год финансирования, определяемый в размере ½ прогноза индекса потребительских цен | C13: Доля от общих расчетных трудозатрат, % | D13: Стоимость выполнения работ по разработке информационной системы по этапам и годам, (руб.) без НДС | E13: Стоимость выполнения работ по разработке информационной системы по этапам и годам, (руб.) с НДС 22% | F13: НМЦК с учетом Экспертного заключения ГБУ "Аналитический центр" от 27.08.2026 № 1093-5-1-3-270826 с учетом округления, (с НДС 22%), руб. | G13: Максимальный объем финансирования работ, %
A14: 2026 | B14: 1.0275 | C14: =D9/C9 -> 0.49498501 | D14: =ROUND(B9*B14,2)*D9 -> 1.5183556e+08 | E14: =ROUND(ROUND(B9*B14*1.22,2)*D9,2) -> 1.8523939e+08 | F14: ='Титул-свод'!J6 -> 1.847618e+08 | G14: =F14/F16 -> 0.4899044
A15: 2027 | B15: =ROUND(B14*(1+2.05%),4) -> 1.0486 | C15: =E9/C9 -> 0.50501499 | D15: =ROUND(B9*B15*E9,2) -> 1.580934e+08 | E15: =ROUND(ROUND(B9*B15*1.22,2)*E9,2) -> 1.9287395e+08 | F15: ='Титул-свод'!J7 -> 1.9237668e+08 | G15: =F15/F16 -> 0.5100956
E16: =SUM(E14:E15) -> 3.7811334e+08 | F16: =SUM(F14:F15) -> 3.7713848e+08
A18: Прим* среднемесячная заработная плата работников по полному кругу организаций по виду деятельности "Разработка компьютерного программного обеспечения, консультационные услуги в данной области и другие сопутствующие услуги" по данным Управления Федеральной службы государственной статистики по городу Москве и Московской области за год, предшествующий году проведения расчета, руб. (январь-декабрь 2025 г.) * При отсутствии данных государственной статистики за год, предшевствующий году проведения расчета - используются данные за последний год, по которому имеются данные государственной статистики

Sheet Расчет развития
A1: Выполнение работ по созданию специального программного обеспечения информационной системы «Паноптикум»
A3: 1. Расчет стоимости единицы трудозатрат
A4: № п/п | B4: Среднемесячная заработная плата по данным Мосстата, руб. | C4: К-нт рентабельности | D4: К-нт доли з/п в себестоимости | E4: Стоимость единицы трудозатрат (чел-мес.), руб.
A5: 1 | B5: 274521.1 | C5: 1.05 | D5: 0.67 | E5: =ROUND(B5/D5*C5,2) -> 430219.63
A7: 2. Расчет стоимости выполненения работ сметным методом по методике ДЭПР Москвы и ДИТ Москвы
A8: Этап | B8: Стоимость единицы трудозатрат (чел-мес.), руб. | C8: Общие расчетные трудозатраты, чел.-месяцев
A9: Всего | B9: =E5 -> 430219.63 | C9: =Трудоемкость!AH5 -> 693.92
A13: Этап | B13: Коэффициент, учитывающий инфляцию в i-й год финансирования, определяемый в размере ½ прогноза индекса потребительских цен | C13: Доля от общих расчетных трудозатрат, % | D13: Стоимость выполнения работ по разработке информационной системы по этапам и годам, (руб.) без НДС | E13: Стоимость выполнения работ по разработке информационной системы по этапам и годам, (руб.) с НДС 22% | F13: ='Расчет развития (2)'!F13:F16 -> НМЦК с учетом Экспертного заключения ГБУ "Аналитический центр" от 27.08.2026 № 1093-5-1-3-270826 с учетом округления, (с НДС 22%), руб. | G13: Максимальный объем финансирования работ, %
A14: 2026 | B14: 1.0275 | C14: 0.49498502 | D14: =ROUND(B9*C9*B14*C14,2) -> 1.5183556e+08 | E14: =ROUND(D14*1.22,2) -> 1.8523939e+08 | F14: ='Расчет развития (2)'!F14 -> 1.847618e+08 | G14: ='Расчет развития (2)'!G14 -> 0.4899044
A15: 2027 | B15: =ROUND(B14*(1+2.05%),4) -> 1.0486 | C15: 0.50501499 | D15: =ROUND(B9*C9*B15*C15,2) -> 1.580934e+08 | E15: =ROUND(D15*1.22,2) -> 1.9287395e+08 | F15: ='Расчет развития (2)'!F15 -> 1.9237668e+08 | G15: ='Расчет развития (2)'!G15 -> 0.5100956
E16: =SUM(E14:E15) -> 3.7811334e+08 | F16: ='Расчет развития (2)'!F16 -> 3.7713848e+08
A18: Прим* среднемесячная заработная плата работников по полному кругу организаций по виду деятельности "Разработка компьютерного программного обеспечения, консультационные услуги в данной области и другие сопутствующие услуги" по данным Управления Федеральной службы государственной статистики по городу Москве и Московской области за год, предшествующий году проведения расчета, руб. (январь-декабрь 2025 г.) * При отсутствии данных государственной статистики за год, предшевствующий году проведения расчета - используются данные за последний год, по которому имеются данные государственной статистики

Sheet Коэффициенты
A1: 1. Коэффициент трудоемкости «Требуемая надежность информационной системы» (МТ1)
A2: Коэффициент определяется по ИС в целом
A4: Тип разрабатываемой ИС | B4: отраслевая ИС | C4: общегородская ИС | D4: критичная ИС
A5: Значение коэффициента трудоемкости (МТ1) | B5: 0.9 | C5: 1 | D5: 1.15
A7: 2. Коэффициент трудоемкости «Среда разработки» (МТ2)
A8: Коэффициент определяется по ИС в целом
A10: Количество сред разработки | B10: 2 среды | C10: 3 среды | D10: 4 среды
A11: Значение коэффициента трудоемкости (МТ2) | B11: 0.93 | C11: 1 | D11: 1.07
A13: 3. Коэффициент трудоемкости «Интеграции с внешними системами» (МТ3)
A14: Коэффициент определяется по ИС в целом
A16: Количество интеграций | B16: менее 10 | C16: от 10 до 20 | D16: свыше 20
A18: Значение коэффициента трудоемкости (МТ3) | B18: 0.95 | C18: 1 | D18: 1.05
A20: 4. Коэффициент трудоемкости «Сложность информационной системы» (МТ4)
A21: Коэффициент определяется отдельно по каждой из подсистем ИС
A23: Класс разрабатываемой ИС | B23: информационно-поисковая (реестр, регистр и др.) | C23: обеспечения деятельности ОИВ, портал, прочая | D23: информационно-аналитическая, управляющая
A24: Значение коэффициента трудоемкости (МТ4) | B24: 0.85 | C24: 1 | D24: 1.15
A26: 5. Коэффициент трудоемкости «Размещение компонент на мобильных устройствах» (МТ5)
A27: Коэффициент определяется отдельно по каждой из подсистем ИС
A29: Использование подсистемой мобильных устройств | B29: не предусматривается | C29: предусматривается
A31: Значение коэффициента трудоемкости (МТ5) | B31: 1 | C31: 1.07
A33: 6. Коэффициент трудоемкости «Частота обновления платформы» (МТ6)
A34: Коэффициент определяется отдельно по каждой из подсистем ИС
A36: Выход обновления ОС либо СУБД | B36: реже чем 1 раз в 12 месяцев | C36: от 1 раза в 12 месяцев до 1 раза в 6 месяцев | D36: чаще чем 1 раз в 6 месяцев
A37: Значение коэффициента трудоемкости (МТ6) | B37: 0.87 | C37: 1 | D37: 1.15
A39: 7. Коэффициент трудоемкости «Новизна информационной системы» (МТ7)
A40: Коэффициент определяется отдельно по каждой из подсистем ИС
A42: Характер выполняемых работ | B42: развитие и/или модернизация подсистем действующей ИС | C42: создание новых подсистем действующей ИС | D42: создание новой ИС
A43: Значение коэффициента трудоемкости (МТ7) | B43: 0.97 | C43: 1 | D43: 1.04
A46: 8. Коэффициент трудоемкости «Сложность аналитической деятельности и проектирования» (МТ8)
A47: Коэффициент определяется отдельно по каждой из подсистем ИС
A49: Сложность аналитической деятельности и проектирования | B49: Не требуется | C49: Наличие модели архитектуры (или новая подсистема) | D49: Отсутствие модели архитектуры
A50: Значение коэффициента трудоемкости (МТ8) | B50: 1 | C50: 1.03 | D50: 1.05

Sheet Показатели для расчета
A1: Выполнение работ по созданию специального программного обеспечения информационной системы «Паноптикум»
A2: Интеграции с внешними системами | B2: нет
A3: Тип Системы | B3: общегородская ИС
A4: Класс разрабатываемой ИС | B4: информационно-аналитическая, управляющая
A5: Частота обновления платформы (Выход обновления ОС либо СУБД): | B5: реже чем 1 раз в 12 месяцев
