Workbook
Name _ftn1: Трудоемкость!#REF!
Name _ftnref1: Трудоемкость!#REF!
Name _GoBack: Трудоемкость!#REF!
Name _Toc424036212: Трудоемкость!#REF!

Sheet Свод по годам
B2: Выполнение работ по модернизации информационной системы единый сервис идентификации пользователей (ИС ЕСИП) и поддержание ее работоспособности в 2026-2028 годах
B3: № этапа | C3: Год | D3: Наименование работ | E3: Расчетная начальная (максимальная) цена контракта, руб., в том числе НДС 22% | F3: Начальная (максимальная) цена контракта с учетом снижения по решению заказчика, руб. в том числе НДС 22% | G3: Начальная (максимальная) цена контракта с учетом рекомендаций ГБУ "Аналитический центр", руб. в том числе НДС 22%
C4: Всего, в т.ч. по годам: | E4: =SUM(E5:E12) -> 1.438645e+08 | F4: =SUM(F5:F12) -> 1.438645e+08 | G4: 1.438645e+08
B5: 1 | C5: 2026 | D5: Работы по модернизации информационных систем и ресурсов | E5: 21622306 | F5: ='Расчет развития'!J21 -> 21622306 | G5: 21622306
B6: 2 | C6: 2027 | D6: Работы по модернизации информационных систем и ресурсов | E6: 43201621 | F6: ='Расчет развития'!J22 -> 43201621 | G6: 43201621
B7: 3 | C7: 2028 | D7: Работы по модернизации информационных систем и ресурсов | E7: 21997367 | F7: ='Расчет развития'!J23 -> 21997367 | G7: 21997367
B8: 4 | D8: Работы по модернизации информационных систем и ресурсов
B9: 5 | C9: 2026 | D9: Сопровождение информационных систем и ресурсов | E9: 57043.2 | F9: 57043.2 | G9: 57043.2
B10: 6 | C10: 2026 | D10: Сопровождение информационных систем и ресурсов | E10: 2261271.6 | F10: 2261271.6 | G10: 2261271.6
C11: 2027 | D11: Сопровождение информационных систем и ресурсов | E11: 28785384 | F11: 28785384 | G11: 28785384
C12: 2028 | D12: Сопровождение информационных систем и ресурсов | E12: 25939509 | F12: 25939509 | G12: 25939509

Sheet Свод по этапам
K1: Приложение № 2 к Протоколу начальной (максимальной) цены контракта (цены лота)
A3: Расчет начальной (максимальной) цены контракта (цены лота) - СВОД
A5: =B8 -> Выполнение работ по модернизации информационной системы единый сервис идентификации пользователей (ИС ЕСИП) и поддержание ее работоспособности в 2026-2028 годах
A7: № | B7: Состав работ | I7: Метод НМЦК | K7: НМЦК (с НДС 22%), руб. | L7: НДС 22%, руб. | M7: Стоимость работ с НДС 22% в соответствии с лимитами бюджетного финансирования на 2027,2028 год, руб. | N7: Процент финансирования
A8: 1 | B8: =Свод!B2 -> Выполнение работ по модернизации информационной системы единый сервис идентификации пользователей (ИС ЕСИП) и поддержание ее работоспособности в 2026-2028 годах | I8: Сметный метод расчет произведен в соответствии с совместным распоряжением Департамента информационных технологий города Москвы и Департамента экономической политики и развития города Москвы от 28.02.2018 № 64-16-89/18/3-р и совместным распоряжением Департамента информационных технологий города Москвы и Департамента экономической политики и развития города Москвы от 21.09.2023 № ДПР-Р-18/23/64-16-504/23 | J8: 1 этап | K8: ='Расчет развития'!H21 -> 21622306 | L8: =M8*22/122 -> 3899104.4 | M8: =K8 -> 21622306 | N8: =M8/$M$18 -> 0.15029633
J9: 2 этап | K9: ='Расчет развития'!H22 -> 43201621 | L9: =M9*22/122 -> 7790456.2 | M9: =K9 -> 43201621 | N9: =M9/$M$18 -> 0.30029382
J10: 3 этап | K10: ='Расчет развития'!J24 -> 10274199 | L10: =M10*22/122 -> 1852724.5 | M10: =K10 -> 10274199 | N10: =M10/$M$18 -> 0.071415805
J11: 4 этап | K11: ='Расчет развития'!J25 -> 11723168 | L11: =M11*22/122 -> 2114013.8 | M11: =K11 -> 11723168 | N11: =M11/$M$18 -> 0.081487563
J12: Итого | K12: =M12 -> 86821294 | L12: =M12*22/122 -> 15656299 | M12: ='Расчет развития'!H24 -> 86821294 | N12: =M12/M18 -> 0.60349351
A13: 2 | I13: Сметный метод расчет произведен в соответствии с совместным распоряжением Департамента информационных технологий города Москвы и Департамента экономической политики и развития города Москвы от 06.11.2019 г.№ 64-16-568/19/17-Р «Об утверждении Порядка расчета планируемой стоимости работ (услуг) по эксплуатации информационных систем и ресурсов города Москвы» | J13: Организация эксплуатационных служб | K13: ='2.Расчет_сопровод'!AI33 -> 57043.2 | L13: =M13*22/122 -> 10286.48 | M13: =K13 -> 57043.2 | N13: =M13/$M$18 -> 0.00039650643
J14: Поддержка пользователей | K14: ='2.Свод сопровод'!I7 -> 18795737 | L14: =M14*22/122 -> 3389395.2 | M14: =K14 -> 18795737 | N14: =M14/$M$18 -> 0.13064889
J15: Прикладное администрирование | K15: ='2.Свод сопровод'!I8 -> 27819973 | L15: =M15*22/122 -> 5016716.4 | M15: =K15 -> 27819973 | N15: =M15/$M$18 -> 0.19337621
J16: Системное администрирование | K16: ='2.Свод сопровод'!I9 -> 10370455 | L16: =M16*22/122 -> 1870082.1 | M16: =K16 -> 10370455 | N16: =M16/$M$18 -> 0.072084879
J17: Итого | K17: ='2.Свод сопровод'!I12 -> 57043208 | L17: =K17*22/122 -> 10286480 | M17: =SUM(M13:M16) -> 57043208 | N17: =M17/M18 -> 0.39650649
L18: ИТОГО: | M18: =M12+M17 -> 1.438645e+08 | N18: =N12+N17 -> 1
L19: НДС 22%: | M19: =M18*22/122 -> 25942779
C24: Консультант по закупкам отдела реализации информационно-аналитического обеспечения Д.В. Путро Начальник Управления по информационно-аналитическому обеспечению А.В. Козыч

Sheet Свод
B2: Выполнение работ по модернизации информационной системы единый сервис идентификации пользователей (ИС ЕСИП) и поддержание ее работоспособности в 2026-2028 годах
B3: № п/п | C3: Наименование работ | E3: Расчетная начальная (максимальная) цена контракта, руб., в том числе НДС 22% | F3: Начальная (максимальная) цена контракта с учетом снижения по решению заказчика, руб. в том числе НДС 22% | H3: Начальная (максимальная) цена контракта с учетом рекомендаций ГБУ "Аналитический центр", руб. в том числе НДС 22%
B5: 1 | C5: Работы по модернизации информационных систем и ресурсов | E5: ='Расчет развития'!E24 -> 86821294 | F5: ='Расчет развития'!H24 -> 86821294 | H5: 86821294
B6: 2 | C6: Сопровождение информационных систем и ресурсов | E6: ='2.Расчет_сопровод'!AI35 -> 57043208 | F6: 57043208 | H6: 57043208
C7: Итого | E7: =SUM(E5:E6) -> 1.438645e+08 | F7: =SUM(F5:G6) -> 1.438645e+08 | H7: 1.438645e+08
B9: Расчетная начальная (максимальная) цена контракта на "Выполнение работ по модернизации информационной системы единый сервис авторизации пользователей (ИС ЕСИП) и поддержание ее работоспособности в 2026-2028 годах", составляет 143 864 502 (Cто сорок три миллиона восемьсот шестьдесят четыре тысячи пятьсот два) рубля 59 копеек, в том числе НДС 22%.
B11: С учетом снижения по решению Заказчика в целях экономии бюджетных средств на основании полученного коммерческого предложения НМЦК принимается в размере 143 864 502 (Cто сорок три миллиона восемьсот шестьдесят четыре тысячи пятьсот два) рубля 27 копеек, в том числе НДС 22%, начальная (максимальная) цена контракта на "Выполнение работ по модернизации информационной системы единый сервис авторизации пользователей (ИС ЕСИП) и поддержание ее работоспособности в 2026-2028 годах" принята равной 143 864 502 (Cто сорок три миллиона восемьсот шестьдесят четыре тысячи пятьсот два) рубля 27 копеек, в том числе НДС 22%.
B13: С учетом положительного экспертного заключения ГБУ "Аналитический центр" от 18.08.2026 № 1003-5-1-3-180826 начальная (максимальная) цена контракта на "Выполнение работ по модернизации информационной системы единый сервис авторизации пользователей (ИС ЕСИП) и поддержание ее работоспособности в 2026-2028 годах" принята равной 143 864 502 (Cто сорок три миллиона восемьсот шестьдесят четыре тысячи пятьсот два) рубля 27 копеек, в том числе НДС 22%.

Sheet Функции
A1: № п/п | B1: Наименование выполняемых работ /подсистем ИС | C1: Количество функций обработки информации (Фi) | K1: Проверка
C2: Внутренние логические файлы Ф1 | D2: Внешние интерфейсные файлы Ф2 | E2: Внешние входные элементы Ф3 | F2: Внешние выходные элементы и обработка информации Ф4 | G2: Внешние запросы Ф5 | H2: Развитие функций хранения информации и интеграций Ф6 | I2: Развитие функций ввода-вывода информации Ф7 | J2: Функции повышения удобства использования Ф8
B3: Выполнение работ по модернизации информационной системы единый сервис идентификации пользователей (ИС ЕСИП) и поддержание ее работоспособности в 2026-2028 годах | C3: =C4+C37+C49+C57+C59+C63+C66+C69 -> 3 | D3: =D4+D37+D49+D57+D59+D63+D66+D69 -> 0 | E3: =E4+E37+E49+E57+E59+E63+E66+E69 -> 3 | F3: =F4+F37+F49+F57+F59+F63+F66+F69 -> 16 | G3: =G4+G37+G49+G57+G59+G63+G66+G69 -> 7 | H3: =H4+H37+H49+H57+H59+H63+H66+H69 -> 36 | I3: =I4+I37+I49+I57+I59+I63+I66+I69 -> 0 | J3: =J4+J37+J49+J57+J59+J63+J66+J69 -> 0 | K3: =K4+K37+K49+K57+K59+K63+K66+K69 -> 65
A4: 1 | B4: Подсистема идентификации и предоставления доступа | C4: =SUM(C5:C36) -> 1 | D4: =SUM(D5:D36) -> 0 | E4: =SUM(E5:E36) -> 0 | F4: =SUM(F5:F36) -> 3 | G4: =SUM(G5:G36) -> 3 | H4: =SUM(H5:H36) -> 25 | I4: =SUM(I5:I36) -> 0 | J4: =SUM(J5:J36) -> 0 | K4: =SUM(K5:K36) -> 32
A5: 3.2.1.1.1 | B5: Предоставление механизмов делегированной аутентификации пользователей для ИС Концессия через ЕСИП по протоколу OAuth 2.0 / OIDC — адаптация существующих механизмов аутентификации для интеграции новой системы | H5: 1 | K5: =SUM(C5:J5) -> 1
A6: 3.2.1.1.2 | B6: Предоставление механизмов делегированной аутентификации пользователей для ИС Мои совещания через ЕСИП по протоколу OAuth 2.0 / OIDC — адаптация существующих механизмов аутентификации для интеграции новой системы | H6: 1 | K6: =SUM(C6:J6) -> 1
A7: 3.2.1.1.3 | B7: Предоставление механизмов делегированной аутентификации пользователей для ИС СДО через ЕСИП по протоколу OAuth 2.0 / OIDC — адаптация существующих механизмов аутентификации для интеграции новой системы | H7: 1 | K7: =SUM(C7:J7) -> 1
A8: 3.2.1.1.4 | B8: Предоставление механизмов делегированной аутентификации пользователей для АИС Москва.Река через ЕСИП по протоколу OAuth 2.0 / OIDC — адаптация существующих механизмов аутентификации для интеграции новой системы | H8: 1 | K8: =SUM(C8:J8) -> 1
A9: 3.2.1.1.5 | B9: Предоставление механизмов делегированной аутентификации пользователей для ИАС ИАС МПС через ЕСИП по протоколу OAuth 2.0 / OIDC — адаптация существующих механизмов аутентификации для интеграции новой системы | H9: 1 | K9: =SUM(C9:J9) -> 1
A10: 3.2.1.1.6 | B10: Предоставление функции управления профилями и учетными записями пользователей для внешней системы Концессия на базе единой учетной записи ЕСИП | H10: 1 | K10: =SUM(C10:J10) -> 1
A11: 3.2.1.1.7 | B11: Предоставление функции управления профилями и учетными записями пользователей для внешней системы Мои совещания на базе единой учетной записи ЕСИП — адаптация существующих механизмов для интеграции новой системы | H11: 1 | K11: =SUM(C11:J11) -> 1
A12: 3.2.1.1.8 | B12: Предоставление функции управления профилями и учетными записями пользователей для внешней системы СДО на базе единой учетной записи ЕСИП — адаптация существующих механизмов для интеграции новой системы | H12: 1 | K12: =SUM(C12:J12) -> 1
A13: 3.2.1.1.9 | B13: Предоставление функции управления профилями и учетными записями пользователей для внешней АИС Москва.Река на базе единой учетной записи ЕСИП — адаптация существующих механизмов для интеграции новой системы | H13: 1 | K13: =SUM(C13:J13) -> 1
A14: 3.2.1.1.10 | B14: Предоставление функции управления профилями и учетными записями пользователей для внешней ИАС МПС на базе единой учетной записи ЕСИП — адаптация существующих механизмов для интеграции новой системы | H14: 1 | K14: =SUM(C14:J14) -> 1
A15: 3.2.1.1.11 | B15: Управление доступами пользователей к системе Концессия на базе единой учетной записи ЕСИП — адаптация существующих механизмов для интеграции новой системы | H15: 1 | K15: =SUM(C15:J15) -> 1
A16: 3.2.1.1.12 | B16: Управление доступами пользователей к системе Мои совещания на базе единой учетной записи ЕСИП — адаптация существующих механизмов для интеграции новой системы | H16: 1 | K16: =SUM(C16:J16) -> 1
... A29: 3.2.1.1.25 | B29: Передача во внешнюю ИАС МПС атрибутов пользователей из ЕСИП и сведений о правах доступа пользователей ЕСИП в этой системе — адаптация существующих механизмов для интеграции новой системы. | H29: 1 | K29: =SUM(C29:J29) -> 1
A30: 3.2.1.1.26 | B30: Выпуск аутентификаторов пользователей в виде TOTP — реализация управляющей логики процесса | C30: 1 | K30: =SUM(C30:J30) -> 1
A31: 3.2.1.1.27 | B31: Привязка TOTP к учетной записи ЕСИП с помощью QR-кодов, для использования с совместимыми приложениями для генерации TOTP — формирование QR-кода и отображение пользователю на экране | F31: 1 | K31: =SUM(C31:J31) -> 1
A32: 3.2.1.1.28 | B32: Проверка наличия привязки TOTP пользователя в сценарии аутентификации — реализация управляющей логики процесса | G32: 1 | K32: =SUM(C32:J32) -> 1
A33: 3.2.1.1.29 | B33: Подтверждение аутентификации с помощью TOTP в качестве второго фактора при входе пользователя в защищаемые приложения с учетной записью ЕСИП — реализация управляющей логики процесса | G33: 1 | K33: =SUM(C33:J33) -> 1
A34: 3.2.1.1.30 | B34: Ограничение количества неверных попыток ввода TOTP — подсчёт неверных попыток с сохранением счётчика в БД | G34: 1 | K34: =SUM(C34:J34) -> 1
A35: 3.2.1.1.31 | B35: Временная блокировка учетной записи при достижении лимита попыток ввода TOTP с сохранением блокировки в БД ЕСИП | F35: 1 | K35: =SUM(C35:J35) -> 1
A36: 3.2.1.1.32 | B36: Удаление (сброс, замена) ранее выпущенных аутентификаторов TOTP с сохранением в БД ЕСИП | F36: 1 | K36: =SUM(C36:J36) -> 1
A37: 2 | B37: Подсистема контекстной авторизации | C37: =SUM(C38:C48) -> 0 | D37: =SUM(D38:D48) -> 0 | E37: =SUM(E38:E48) -> 0 | F37: =SUM(F38:F48) -> 0 | G37: =SUM(G38:G48) -> 0 | H37: =SUM(H38:H48) -> 11 | I37: =SUM(I38:I48) -> 0 | J37: =SUM(J38:J48) -> 0 | K37: =SUM(K38:K48) -> 11
A38: 3.2.1.2.1 | B38: Принятие решения о доступе пользователя к ресурсу на основе правил (политик) — приращение функции путем создания политики доступа для поддержки новой интегрируемой системы Концессия | H38: 1 | K38: =SUM(C38:J38) -> 1
A39: 3.2.1.2.2 | B39: Принятие решения о доступе пользователя к ресурсу на основе правил (политик) — приращение функции путем создания политики доступа для поддержки новой интегрируемой системы Мои совещания | H39: 1 | K39: =SUM(C39:J39) -> 1
A40: 3.2.1.2.3 | B40: Принятие решения о доступе пользователя к ресурсу на основе правил (политик) — приращение функции путем создания политики доступа для поддержки новой интегрируемой системы СДО | H40: 1 | K40: =SUM(C40:J40) -> 1
A41: 3.2.1.2.4 | B41: Принятие решения о доступе пользователя к ресурсу на основе правил (политик) — приращение функции путем создания политики доступа для поддержки новой интегрируемой системы АИС Москва.Река | H41: 1 | K41: =SUM(C41:J41) -> 1
A42: 3.2.1.2.5 | B42: Принятие решения о доступе пользователя к ресурсу на основе правил (политик) — приращение функции путем создания политики доступа для поддержки новой интегрируемой системы ИАС МПС | H42: 1 | K42: =SUM(C42:J42) -> 1
A43: 3.2.1.2.6 | B43: Принятие решения о доступе пользователя к ресурсу на основе правил (политик) — приращение функции путем создания политики доступа, разрешающей вход пользователя в личный кабинет с учетной записью ЕСИП без проверки второго фактора аутентификации до момента подключения им второго фактора | H43: 1 | K43: =SUM(C43:J43) -> 1
A44: 3.2.1.2.7 | B44: Принятие решения о доступе пользователя к ресурсу на основе правил (политик) — приращение функции путем создания политики доступа, разрешающей или запрещающей вход пользователя в личный кабинет независимо от наличия подключенного TOTP при прохождении им идентификации посредством СУДИР («войти через СУДИР») | H44: 1 | K44: =SUM(C44:J44) -> 1
A45: 3.2.1.2.8 | B45: Принятие решения о доступе пользователя к ресурсу на основе правил (политик) — приращение функции путем создания политики доступа, запрещающей вход в защищаемые приложения с учетной записью ЕСИП без прохождения проверки TOTP | H45: 1 | K45: =SUM(C45:J45) -> 1
A46: 3.2.1.2.9 | B46: Принятие решения о доступе пользователя к ресурсу на основе правил (политик) — приращение функции путем создания политики доступа, разрешающей вход в защищаемые приложения с учетной записью ЕСИП без прохождения проверки TOTP | H46: 1 | K46: =SUM(C46:J46) -> 1
A47: 3.2.1.2.10 | B47: Принятие решения о доступе пользователя к ресурсу на основе правил (политик) — приращение функции путем создания политики доступа, разрешающей или запрещающей вход пользователя в защищаемые приложения независимо от наличия подключенного TOTP - при прохождении им идентификации посредством СУДИР («войти через СУДИР») | H47: 1 | K47: =SUM(C47:J47) -> 1
A48: 3.2.1.2.11 | B48: создание политики доступа, разрешающей вход в защищаемые приложения с учетной записью ЕСИП без создания политики доступа, разрешающей или запрещающей вход пользователя в защищаемые приложения независимо от наличия подключенного TOTP - при прохождении им идентификации посредством СУДИР («войти через СУДИР»). | H48: 1 | K48: =SUM(C48:J48) -> 1
A49: 3 | B49: Подсистема хранения и управления данными | C49: =SUM(C50:C56) -> 0 | D49: =SUM(D50:D56) -> 0 | E49: =SUM(E50:E56) -> 1 | F49: =SUM(F50:F56) -> 6 | G49: =SUM(G50:G56) -> 0 | H49: =SUM(H50:H56) -> 0 | I49: =SUM(I50:I56) -> 0 | J49: =SUM(J50:J56) -> 0 | K49: =SUM(K50:K56) -> 7
A50: 3.2.1.3.1 | B50: Хранение в БД ЕСИП настроек второго фактора, выставленных пользователем | E50: 1 | K50: =SUM(C50:J50) -> 1
A51: 3.2.1.3.2 | B51: Хранение в БД ЕСИП выпущенных аутентификаторов TOTP пользователя | F51: 1 | K51: =SUM(C51:J51) -> 1
A52: 3.2.1.3.3 | B52: Перенос существующих пользователей системы Концессия из файла с созданием или обновлением пользователей и назначением прав доступа — чтение, преобразование и загрузка данных в ЕСИП | F52: 1 | K52: =SUM(C52:J52) -> 1
...

Sheet Трудоемкость
A1: Выполнение работ по модернизации __
A2: № | B2: Наименование выполняемых работ /модулей ИС | C2: Количество функций обработки информации (Фi) | L2: Количество функциональных точек (ФТi) | U2: Способ реализации (уровень языка разработки) | V2: К-нт преобраз. ФТ в БТ | W2: Базовые трудозатраты | X2: Коэффициенты трудоемкости | AG2: КППК | AH2: Общие расчетные трудозатраты, чел.-мес. | AI2: Процент от общих расчетных трудозатрат
C3: Ф1 | D3: Ф2 | E3: Ф3 | F3: Ф4 | G3: Ф5 | H3: Ф6 | I3: Ф7 | J3: Ф8 | K3: ИТОГО | L3: ФТ1 | M3: ФТ2 | N3: ФТ3 | O3: ФТ4 | P3: ФТ5 | Q3: ФТ6 | R3: ФТ7 | S3: ФТ8 | T3: ИТОГО | X3: МТ1 | Y3: МТ2 | Z3: МТ3 | AA3: МТ4 | AB3: МТ5 | AC3: МТ6 | AD3: МТ7 | AE3: МТ8
B4: =Функции!B3 -> Выполнение работ по модернизации информационной системы единый сервис идентификации пользователей (ИС ЕСИП) и поддержание ее работоспособности в 2026-2028 годах | C4: =SUBTOTAL(9,C5:C13) -> 3 | D4: =SUBTOTAL(9,D5:D13) -> 0 | E4: =SUBTOTAL(9,E5:E13) -> 3 | F4: =SUBTOTAL(9,F5:F13) -> 16 | G4: =SUBTOTAL(9,G5:G13) -> 7 | H4: =SUBTOTAL(9,H5:H13) -> 36 | I4: =SUBTOTAL(9,I5:I13) -> 0 | J4: =SUBTOTAL(9,J5:J13) -> 0 | ... T4: =SUBTOTAL(9,T5:T13) -> 300 | W4: =SUM(W5:W13) -> 157.63 | AH4: =SUM(AH5:AH13) -> 158.096 | AI4: 1
A5: 1 | B5: =Функции!B4 -> Подсистема идентификации и предоставления доступа | C5: =Функции!C4 -> 1 | D5: =Функции!D4 -> 0 | E5: =Функции!E4 -> 0 | F5: =Функции!F4 -> 3 | G5: =Функции!G4 -> 3 | H5: =Функции!H4 -> 25 | I5: =Функции!I4 -> 0 | ... K5: =Функции!K4 -> 32 | L5: =C5*11 -> 11 | M5: =D5*6 -> 0 | N5: =E5*5 -> 0 | O5: =F5*5 -> 15 | P5: =G5*4 -> 12 | Q5: =H5*4 -> 100 | R5: =I5*2 -> 0 | S5: =J5*1 -> 0 | T5: =SUM(L5:S5) -> 138 | U5: язык высокого уровня | V5: 0.255 | W5: =ROUND(POWER(T5,0.94)*V5,2) -> 26.18 | X5: =Коэффициенты!C4 -> 1 | Y5: =Коэффициенты!D4 -> 1 | Z5: =Коэффициенты!E4 -> 1 | AA5: =Коэффициенты!F4 -> 1 | AB5: =Коэффициенты!G4 -> 1 | AC5: =Коэффициенты!H4 -> 1 | AD5: =Коэффициенты!I4 -> 0.97 | AE5: =Коэффициенты!J4 -> 1.03 | AF5: =ROUND(X5*Y5*Z5*AA5*AB5*AC5*AD5*AE5,3) -> 0.999 | AG5: 1 | AH5: =ROUND(W5*AF5*AG5,3) -> 26.154 | AI5: =AH5/$AH$4 -> 0.1654
A6: 2 | B6: =Функции!B37 -> Подсистема контекстной авторизации | C6: =Функции!C37 -> 0 | D6: =Функции!D37 -> 0 | E6: =Функции!E37 -> 0 | F6: =Функции!F37 -> 0 | G6: =Функции!G37 -> 0 | H6: =Функции!H37 -> 11 | I6: =Функции!I37 -> 0 | ... K6: =Функции!K37 -> 11 | L6: =C6*11 -> 0 | M6: =D6*6 -> 0 | N6: =E6*5 -> 0 | O6: =F6*5 -> 0 | P6: =G6*4 -> 0 | Q6: =H6*4 -> 44 | R6: =I6*2 -> 0 | S6: =J6*1 -> 0 | T6: =SUM(L6:S6) -> 44 | U6: язык высокого уровня | V6: 0.255 | W6: =ROUND(POWER(T6,0.94)*V6,2) -> 8.94 | X6: =Коэффициенты!C5 -> 1 | Y6: =Коэффициенты!D5 -> 1 | Z6: =Коэффициенты!E5 -> 1 | AA6: =Коэффициенты!F5 -> 1 | AB6: =Коэффициенты!G5 -> 1 | AC6: =Коэффициенты!H5 -> 1 | AD6: =Коэффициенты!I5 -> 0.97 | AE6: =Коэффициенты!J5 -> 1.03 | AF6: =ROUND(X6*Y6*Z6*AA6*AB6*AC6*AD6*AE6,3) -> 0.999 | AG6: 1 | AH6: =ROUND(W6*AF6*AG6,3) -> 8.931 | AI6: =AH6/$AH$4 -> 0.0565
A7: 3 | B7: =Функции!B49 -> Подсистема хранения и управления данными | C7: =Функции!C49 -> 0 | D7: =Функции!D49 -> 0 | E7: =Функции!E49 -> 1 | F7: =Функции!F49 -> 6 | G7: =Функции!G49 -> 0 | H7: =Функции!H49 -> 0 | I7: =Функции!I49 -> 0 | ... K7: =Функции!K49 -> 7 | L7: =C7*11 -> 0 | M7: =D7*6 -> 0 | N7: =E7*5 -> 5 | O7: =F7*5 -> 30 | P7: =G7*4 -> 0 | Q7: =H7*4 -> 0 | R7: =I7*2 -> 0 | S7: =J7*1 -> 0 | T7: =SUM(L7:S7) -> 35 | U7: язык высокого уровня | V7: 0.255 | W7: =ROUND(POWER(T7,0.94)*V7,2) -> 7.21 | X7: =Коэффициенты!C6 -> 1 | Y7: =Коэффициенты!D6 -> 1 | Z7: =Коэффициенты!E6 -> 1 | AA7: =Коэффициенты!F6 -> 1 | AB7: =Коэффициенты!G6 -> 1 | AC7: =Коэффициенты!H6 -> 1 | AD7: =Коэффициенты!I6 -> 0.97 | AE7: =Коэффициенты!J6 -> 1.03 | AF7: =ROUND(X7*Y7*Z7*AA7*AB7*AC7*AD7*AE7,3) -> 0.999 | AG7: 1 | AH7: =ROUND(W7*AF7*AG7,3) -> 7.203 | AI7: =AH7/$AH$4 -> 0.0456
A8: 4 | B8: =Функции!B57 -> Подсистема безопасности | C8: =Функции!C57 -> 1 | D8: =Функции!D57 -> 0 | E8: =Функции!E57 -> 0 | F8: =Функции!F57 -> 0 | G8: =Функции!G57 -> 0 | H8: =Функции!H57 -> 0 | I8: =Функции!I57 -> 0 | ... K8: =Функции!K57 -> 1 | L8: =C8*11 -> 11 | M8: =D8*6 -> 0 | N8: =E8*5 -> 0 | O8: =F8*5 -> 0 | P8: =G8*4 -> 0 | Q8: =H8*4 -> 0 | R8: =I8*2 -> 0 | S8: =J8*1 -> 0 | T8: =SUM(L8:S8) -> 11 | U8: язык высокого уровня | V8: 0.255 | W8: =ROUND(POWER(T8,0.94)*V8,2) -> 2.43 | X8: =Коэффициенты!C7 -> 1 | Y8: =Коэффициенты!D7 -> 1 | Z8: =Коэффициенты!E7 -> 1 | AA8: =Коэффициенты!F7 -> 1 | AB8: =Коэффициенты!G7 -> 1 | AC8: =Коэффициенты!H7 -> 1 | AD8: =Коэффициенты!I7 -> 0.97 | AE8: =Коэффициенты!J7 -> 1.03 | AF8: =ROUND(X8*Y8*Z8*AA8*AB8*AC8*AD8*AE8,3) -> 0.999 | AG8: 1 | AH8: =ROUND(W8*AF8*AG8,3) -> 2.428 | AI8: =AH8/$AH$4 -> 0.0154
A9: 5 | B9: =Функции!B59 -> Подсистема интеграции | C9: =Функции!C59 -> 0 | D9: =Функции!D59 -> 0 | E9: =Функции!E59 -> 0 | F9: =Функции!F59 -> 3 | G9: =Функции!G59 -> 0 | H9: =Функции!H59 -> 0 | I9: =Функции!I59 -> 0 | ... K9: =Функции!K59 -> 3 | L9: =C9*11 -> 0 | M9: =D9*6 -> 0 | N9: =E9*5 -> 0 | O9: =F9*5 -> 15 | P9: =G9*4 -> 0 | Q9: =H9*4 -> 0 | R9: =I9*2 -> 0 | S9: =J9*1 -> 0 | T9: =SUM(L9:S9) -> 15 | U9: язык высокого уровня | V9: 0.255 | W9: =ROUND(POWER(T9,0.94)*V9,2) -> 3.25 | X9: =Коэффициенты!C8 -> 1 | Y9: =Коэффициенты!D8 -> 1 | Z9: =Коэффициенты!E8 -> 1 | AA9: =Коэффициенты!F8 -> 1 | AB9: =Коэффициенты!G8 -> 1 | AC9: =Коэффициенты!H8 -> 1 | AD9: =Коэффициенты!I8 -> 0.97 | AE9: =Коэффициенты!J8 -> 1.03 | AF9: =ROUND(X9*Y9*Z9*AA9*AB9*AC9*AD9*AE9,3) -> 0.999 | AG9: 1 | AH9: =ROUND(W9*AF9*AG9,3) -> 3.247 | AI9: =AH9/$AH$4 -> 0.0205
A10: 6 | B10: =Функции!B63 -> Подсистема отображения данных | C10: =Функции!C63 -> 0 | D10: =Функции!D63 -> 0 | E10: =Функции!E63 -> 0 | F10: =Функции!F63 -> 2 | G10: =Функции!G63 -> 0 | H10: =Функции!H63 -> 0 | I10: =Функции!I63 -> 0 | ... K10: =Функции!K63 -> 2 | L10: =C10*11 -> 0 | M10: =D10*6 -> 0 | N10: =E10*5 -> 0 | O10: =F10*5 -> 10 | P10: =G10*4 -> 0 | Q10: =H10*4 -> 0 | R10: =I10*2 -> 0 | S10: =J10*1 -> 0 | T10: =SUM(L10:S10) -> 10 | U10: язык высокого уровня | V10: 0.255 | W10: =ROUND(POWER(T10,0.94)*V10,2) -> 2.22 | X10: =Коэффициенты!C9 -> 1 | Y10: =Коэффициенты!D9 -> 1 | Z10: =Коэффициенты!E9 -> 1 | AA10: =Коэффициенты!F9 -> 1 | AB10: =Коэффициенты!G9 -> 1 | AC10: =Коэффициенты!H9 -> 1 | AD10: =Коэффициенты!I9 -> 0.97 | AE10: =Коэффициенты!J9 -> 1.03 | AF10: =ROUND(X10*Y10*Z10*AA10*AB10*AC10*AD10*AE10,3) -> 0.999 | AG10: 1 | AH10: =ROUND(W10*AF10*AG10,3) -> 2.218 | AI10: =AH10/$AH$4 -> 0.014
A11: 7 | B11: =Функции!B66 -> Подсистема протоколирования | C11: =Функции!C66 -> 0 | D11: =Функции!D66 -> 0 | E11: =Функции!E66 -> 0 | F11: =Функции!F66 -> 2 | G11: =Функции!G66 -> 0 | H11: =Функции!H66 -> 0 | I11: =Функции!I66 -> 0 | ... K11: =Функции!K66 -> 2 | L11: =C11*11 -> 0 | M11: =D11*6 -> 0 | N11: =E11*5 -> 0 | O11: =F11*5 -> 10 | P11: =G11*4 -> 0 | Q11: =H11*4 -> 0 | R11: =I11*2 -> 0 | S11: =J11*1 -> 0 | T11: =SUM(L11:S11) -> 10 | U11: язык высокого уровня | V11: 0.255 | W11: =ROUND(POWER(T11,0.94)*V11,2) -> 2.22 | X11: =Коэффициенты!C10 -> 1 | Y11: =Коэффициенты!D10 -> 1 | Z11: =Коэффициенты!E10 -> 1 | AA11: =Коэффициенты!F10 -> 1 | AB11: =Коэффициенты!G10 -> 1 | AC11: =Коэффициенты!H10 -> 1 | AD11: =Коэффициенты!I10 -> 0.97 | AE11: =Коэффициенты!J10 -> 1.03 | AF11: =ROUND(X11*Y11*Z11*AA11*AB11*AC11*AD11*AE11,3) -> 0.999 | AG11: 1 | AH11: =ROUND(W11*AF11*AG11,3) -> 2.218 | AI11: =AH11/$AH$4 -> 0.014
A12: 8 | B12: =Функции!B69 -> Подсистема самообслуживания | C12: =Функции!C69 -> 1 | D12: =Функции!D69 -> 0 | E12: =Функции!E69 -> 2 | F12: =Функции!F69 -> 0 | G12: =Функции!G69 -> 4 | H12: =Функции!H69 -> 0 | I12: =Функции!I69 -> 0 | ... K12: =Функции!K69 -> 7 | L12: =C12*11 -> 11 | M12: =D12*6 -> 0 | N12: =E12*5 -> 10 | O12: =F12*5 -> 0 | P12: =G12*4 -> 16 | Q12: =H12*4 -> 0 | R12: =I12*2 -> 0 | S12: =J12*1 -> 0 | T12: =SUM(L12:S12) -> 37 | U12: язык высокого уровня | V12: 0.255 | W12: =ROUND(POWER(T12,0.94)*V12,2) -> 7.6 | X12: =Коэффициенты!C11 -> 1 | Y12: =Коэффициенты!D11 -> 1 | Z12: =Коэффициенты!E11 -> 1 | AA12: =Коэффициенты!F11 -> 1 | AB12: =Коэффициенты!G11 -> 1 | AC12: =Коэффициенты!H11 -> 1 | AD12: =Коэффициенты!I11 -> 1 | AE12: =Коэффициенты!J11 -> 1.03 | AF12: =ROUND(X12*Y12*Z12*AA12*AB12*AC12*AD12*AE12,3) -> 1.03 | AG12: 1 | AH12: =ROUND(W12*AF12*AG12,3) -> 7.828 | AI12: =AH12/$AH$4 -> 0.0495
A13: 9 | B13: Прочие доработки (по заявкам) | L13: =C13*11 -> 0 | M13: =D13*6 -> 0 | N13: =E13*5 -> 0 | O13: =F13*5 -> 0 | P13: =G13*4 -> 0 | Q13: =H13*4 -> 0 | R13: =I13*2 -> 0 | S13: =J13*1 -> 0 | T13: =SUM(L13:S13) -> 0 | U13: язык высокого уровня | V13: 0.255 | W13: =ROUND(SUM(W5:W12)/C15*C16,2) -> 97.58 | AF13: =ROUND(X13*Y13*Z13*AA13*AB13*AC13*AD13*AE13,3) -> 0 | AG13: 0 | AH13: =ROUND(SUM(AH5:AH12)/C15*C16,3) -> 97.869 | AI13: =AH13/AH4+0.0001 -> 0.6191
AI14: =SUM(AI5:AI13) -> 1
B15: Количество детализированных задач | C15: 8 | AI15: =SUM(AI5:AI9) -> 0.3034
B16: Количество прочих задач | C16: 13

Sheet Расчет развития
C1: Приложение № 2 к Протоколу начальной (максимальной) цены контракта (цены лота), начальной цены единицы товара, работы, услуги
A3: Определение начальной (максимальной) цены контракта (цены лота)
A5: =Функции!B3 -> Выполнение работ по модернизации информационной системы единый сервис идентификации пользователей (ИС ЕСИП) и поддержание ее работоспособности в 2026-2028 годах
B7: Расчет стоимости единицы трудозатрат
A9: № п/п | B9: Среднемесячная заработная плата по данным Мосстата, руб.* | C9: К-нт рентабельности | D9: К-нт доли з/п в себесто-имости | E9: Стоимость единицы трудозатрат (чел-мес.), руб.
A10: 1 | B10: 274521.1 | C10: 1.05 | D10: 0.67 | E10: =ROUND(B10/D10*C10,2) -> 430219.63
B13: Расчет стоимости выполненения работ по разработке ИС (разбивка трудозатрах по этапам - годам финансирования)
A15: № п/п | B15: Стоимость единицы трудозатрат (чел-мес.), руб. | C15: общие расчетные трудозатраты, чел.-месяцев | D15: 40.095
A16: 1 | B16: =E10 -> 430219.63 | C16: =Трудоемкость!AH4 -> 158.096 | D16: 78.499
B17: ИТОГО: | C17: =SUM(C16) -> 158.096 | D17: 18.45
D18: =C17-D15-D16-D17 -> 21.052 | E18: =ROUND(D17+D18,3) -> 39.502
A20: Год | B20: Коэффициент, учитывающий инфляцию в i-й год финансирования | C20: Доля от общих расчетных трудозатрат в i-й год финансирования, % | D20: Стоимость выполнения работ по разработке информационной системы по годам, (руб.) без НДС | E20: Стоимость выполнения работ по разработке информационной системы по годам, (руб.) с НДС | H20: Стоимость выполнения работ по разработке информационной системы по годам, (руб.) с НДС 22% (с учетом цены за единицу)
A21: 2026 | B21: =1.0275 -> 1.0275 | C21: =D15/$C$16 -> 0.2536 | D21: =ROUND(($B$16*$C$17)*B21*C21,2) -> 17723202 | E21: =ROUND(D21*1.22,2) -> 21622306 | F21: =E24*C21/D15 -> 549142.79 | G21: =ROUND((E21)/(D15),2) -> 539276.87 | H21: =G21*D15 -> 21622306 | I21: =H21/H24 -> 0.24904381 | J21: =ROUND(H24*I21,2) -> 21622306
A22: 2027 | B22: =B21*1.0205 -> 1.0486 | C22: =D16/$C$16 -> 0.4965 | D22: =ROUND(($B$16*$C$17)*B22*C22,2) -> 35411165 | E22: =ROUND(D22*1.22,2) -> 43201621 | F22: =E24*C22/D16 -> 549137.86 | G22: =ROUND((E22)/(D16),2) -> 550346.13 | H22: =G22*D16 -> 43201621 | I22: =H22/H24 -> 0.49759246 | J22: =ROUND(H24*I22,2) -> 43201621
A23: 2028 | B23: =B22*(1+0.02/12*7) -> 1.0608 | C23: =E18/C16 -> 0.2499 | D23: =ROUND(($B$16*$C$17)*B23*C23,2) -> 18030629 | E23: =ROUND(D23*1.22,2) -> 21997367 | F23: =E24*C23/E18 -> 549254.25 | G23: =ROUND((E23)/(D17+D18),2) -> 556867.17 | H23: =ROUND(G23*E18,2) -> 21997367 | I23: =H23/H24 -> 0.25336373 | J23: =ROUND(H24*I23,2) -> 21997367
D24: =SUM(D21:D23) -> 71164995 | E24: =D24*1.22 -> 86821294 | H24: =SUM(H21:H23) -> 86821294 | I24: =#REF!/H24 -> #REF! | J24: =D17*G23 -> 10274199
I25: =#REF!/H24 -> #REF! | J25: =D18*G23 -> 11723168
A28: Консультант по закупкам отдела реализации информационно-аналитического обеспечения Д.В. Путро Начальник Управления по информационно-аналитическому обеспечению А.В. Козыч | I28: =Свод!#REF! -> #REF!

Sheet Коэффициенты
C1: Коэффициенты трудоемкости
A2: № | B2: Наименование выполняемых работ /модулей ИС | C2: МТ1 | D2: МТ2 | E2: МТ3 | F2: МТ4 | G2: МТ5 | H2: МТ6 | I2: МТ7 | J2: МТ8
C3: по ИС в целом | F3: отдельно по каждой из подсистем ИС | K3: Итого
A4: 1 | B4: =Трудоемкость!B5 -> Подсистема идентификации и предоставления доступа | C4: ='Показатели для расчета НМЦК'!D4 -> 1 | D4: ='Показатели для расчета НМЦК'!D6 -> 1 | E4: ='Показатели для расчета НМЦК'!D8 -> 1 | F4: ='Показатели для расчета НМЦК'!D27 -> 1 | G4: ='Показатели для расчета НМЦК'!D31 -> 1 | H4: ='Показатели для расчета НМЦК'!D36 -> 1 | I4: ='Показатели для расчета НМЦК'!D40 -> 0.97 | J4: ='Показатели для расчета НМЦК'!D46 -> 1.03 | K4: =ROUND(C4*D4*E4*F4*G4*H4*I4*J4,3) -> 0.999
A5: 2 | B5: =Трудоемкость!B6 -> Подсистема контекстной авторизации | C5: ='Показатели для расчета НМЦК'!D4 -> 1 | D5: ='Показатели для расчета НМЦК'!D6 -> 1 | E5: ='Показатели для расчета НМЦК'!D8 -> 1 | F5: ='Показатели для расчета НМЦК'!D27 -> 1 | G5: ='Показатели для расчета НМЦК'!D31 -> 1 | H5: ='Показатели для расчета НМЦК'!D36 -> 1 | I5: =$I$4 -> 0.97 | J5: =$J$4 -> 1.03 | K5: =ROUND(C5*D5*E5*F5*G5*H5*I5*J5,3) -> 0.999
A6: 3 | B6: =Трудоемкость!B7 -> Подсистема хранения и управления данными | C6: ='Показатели для расчета НМЦК'!D4 -> 1 | D6: ='Показатели для расчета НМЦК'!D6 -> 1 | E6: ='Показатели для расчета НМЦК'!D8 -> 1 | F6: ='Показатели для расчета НМЦК'!D27 -> 1 | G6: ='Показатели для расчета НМЦК'!D31 -> 1 | H6: ='Показатели для расчета НМЦК'!D36 -> 1 | I6: =$I$4 -> 0.97 | J6: =$J$4 -> 1.03 | K6: =ROUND(C6*D6*E6*F6*G6*H6*I6*J6,3) -> 0.999
A7: 4 | B7: =Трудоемкость!B8 -> Подсистема безопасности | C7: ='Показатели для расчета НМЦК'!D4 -> 1 | D7: ='Показатели для расчета НМЦК'!D6 -> 1 | E7: ='Показатели для расчета НМЦК'!D8 -> 1 | F7: ='Показатели для расчета НМЦК'!D27 -> 1 | G7: =$G$4 -> 1 | H7: =$H$4 -> 1 | I7: =$I$4 -> 0.97 | J7: =$J$4 -> 1.03 | K7: =ROUND(C7*D7*E7*F7*G7*H7*I7*J7,3) -> 0.999
A8: 5 | B8: =Трудоемкость!B9 -> Подсистема интеграции | C8: ='Показатели для расчета НМЦК'!D4 -> 1 | D8: ='Показатели для расчета НМЦК'!D6 -> 1 | E8: ='Показатели для расчета НМЦК'!D8 -> 1 | F8: ='Показатели для расчета НМЦК'!D27 -> 1 | G8: =$G$4 -> 1 | H8: =$H$4 -> 1 | I8: =$I$4 -> 0.97 | J8: =$J$4 -> 1.03 | K8: =ROUND(C8*D8*E8*F8*G8*H8*I8*J8,3) -> 0.999
A9: 6 | B9: =Трудоемкость!B10 -> Подсистема отображения данных | C9: =$C$8 -> 1 | D9: =$D$8 -> 1 | E9: =$E$8 -> 1 | F9: =$F$8 -> 1 | G9: =$G$4 -> 1 | H9: =$H$4 -> 1 | I9: =$I$4 -> 0.97 | J9: =$J$4 -> 1.03 | K9: =ROUND(C9*D9*E9*F9*G9*H9*I9*J9,3) -> 0.999
A10: 7 | B10: =Трудоемкость!B11 -> Подсистема протоколирования | C10: =$C$8 -> 1 | D10: =$D$8 -> 1 | E10: =$E$8 -> 1 | F10: =$F$8 -> 1 | G10: =$G$4 -> 1 | H10: =$H$4 -> 1 | I10: =$I$4 -> 0.97 | J10: =$J$4 -> 1.03 | K10: =ROUND(C10*D10*E10*F10*G10*H10*I10*J10,3) -> 0.999
A11: 8 | B11: =Трудоемкость!B12 -> Подсистема самообслуживания | C11: =$C$8 -> 1 | D11: =$D$8 -> 1 | E11: =$E$8 -> 1 | F11: =$F$8 -> 1 | G11: =$G$4 -> 1 | H11: =$H$4 -> 1 | I11: ='Показатели для расчета НМЦК'!D41 -> 1 | J11: =$J$4 -> 1.03 | K11: =ROUND(C11*D11*E11*F11*G11*H11*I11*J11,3) -> 1.03
B13: 1. Коэффициент трудоемкости «Требуемая надежность информационной системы» (МТ1)
B14: Коэффициент определяется по ИС в целом
B16: Тип разрабатываемой ИС | C16: отраслевая ИС | D16: общегородская ИС | E16: критичная ИС
B17: Значение коэффициента трудоемкости (МТ1) | C17: 0.9 | D17: 1 | E17: 1.15
B19: 2. Коэффициент трудоемкости «Среда разработки» (МТ2)
B20: Коэффициент определяется по ИС в целом
B22: Значение отношения кол-во объектов предметной области/размер ИС | C22: 2 среды | D22: 3 среды | E22: 4 среды
B23: Значение коэффициента трудоемкости (МТ2) | C23: 0.93 | D23: 1 | E23: 1.07
B25: 3. Коэффициент трудоемкости «Интеграции с внешними системами» (МТ3)
B26: Коэффициент определяется по ИС в целом
B28: Количество интеграций | C28: менее 10 | D28: от 10 до 20 | E28: свыше 20
B30: Значение коэффициента трудоемкости (МТ3) | C30: 0.95 | D30: 1 | E30: 1.05
B32: 4. Коэффициент трудоемкости «Сложность информационной системы» (МТ4)
B33: Коэффициент определяется отдельно по каждой из подсистем ИС
B35: Класс разрабатываемой ИС | C35: информационно-поисковая (реестр, регистр и др.) | D35: обеспечения деятельности ОИВ, портал, прочая | E35: информационно-аналитическая, управляющая
B36: Значение коэффициента трудоемкости (МТ4) | C36: 0.85 | D36: 1 | E36: 1.15
B38: 5. Коэффициент трудоемкости «Размещение компонент на мобильных устройствах» (МТ5)
B39: Коэффициент определяется отдельно по каждой из подсистем ИС
B41: Использование системой мобильных устройств | C41: не | D41: предусматривается
C42: предусматривается
B43: Значение коэффициента трудоемкости (МТ5) | C43: 1 | D43: 1.07
B45: 6. Коэффициент трудоемкости «Частота обновления платформы» (МТ6)
B46: Коэффициент определяется отдельно по каждой из подсистем ИС
B48: Выход обновления ОС либо СУБД | C48: реже чем 1 раз в 12 месяцев | D48: от 1 раза в 12 месяцев до 1 раза в 6 месяцев | E48: чаще чем 1 раз в 6 месяцев
B49: Значение коэффициента трудоемкости (МТ6) | C49: 0.87 | D49: 1 | E49: 1.15
B51: 7. Коэффициент трудоемкости «Новизна информационной системы» (МТ7)
B52: Коэффициент определяется отдельно по каждой из подсистем ИС
B54: Характер выполняемых работ | C54: развитие и/или модернизация подсистем действующей ИС | D54: создание новых подсистем действующей ИС | E54: создание новой ИС
B55: Значение коэффициента трудоемкости (МТ7) | C55: 0.97 | D55: 1 | E55: 1.04
...

Sheet Показатели для расчета НМЦК
A3: КТ | B3: Вид КТ | C3: Параметры КТ | D3: Значение КТ
A4: МТ1 | B4: Тип разрабатываемой ИС (Коэффициент определяется по ИС в целом) | C4: Общегородская ИС | D4: 1
A5: э
A6: МТ2 | B6: Значение отношения кол-во объектов предметной области/размер ИС (Коэффициент определяется по ИС в целом) | C6: 3 среды (среда разработки, среда тестирования, среда промышленной эксплуатации) | D6: 1
A8: МТ3 | B8: Количество интеграций (Коэффициент определяется по ИС в целом) | D8: 1
A9: Интеграции с внешними системами: | C9: Входящий/Исходящий
A10: 1 | B10: Кадровая система ГКУ ЦОДД | C10: Входящий/Исходящий
A11: 2 | B11: Служба Каталогов ГКУ ЦОДД | C11: Входящий/Исходящий
A12: 3 | B12: СМКСС | C12: Входящий/Исходящий
A13: 4 | B13: СУДИР | C13: Входящий/Исходящий
A14: 5 | B14: ЕПС | C14: Исходящий
A15: 6 | B15: Проинфраструктура | C15: Входящий/Исходящий
A16: 7 | B16: Мобильное приложение Проинфраструктура | C16: Входящий/Исходящий
A17: 8 | B17: ИС ИСО ИТС | C17: Входящий/Исходящий
A18: 9 | B18: ДТМ | C18: Входящий/Исходящий
A19: 10 | B19: Экокарта | C19: Входящий/Исходящий
A20: 11 | B20: СДО | C20: Входящий/Исходящий (планируется)
A21: 12 | B21: Мои совещания | C21: Входящий/Исходящий (планируется)
... A24: 15 | B24: ИАС МПС | C24: Входящий/Исходящий (планируется)
A25: МТ4 | B25: Класс разрабатываемой ИС
B26: информационно-поисковая (реестр, регистр и др.) | D26: 0.85
B27: обеспечения деятельности ОИВ, портал, прочая | C27: Подсистема идентификации и предоставления доступа Подсистема безопасности Подсистема хранения и управления данными Подсистема интеграции Подсистема отображения данных Подсистема протоколирования Подсистема централизованного управления учетными записями Подсистема контекстной авторизации Подсистема предоставления доступа к рабочим местам Подсистема самообслуживания | D27: 1
B28: информационно-аналитическая, управляющая | D28: 1.15
A30: МТ5 | B30: Использование системой мобильных устройств
B31: не предусматривается | C31: Подсистема идентификации и предоставления доступа Подсистема безопасности Подсистема хранения и управления данными Подсистема интеграции Подсистема отображения данных Подсистема протоколирования Подсистема централизованного управления учетными записями Подсистема контекстной авторизации Подсистема предоставления доступа к рабочим местам Подсистема самообслуживания | D31: 1
B32: предусматривается | D32: 1.07
A34: МТ6 | B34: Выход обновления ОС либо СУБД
B35: реже чем 1 раз в 12 месяцев | D35: 0.87
B36: от 1 раза в 12 месяцев до 1 раза в 6 месяцев | C36: Подсистема идентификации и предоставления доступа Подсистема безопасности Подсистема хранения и управления данными Подсистема интеграции Подсистема отображения данных Подсистема протоколирования Подсистема централизованного управления учетными записями Подсистема контекстной авторизации Подсистема предоставления доступа к рабочим местам Подсистема самообслуживания | D36: 1
B37: чаще чем 1 раз в 6 месяцев | D37: 1.15
A39: МТ7 | B39: Характер выполняемых работ
B40: развитие и/или модернизация подсистем действующей ИС | C40: Подсистема идентификации и предоставления доступа Подсистема безопасности Подсистема хранения и управления данными Подсистема интеграции Подсистема отображения данных Подсистема протоколирования Подсистема централизованного управления учетными записями Подсистема контекстной авторизации Подсистема предоставления доступа к рабочим местам | D40: 0.97
B41: создание новых подсистем действующей ИС | C41: Подсистема самообслуживания | D41: 1
B42: создание новой ИС | D42: 1.04
A44: МТ8 | B44: Сложность аналитической деятельности и проектирования
B45: Не требуется | D45: 1
B46: Наличие модели архитектуры (или новая подсистема) | C46: Подсистема идентификации и предоставления доступа Подсистема безопасности Подсистема хранения и управления данными Подсистема интеграции Подсистема отображения данных Подсистема протоколирования Подсистема централизованного управления учетными записями Подсистема контекстной авторизации Подсистема предоставления доступа к рабочим местам Подсистема самообслуживания | D46: 1.03
B47: Отсутствие модели архитектуры | D47: 1.05

Sheet 2.Свод сопровод
B1: Приложение № 2 к Протоколу начальной (максимальной) цены контракта (цены лота), начальной цены единицы товара, работы, услуги
B2: Определение начальной (максимальной) цены контракта (цены лота)
B3: =Функции!B3 -> Выполнение работ по модернизации информационной системы единый сервис идентификации пользователей (ИС ЕСИП) и поддержание ее работоспособности в 2026-2028 годах
B5: № пп | C5: Наименование услуг | D5: кол-во, усл. ед | E5: НМЦК (расчётная), руб., в том числе НДС 22% | F5: Доля в стоимости услуг, %: | H5: НМЦК (расчётная) за единицу, руб., в том числе НДС 22% | I5: Итог НМЦК (расчётная), руб., в том числе НДС 22%
F6: всего | G6: с подготовительным этапом
B7: 1 | C7: Стоимость поддержки пользователей ИСиР, Vпп | D7: 1 | E7: ='2.Расчет_сопровод'!AF23 -> 18818554 | F7: =E7/E12 -> 0.3299 | G7: =F7-0.0004 -> 0.3295 | H7: =ROUND($E$12*G7,2) -> 18795737 | I7: =H7+0.01 -> 18795737
B8: 2 | C8: Стоимость прикладного администрирования ИСиР, Vпа | D8: 1 | E8: ='2.Расчет_сопровод'!AG23 -> 27837086 | F8: =E8/E12 -> 0.488 | G8: =F8-0.00033 -> 0.4877 | H8: =ROUND($E$12*G8,2) -> 27819973 | I8: =H8 -> 27819973
B9: 3 | C9: Стоимость системного администрирования ИСиР, Vса | D9: 1 | E9: ='2.Расчет_сопровод'!AH23 -> 10387568 | F9: =E9/E12 -> 0.1821 | G9: =F9-0.00033 -> 0.1818 | H9: =ROUND($E$12*G9,2) -> 10370455 | I9: =H9 -> 10370455
B10: 4 | C10: Стоимость адаптационного сопровождения, Vам | D10: 0 | E10: 0 | F10: =E10/E12 -> 0 | G10: 0 | H10: 0 | I10: =H10 -> 0
B11: 5 | C11: Стоимость подготовительного этапа | D11: 1 | E11: 0 | F11: 0 | G11: 0.001 | H11: =ROUNDDOWN($E$12*G11,2) -> 57043.2 | I11: =H11 -> 57043.2 | J11: Проверка
B12: Итого | E12: =SUM(E7:E10) -> 57043208 | F12: =SUM(F7:F10) -> 1 | G12: =SUM(G7:G11) -> 1 | I12: =SUM(I7:I11) -> 57043208 | J12: =I12=E12 -> TRUE
B13: НДС 22% | E13: =ROUND(E12*22/122,2) -> 10286480 | I13: =ROUND(I12*22/122,2) -> 10286480 | J13: =I13=E13 -> TRUE
B17: Год | C17: Начальная (максимальная) цена контракта (расчётная), руб., в том числе НДС 22%
B18: 2026 | C18: ='2.Расчет_сопровод'!AI29 -> 2318314.8
B19: 2027 | C19: ='2.Расчет_сопровод'!AI30 -> 28785384
B20: 2028 | C20: ='2.Расчет_сопровод'!AI31 -> 25939509
B21: Итог | C21: =SUM(C18:C20) -> 57043208 | D21: =C21=E12 -> TRUE
B25: Консультант по закупкам отдела реализации информационно-аналитического обеспечения Д.В. Путро Начальник Управления по информационно-аналитическому обеспечению А.В. Козыч

Sheet 2.Расчет_сопровод
AD1: Приложение № 2 к Протоколу начальной (максимальной) цены контракта (цены лота), начальной цены единицы товара, работы, услуги
W2: Определение начальной (максимальной) цены контракта (цены лота) Наименование Закупки
S3: =Свод!B2 -> Выполнение работ по модернизации информационной системы единый сервис идентификации пользователей (ИС ЕСИП) и поддержание ее работоспособности в 2026-2028 годах
E4: Исходные данные для расчетов из Паспортов информационных систем | P4: Коэффициенты функциональной сложности ИСиР | R4: Коэффициенты SLA | U4: Трудоемкость работ (услуг), чел.-дней | AB4: Стоимость эксплуатации ИС, руб.
B5: №№ | C5: Заказчик | D5: Наименование ИСиР | E5: Количество пользователей ИСиР | G5: Эффективное количество процессорных ядер ИСиР, Np | H5: Количество процессорных ядер аппаратных серверов, используемых ИСиР, с учетом контуров Na | I5: Согласованные уровни фукнкциональной сложности | K5: Согласованные уровни сервиса | P5: поддержка пользователей, Кfпп | Q5: прикладное администрирование, Кfпа | R5: поддержка пользователей, Кslaпп | S5: администри-рование, Kslaa | T5: сопровождение и техническая поддержка аппаратного обеспечения, Кslaао | U5: Трудоемкость по поддержке пользователей ИСиР, Hпп | V5: Трудоемкость по прикладному администрированию ИСиР, Hпа | W5: Трудоемкость по системному администрированию ИСиР, Hса | X5: Согласованный лимит трудоемкости по адаптационному сопровождению ИСиР, Hам | Y5: Трудоемкость по сопровождению аппаратного обеспечения ИСиР, Hсо | Z5: Трудоемкость по технической поддержке аппаратного обеспечения ИСиР, Hтп | AB5: Стоимость поддержки пользователей ИСиР, Vпп | AC5: Стоимость прикладного администрирования ИСиР, Vпа | AD5: Стоимость системного администрирования ИСиР, Vса | AE5: Стоимость адаптационного сопровождения, Vам | AF5: Стоимость сопровождения аппаратного обеспечения ИСиР, Vсо | AG5: Стоимость технической поддержки аппаратного обеспечения ИСиР, Vтп | AH5: Согласованный лимит услуг по поддержке аппаратного обеспечения ИСиР производителем Vва | AI5: Согласованный лимит услуг по поддержке программного обеспечения ИСиР производителем Vвп | AJ5: Всего
E6: Госслужащие и работники госучреждений, Nk | F6: Физические лица и работники коммерческих организаций, Nk | I6: прикладной FП | J6: системной FС | K6: режим поддержка пользователей Kslaс | L6: режим техническое сопровождение Kslaи | M6: режим сопровождение и техническая поддержка АО Kslaп | N6: временные параметры Kslaв | O6: уровень доступности Kslaд
B7: 1 | C7: ГКУ ЦОДД | D7: ИС ЕСИП | E7: 5500 | F7: 115 | G7: 34 | H7: 0 | I7: 2.092 | J7: 2.266 | K7: 1 | L7: 1 | M7: 3 | N7: 1 | O7: 1 | P7: =ROUND('2.Коэф_и_показатели'!$D$18+'2.Коэф_и_показатели'!$D$19*LN(I7),3) -> 1.051 | Q7: =ROUND('2.Коэф_и_показатели'!$D$20+'2.Коэф_и_показатели'!$D$21*LN(I7),3) -> 1.135 | R7: =ROUND(IF(K7=1,'[1]2.SLA'!$D$4,IF(K7=2,'[1]2.SLA'!$E$4,'[1]2.SLA'!$F$4))*IF(N7=1,'[1]2.SLA'!$D$7,IF(N7=2,'[1]2.SLA'!$E$7,'[1]2.SLA'!$F$7)),3) -> 1.438 | S7: =ROUND(IF(L7=1,'[1]2.SLA'!$D$5,IF(L7=2,'[1]2.SLA'!$E$5,'[1]2.SLA'!$F$5))*IF(N7=1,'[1]2.SLA'!$D$7,IF(N7=2,'[1]2.SLA'!$E$7,'[1]2.SLA'!$F$7))*IF(O7=1,'[1]2.SLA'!$D$8,IF(O7=2,'[1]2.SLA'!$E$8,'[1]2.SLA'!$F$8)),3) -> 1.653 | T7: =ROUND(IF(M7=1,'[1]2.SLA'!$D$6,IF(M7=2,'[1]2.SLA'!$E$6,'[1]2.SLA'!$F$6))*IF(N7=1,'[1]2.SLA'!$D$7,IF(N7=2,'[1]2.SLA'!$E$7,'[1]2.SLA'!$F$7)),3) -> 1.15 | U7: =ROUND('2.Коэф_и_показатели'!$D$3*POWER(E7+F7*'2.Коэф_и_показатели'!$D$24,'2.Коэф_и_показатели'!$D$11)*POWER(P7,'2.Коэф_и_показатели'!$D$12)*R7*'2.Услуги'!$D$5,2) -> 739.79 | V7: =ROUND('2.Коэф_и_показатели'!$D$4*POWER(E7+F7*'2.Коэф_и_показатели'!$D$25,'2.Коэф_и_показатели'!$D$13)*POWER(Q7,'2.Коэф_и_показатели'!$D$14)*S7*'2.Услуги'!$D$13,2) -> 1094.2 | W7: =ROUND(('2.Коэф_и_показатели'!$D$6*LN(J7)+'2.Коэф_и_показатели'!$D$5*POWER(G7,'2.Коэф_и_показатели'!$D$15))*R7*'2.Услуги'!$D$25,2) -> 408.26 | X7: 0 | Y7: 0 | Z7: 0 | AB7: =ROUND(U7*'2.СтоимостьЕдТрудоемкости'!$F$4,2) -> 19444833 | AC7: =ROUND(V7*'2.СтоимостьЕдТрудоемкости'!$F$4,2) -> 28760237 | AD7: =ROUND(W7*'2.СтоимостьЕдТрудоемкости'!$F$4,2) -> 10730812 | AE7: 0 | AF7: 0 | AG7: 0 | AH7: 0 | AI7: 0 | AJ7: =ROUND(SUM(AB7:AI7),2) -> 58935882
W8: max на 365 дней | X8: 209 | AB8: =AB7/$AJ$7 -> 0.3299 | AC8: =AC7/$AJ$7 -> 0.488 | AD8: =AD7/$AJ$7+0.0001 -> 0.1822 | AE8: =AE7/$AJ$7 -> 0
T10: Итого на срок осн этапа, дней, чел/дней: | W10: 718 | X10: =ROUNDDOWN(X7/365*$W$10,0) -> 0
X12: Год | Y12: Коэффициент, учитывающий инфляцию в i-й год финансирования | Z12: Планируемый период эксплуатации в i-й год финансирования, дней | AB12: Стоимость оказания услуг по поддержке пользователей, (руб.) с НДС | AC12: Стоимость оказания услуг по прикладному администрированию ИСиР, (руб.) с НДС | AD12: Стоимость оказания услуг по системному администрированию ИСиР, (руб.) с НДС | AE12: Стоимость оказания услуг по адаптационному сопровождению ИСиР, (руб.) с НДС | AF12: Стоимость оказания услуг по сопровождению аппаратного обеспечения ИСиР, (руб.) с НДС | AG12: Стоимость оказания услуг по технической поддержке аппаратного обеспечения ИСиР, (руб.) с НДС | AH12: Стоимость оказания услуг по поддержке аппаратного обеспечения ИСиР производителем, (руб.) с НДС | AI12: Стоимость оказания услуг по поддержке программного обеспечения ИСиР производителем, (руб.) с НДС | AJ12: Стоимость оказания услуг по эксплуатации информационной системы по годам, (руб.) с НДС
X13: 2026 | Y13: 1.0275 | Z13: 30 | AB13: =ROUND($AB$7*$Z13/365*$Y13,2) -> 1642156.1 | AC13: =ROUND($AC$7*$Z13/365*$Y13,2) -> 2428861.1 | AD13: =ROUND($AD$7*$Z13/365*$Y13,2) -> 906239.12 | AE13: 0 | AF13: =ROUND($AF$7*$Z13/365*$Y13,2) -> 0 | AG13: =ROUND($AG$7*$Z13/365*$Y13,2) -> 0 | AH13: =ROUND($AH$7*$Z13/365*$Y13,2) -> 0 | AI13: =ROUND($AI$7*$Z13/365*$Y13,2) -> 0 | AJ13: =SUM(AB13:AI13) -> 4977256.3
X14: 2027 | Y14: =Y13*1.0205 -> 1.0486 | Z14: 365 | AB14: =ROUND($AB$7*$Z14/365*$Y14,2) -> 20389852 | AC14: =ROUND($AC$7*$Z14/365*$Y14,2) -> 30157985 | AD14: =ROUND($AD$7*$Z14/365*$Y14,2) -> 11252329 | AE14: 0 | AF14: =ROUND($AF$7*$Z14/365*$Y14,2) -> 0 | AG14: =ROUND($AG$7*$Z14/365*$Y14,2) -> 0 | AH14: =ROUND($AH$7*$Z14/365*$Y14,2) -> 0 | AI14: =ROUND($AI$7*$Z14/365*$Y14,2) -> 0 | AJ14: =SUM(AB14:AI14) -> 61800166
X15: 2028 | Y15: =Y14*(1+0.02/12*11) -> 1.0678 | Z15: 323 | AB15: =ROUND($AB$7*$Z15/365*$Y15,2) -> 18374003 | AC15: =ROUND($AC$7*$Z15/365*$Y15,2) -> 27176407 | AD15: =ROUND($AD$7*$Z15/365*$Y15,2) -> 10139865 | AE15: 0 | AF15: =ROUND($AF$7*$Z15/365*$Y15,2) -> 0 | AG15: =ROUND($AG$7*$Z15/365*$Y15,2) -> 0 | AH15: =ROUND($AH$7*$Z15/365*$Y15,2) -> 0 | AI15: =ROUND($AI$7*$Z15/365*$Y15,2) -> 0 | AJ15: =SUM(AB15:AI15) -> 55690275
X16: Итоговая стоимость услуг | Z16: =SUM(Z13:Z15) -> 718 | AB16: =SUM(AB13:AB15) -> 40406011 | AC16: =SUM(AC13:AC15) -> 59763253 | AD16: =SUM(AD13:AD15) -> 22298433 | AE16: 0 | AF16: =SUM(AF13:AF15) -> 0 | AG16: =SUM(AG13:AG15) -> 0 | AH16: =SUM(AH13:AH15) -> 0 | AI16: =SUM(AI13:AI15) -> 0 | AJ16: =SUM(AJ13:AJ15) -> 1.224677e+08 | AMH16: =AJ16+'Расчет развития'!#REF! -> #REF! | AMI16: =AMH16-144000000 -> #REF!
Z17: =W10+7 -> 725 | AH17: Подготовительный этап | AJ17: =AJ16*0.1% -> 122467.7
AB18: =AB16/$AJ$16 -> 0.3299 | AC18: =AC16/$AJ$16 -> 0.488 | AD18: =AD16/$AJ$16+0.0001 -> 0.1822 | AE18: =AE16/$AJ$16 -> 0 | AH18: С учетом снижения по решению Заказчика | AJ18: 54000000
AI19: НДС | AJ19: =AJ18*22/122 -> 9737704.9
AI20: на 365 дней | AJ20: =AJ18/W10*365 -> 27451253
AF22: Стоимость поддержки пользователей | AG22: Стоимость прикладного администрирования | AH22: Стоимость системного администрирования | AI22: Стоимость адаптационного сопровождения и модернизации | AJ22: Итого стоимость эксплуатации в год, (руб)
AD23: 718 | AE23: дней по НМЦК | AF23: =$AI$35*AF25 -> 18818554 | AG23: =$AI$35*AG25 -> 27837086 | AH23: =$AI$35*AH25 -> 10387568 | AI23: =($AJ$20*AE18) -> 0 | AJ23: =SUM(AF23:AI23) -> 57043208
AD24: НДС 22% | AF24: =ROUNDUP(AF23*22/122,2)-0.01 -> 3393509.8 | AG24: =ROUNDUP(AG23*22/122,2) -> 5019802.3 | AH24: =ROUNDUP(AH23*22/122,2) -> 1873168.1 | AI24: =ROUNDUP(AI23*20/120,2) -> 0 | AJ24: =SUM(AF24:AI24) -> 10286480
AD25: % от общего объема | AF25: =AB18 -> 0.3299 | AG25: =AC18 -> 0.488 | AH25: =AD18-0.0001 -> 0.1821 | AI25: =AI23/AJ18 -> 0 | AJ25: =SUM(AF25:AI25) -> 1
AF28: Год | AG28: Коэффициент, учитывающий инфляцию в i-й год финансирования | AH28: Планируемый период эксплуатации в i-й год финансирования, дней | AI28: Стоимость оказания услуг по эксплуатации информационной системы по годам, (руб.) с НДС
AF29: 2026 | AG29: =Y13 -> 1.0275 | AH29: 30 | AI29: =$AJ$20*AH29/365*AG29 -> 2318314.8
AF30: 2027 | AG30: =Y14 -> 1.0486 | AH30: 365 | AI30: =$AJ$20*AH30/365*AG30 -> 28785384
AF31: 2028 | AG31: =Y15 -> 1.0678 | AH31: 323 | AI31: =$AJ$20*AH31/365*AG31+0.01 -> 25939509
AH32: =SUM(AH29:AH31) -> 718
AF33: Стоимость подготовительного этапа (7 дней - 0,10%), руб.: | AI33: =ROUNDDOWN(AI35*0.1%,2) -> 57043.2
AF34: Стоимость услуг основного этапа | AI34: =AI35-AI33 -> 56986165
AF35: С учетом коэффициентов инфляции и снижения по решению Заказчика | AI35: =SUM(AI29:AI31) -> 57043208
AF36: НДС | AI36: =AI35*22/122 -> 10286480
X39: Руководствуясь принципом эффективности расходования бюджетных средств, на основании статьи 12 Федерального закона от 05 апреля 2013 г. № 44-ФЗ и п.1.13 Распоряжения Правительства Москвы от 16.05.2014 N 242-РП "Об утверждении Методических рекомендаций по применению методов определения начальной (максимальной) цены контракта, цены контракта, заключаемого с единственным поставщиком (подрядчиком, исполнителем), начальной цены единицы товара, работы, услуги», начальная (максимальная) цена контракта, рассчитанная сметным методом, снижена по решению Заказчика и составляет: 57 043 208 (Пятьдесят семь миллионов сорок три тысячи двести восемь) рублей 36 копеек, в том числе НДС 22% - 10 286 480 (Десять миллионовдвести двести восемьдесят шесть тысяч четыреста восемьдесят) рублей 20 копеек.
AB58: Консультант по закупкам отдела реализации информационно-аналитического обеспечения Д.В. Путро Начальник Управления по информационно-аналитическому обеспечению А.В. Козыч

Sheet 2.Коэф_и_показатели
A1: Коэффициенты Порядка расчета планируемой стоимости работ (услуг) по эксплуатации информационных систем и ресурсов города Москвы (далее - Порядок)
A2: №№ | B2: Коэффициенты Порядка | C2: Обозначение в Методике | D2: Значение
A3: 1. | B3: Коэффициенты связи: | C3: aпп | D3: 11.13
C4: aпа | D4: 22.54
C5: aса | D5: 0.855
C6: bса | D6: 318
C7: aсо | D7: 1.429
C8: bсо | D8: 0.431
C9: aтп | D9: 0.796
C10: bтп | D10: 0.413
A11: 2. | B11: Коэффициенты масштаба: | C11: bпп | D11: 0.438
C12: cпп | D12: 1.048
C13: bпа | D13: 0.372
C14: cпа | D14: 1.39
C15: cса | D15: 0.943
C16: cсо | D16: 0.943
C17: cтп | D17: 0.943
A18: 3. | B18: Коэффициенты связи для расчета коэффициентов функциональной сложности ИС: | C18: dпп | D18: 0.589
C19: gпп | D19: 0.626
C20: dпа | D20: 0.673
C21: gпа | D21: 0.626
A22: 4. | B22: Коэффициенты категорий пользователей: | C22: Kpппг | D22: 1
C23: Kpппф | D23: =1/150 -> 0.0066666667
C24: Kpпаг | D24: 1
C25: Kpпаф | D25: =1/275 -> 0.0036363636
A26: 5. | B26: Коэффициент порогового значения процессорных ядер ИСиР | C26: Kрм | D26: 3

Sheet 2.Услуги
C3: Отметка (если услуга/линия используется - поставьте 1, иначе - 0) | D3: Коэффициент
A4: Услуга | B4: Процент от общей стоимости услуг по комплексу «Поддержка пользователей»
A5: Поддержка пользователей, всего | B5: 0.87 | D5: =IF(C6=1,B6,0)+IF(C7=1,B7,0)+IF(C8=1,B8,0) -> 1
A6: в т.ч. 1-я линия поддержки | B6: 0.61 | C6: 1
A7: 2-я линия поддержки | B7: 0.26 | C7: 1
A8: Управление знаниями | B8: 0.13 | C8: 1
A12: Услуга | B12: Процент от общей стоимости услуг по комплексу «Прикладное администрирование»
A13: Управление инцидентами, всего | B13: 0.45 | D13: =IF(C14=1,B14,0)+IF(C15=1,B15,0)+IF(C16=1,B16,0)+IF(C17=1,B17,0)+IF(C18=1,B18,0)+IF(C19=1,B19,0)+IF(C20=1,B20,0) -> 1
A14: в т.ч. 2-я линия поддержки | B14: 0.3 | C14: 1
A15: 3-я линия поддержки | B15: 0.15 | C15: 1
A16: Управление событиями | B16: 0.07 | C16: 1
A17: Управление изменениями | B17: 0.19 | C17: 1
A18: Функциональное тестирование | B18: 0.08 | C18: 1
A19: Управление доступом | B19: 0.09 | C19: 1
A20: Управление плановыми работами | B20: 0.12 | C20: 1
A24: Услуга | B24: Процент от общей стоимости услуг по комплексу «Системное администрирование»
A25: Управление инцидентами, всего | B25: 0.28 | D25: =IF(C26=1,B26,0)+IF(C27=1,B27,0)+IF(C28=1,B28,0)+IF(C29=1,B29,0)+IF(C30=1,B30,0)+IF(C31=1,B31,0)+IF(C32=1,B32,0) -> 1
A26: в т.ч. 2-я линия поддержки | B26: 0.19 | C26: 1
A27: 3-я линия поддержки | B27: 0.09 | C27: 1
A28: Управление событиями | B28: 0.09 | C28: 1
A29: Управление изменениями | B29: 0.16 | C29: 1
A30: Нагрузочное тестирование | B30: 0.08 | C30: 1
A31: Управление плановыми работами | B31: 0.25 | C31: 1
A32: Управление резервным копированием | B32: 0.14 | C32: 1

Sheet 2.СтоимостьЕдТрудоемкости
A1: Расчет стоимости единицы трудоемкости
A3: № п/п | B3: Обозначение показателя в Порядке 18р | C3: Наименование показателя в Порядке 18р | F3: Стоимость единицы трудоемкости в ценах 2025 года (руб. за 1 чел.-день)
A4: 1. | B4: Rп | C4: Стоимость единицы трудоемкости поддержки пользователей, администрирования и сопровождения | F4: =ROUND(274521.1/0.65*1.05*1.22*12/247,2) -> 26284.26
A5: 2. | B5: Rт | C5: Стоимость единицы трудоемкости технической поддержки аппаратного обеспечения | F5: =ROUND(138314.6/0.64*1.05*1.22*12/247,2) -> 13449.97

Sheet 2.Расчет АдапСопр
A1: Расчет Адаптационного сопровождения
D3: Стоимость единицы трудоемкости | E3: 25687.44
D4: Год начала оказания услуг | E4: 2026
A6: ГК (№, дата заключения, предмет) | B6: Год начала ГК | C6: Сумма ГК (без НДС) | D6: Применяемый % | E6: % от суммы ГК | F6: 0.09
A7: 1154/21 от 14.12.2021 Выполнение работ по модернизации информационной системы индикации состояния объектов интеллектуальной транспортной системы г. Москвы в части редизайна и создания приложения для смартфонов (ИС ИСО ИТС) | B7: 2021 | C7: 37790512 | D7: =IF((OR($E$4-B7=1,$E$4-B7=2,$E$4-B7=3)),100%,IF($E$4-B7=4,66%,IF($E$4-B7=5,33%,0))) -> 0.33 | E7: =C7*D7 -> 12470869 | F7: =E7*F$6 -> 1122378.2
A8: ТК1816/23 от 13.12.2023 Выполнение работ по модернизации информационной системы индикации состояния объектов интеллектуальной транспортной системы г. Москвы (ИС ИСО ИТС) в течение 335 календарных дней | B8: 2023 | C8: 47292964 | D8: =IF((OR($E$4-B8=1,$E$4-B8=2,$E$4-B8=3)),100%,IF($E$4-B8=4,66%,IF($E$4-B8=5,33%,0))) -> 1 | E8: =C8*D8 -> 47292964 | F8: =E8*F$6 -> 4256366.8
D9: =IF((OR($E$4-B9=1,$E$4-B9=2,$E$4-B9=3)),100%,IF($E$4-B9=4,66%,IF($E$4-B9=5,33%,0))) -> 0 | E9: =C9*D9 -> 0 | F9: =E9*F$6 -> 0
A10: Итого | E10: =SUM(E7:E9) -> 59763833 | F10: =SUM(F7:F9) -> 5378745
E12: Предельная трудоемкость для Адаптационного сопровождения, чел./дней (на 365 дней) | F12: =ROUNDDOWN(F10/E3,0) -> 209
A16: Начальник Отдела реализации информационно-аналитического обеспечения | F16: О.В. Пригожева
A17: Начальник Управления по информационно-аналитическому обеспечению | F17: А.В. Козыч

Sheet 2.SLA
B3: 5. Коэффициенты уровня сервиса | C3: Обозначение в Методике | D3: Уровень 1 | E3: Уровень 2 | F3: Уровень 3
B4: Коэффициент уровня сервиса по показателю «Режим оказания услуг» (сервисное обслуживание) | C4: Kslaс | D4: 1.25 | E4: 1.1 | F4: 1
B5: Коэффициент уровня сервиса по показателю «Режим оказания услуг» (инцидентная работа) | C5: Kslaи | D5: 1.25 | E5: 1.1 | F5: 1
B6: Коэффициент уровня сервиса по показателю «Режим оказания услуг» (сопровождение и техническая поддержка аппаратного обеспечения) | C6: Kslaп | D6: 1.25 | E6: 1.1 | F6: 1
B7: Коэффициент уровня сервиса по показателю «Временные параметры услуг» | C7: Kslaв | D7: 1.15 | E7: 1.1 | F7: 1
B8: Коэффициент уровня сервиса по показателю «Уровень доступности информационной системы» | C8: Kslaд | D8: 1.15 | E8: 1.1 | F8: 1
