Workbook
Name _ftn1: '2.2. НМЦК_затратный'!#REF!
Name _ftn1: '2.3. НМЦК_Реестра'!#REF!
Name _ftn1: '2.4. ОКВЭД 62.0. '!#REF!
Name _ftn3: '2.4. ОКВЭД 62.0. '!#REF!
Name _ftnref1: '2.2. НМЦК_затратный'!#REF!
Name _ftnref1: '2.3. НМЦК_Реестра'!#REF!
Name _ftnref3: '2.4. ОКВЭД 62.0. '!#REF!
Name _Hlk108017185: '2.3. НМЦК_Реестра'!#REF!
Name _Hlk108017208: '2.3. НМЦК_Реестра'!#REF!
Name EUR: #REF!
Name KR: #REF!
Name KZ: #REF!
Name OLE_LINK3: '2.3. НМЦК_Реестра'!#REF!
Name USD: #REF!
Name КАС: #REF!
Name КАС: #REF!
Name РПО: #REF!
Name РПО: #REF!

Sheet 2.1.Титул
I1: Приложение 2 к протоколу
I2: начальной (максимальной)
I3: цены контракта (цены лота)
A21: Таблица расчета начальной (максимальной) цены контракта на
A22: оказание услуг по обеспечению функционирования и обслуживания Комплексной информационной системы многофункциональных центров предоставления государственных и муниципальных услуг в части тестирования подсистем и сервисов, входящих в состав системы

Sheet 2.2. НМЦК_затратный
B1: Метод определения НМЦК- затратный метод
A2: № п/п | B2: Наименование услуг | C2: Должность исполнителя | D2: Кол-во рабочих ставок, шт. | E2: Кол-во рабочего времени, час | F2: Итого трудоемкость на 1 услугу, чел./час | G2: Стоимость чел./час., руб. без НДС | H2: Стоимость услуги, руб. без НДС | I2: Стоимость услуги, руб. с НДС | J2: Кол-во услуг | K2: Итого, общая стоимость услуг, руб. с НДС
A3: 1 | B3: Организационно-штатные и подготовительные мероприятия этапа 1 | C3: Ведущий инженер | D3: 1 | E3: =ROUND((20*247/365)*80%*8,1) -> 86.6 | F3: =ROUND(D3*E3,2) -> 86.6 | G3: ='2.4. ОКВЭД 62.0. '!$C$11 -> 3159.52 | H3: =ROUND(F3*G3,2) -> 273614.43 | I3: =ROUND(H3*1.22,2) -> 333809.6 | J3: ='2.3. НМЦК_Реестра'!D46 -> 1 | K3: =ROUND(I3*J3,2) -> 333809.6
A4: 2 | B4: Выполнение 1 (одного) тестового сценария, включая повторное выполнение в случае обнаружения и оперативного устранения дефекта | C4: Тестировщик | D4: 1 | E4: 0.96 | F4: =ROUND(D4*E4,2) -> 0.96 | G4: ='2.4. ОКВЭД 62.0. '!$C$11 -> 3159.52 | H4: =ROUND(F4*G4,2) -> 3033.14 | I4: =ROUND(H4*1.22,2) -> 3700.43 | J4: ='2.3. НМЦК_Реестра'!D47 -> 44455 | K4: =ROUND(I4*J4,2) -> 1.6450262e+08
A5: 3 | B5: Подготовка или актуализация 1 (одного) тестового сценария | C5: Тестировщик | D5: 1 | E5: 0.96 | F5: =ROUND(D5*E5,2) -> 0.96 | G5: ='2.4. ОКВЭД 62.0. '!$C$11 -> 3159.52 | H5: =ROUND(F5*G5,2) -> 3033.14 | I5: =ROUND(H5*1.22,2) -> 3700.43 | J5: ='2.3. НМЦК_Реестра'!D48 -> 44455 | K5: =ROUND(I5*J5,2) -> 1.6450262e+08
A6: 4 | B6: Подготовка отчетных материалов | C6: Ведущий инженер | D6: 1 | E6: 7.2 | F6: =ROUND(D6*E6,2) -> 7.2 | G6: ='2.4. ОКВЭД 62.0. '!$C$11 -> 3159.52 | H6: =ROUND(F6*G6,2) -> 22748.54 | I6: =ROUND(H6*1.22,2) -> 27753.22 | J6: ='2.3. НМЦК_Реестра'!D49 -> 200 | K6: =ROUND(I6*J6,2) -> 5550644
A7: Итого: | K7: =SUM(K3:K6) -> 3.3488968e+08

Sheet 2.3. НМЦК_Реестра
A1: Метод определения НМЦК- метод анализа цен, содержащихся в реестре контрактов, заключенных по итогам осуществления закупок
A2: Перечень государственных контактов
A4: № п/п | B4: Предмет контракта | C4: Номер контракта | D4: Дата заключения | E4: Реестровый номер закупки ЕИС | F4: Исполнитель | G4: Цена контракта, руб. в т.ч. НДС22% | H4: Срок оказания услуг/ Срок действия контракта | I4: Наименование услуг | J4: Стоимость единицы услуги, в т.ч. НДС20%, руб.
A5: 1 | B5: 2 | C5: 3 | D5: 4 | E5: 5 | F5: 6 | G5: 7 | H5: 8 | I5: 9 | J5: 10
A6: 1. | B6: Оказание услуг по обеспечению функционирования и обслуживания Комплексной информационной системы «Государственные услуги в сфере образования в электронном виде» в части тестирования подсистем и сервисов, входящих в состав системы | C6: № 870/10/25 | D6: 45936 | E6: 0173200001425001218 | F6: ООО "ЦРПО" | G6: 217560000 | H6: 710 кал.дн. 16.09.2027/ 05.11.2027 | I6: Организационно-штатные и подготовительные мероприятия этапа 1 Контракта | J6: 65271
I7: Выполнение 1 (одного) тестового сценария, включая повторное выполнение в случае обнаружения и оперативного устранения дефекта | J7: 1404.8
I8: Выполнение автоматизированного прогона тестовых сценариев или запуск сценариев тестирования производительности. Анализ результатов, включая повторное выполнение в случае обнаружения и оперативного устранения дефектов | J8: 14849.34
I9: Подготовка или актуализация 1 (одного) автоматизированного скрипта (1 процесс) | J9: 11617.97
I10: Подготовка или актуализация 1 (одного) тестового сценария | J10: 1148.8
I11: Подготовка или актуализация профиля тестирования производительности | J11: 30459.21
I12: Проведение тестирования установки, включая повторное выполнение в случае обнаружения и устранения дефекта | J12: 45261.06
I13: Разработка 1 (одного) эмулятора внешних систем/генератора данных | J13: 24316.34
I14: Подготовка отчетных материалов | J14: 9421.94
A17: Расчет единицы услуги с учетом инфляции по контракту | C17: =C6 -> № 870/10/25 | D17: Этап 1 | E17: Этап 2 - 6
A18: год | B18: кол-во дней | C18: 1/2 прогнозного ИПЦ | D18: инфл. к сроку планируемой закупки | E18: инфл. к сроку планируемой закупки
A19: 2026 | B19: 0 | C19: 0.0275 | D19: 0 | E19: =ROUND(C19/365*B19,4) -> 0 | F19: =DATE(2026,12,31)-C41+1 -> 91
A20: 2027 | B20: =ROUND('2.5. Свод по годам'!E15-DATE(2027,11,6)+1,0) -> 40 | C20: 0.0205 | D20: 0 | E20: =ROUND(C20/365*B20,4) -> 0.0022 | F20: =D39-DATE($A20,1,1)+1 -> 349
A21: 2028 | B21: 0 | C21: 0.02 | D21: 0 | E21: =ROUND(C21/365*B21,4) -> 0 | F21: 0
F22: =SUM(F19:F21) -> 440
A24: № п/п | B24: Наименование услуг | C24: Стоимость единицы услуги, руб., в том числе НДС22% | D24: Стоимость единицы услуги на 2026 год, руб. с НДС | E24: Стоимость единицы услуги с учетом 1/2 прогнозного ИПЦ на 2027 год, руб. с НДС | F24: Средневзвешенная стоимость услуг, руб. с НДС*
A25: ='2.2. НМЦК_затратный'!A3 -> 1 | B25: ='2.2. НМЦК_затратный'!B3 -> Организационно-штатные и подготовительные мероприятия этапа 1 | C25: =J6 -> 65271 | D25: =ROUND(C25*$D$19+C25,2) -> 65271 | E25: =ROUND(D25*$D$20+D25,2) -> 65271 | F25: =ROUND((D25*$F$19+E25*$F$20)/$F$22,2) -> 65271
A26: ='2.2. НМЦК_затратный'!A4 -> 2 | B26: ='2.2. НМЦК_затратный'!B4 -> Выполнение 1 (одного) тестового сценария, включая повторное выполнение в случае обнаружения и оперативного устранения дефекта | C26: =J7 -> 1404.8 | D26: =ROUND(C26*$E$19+C26,2) -> 1404.8 | E26: =ROUND(D26*$E$20+D26,2) -> 1407.89 | F26: =ROUND((D26*400+E26*40)/$F$22,2) -> 1405.08
A27: ='2.2. НМЦК_затратный'!A5 -> 3 | B27: Подготовка или актуализация 1 (одного) тестового сценария | C27: =J10 -> 1148.8 | D27: =ROUND(C27*$E$19+C27,2) -> 1148.8 | E27: =ROUND(D27*$E$20+D27,2) -> 1151.33 | F27: =ROUND((D27*400+E27*40)/$F$22,2) -> 1149.03
A28: ='2.2. НМЦК_затратный'!A6 -> 4 | B28: ='2.2. НМЦК_затратный'!B6 -> Подготовка отчетных материалов | C28: =J14 -> 9421.94 | D28: =ROUND(C28*$E$19+C28,2) -> 9421.94 | E28: =ROUND(D28*$E$20+D28,2) -> 9442.67 | F28: =ROUND((D28*400+E28*40)/$F$22,2) -> 9423.82
A29: * | B29: ИПЦ применен в соответствии с порядком, изложенном в информационном письме Департамента экономической политики и развития города Москвы от 26.10.2021 № ДПР-И-5348/21 и Приложением № 1 к прогнозу социально-экономического развития города Москвы на 2026 год и плановый период 2027 и 2028 годов
A32: Расчет начальной (максимальной) цены контракта
B33: Этап | C33: кол-во дней
B34: ='2.5. Свод по годам'!B10 -> 1 Этап | C34: ='2.5. Свод по годам'!D10 -> 20
B35: ='2.5. Свод по годам'!B11 -> 2 Этап | C35: ='2.5. Свод по годам'!D11 -> 55 | D35: ='2.5. Свод по годам'!C11 -> 46317
B36: ='2.5. Свод по годам'!B12 -> 3 Этап | C36: ='2.5. Свод по годам'!D12 -> 90
B37: ='2.5. Свод по годам'!B13 -> 4 Этап | C37: ='2.5. Свод по годам'!D13 -> 90
B38: ='2.5. Свод по годам'!B14 -> 5 Этап | C38: ='2.5. Свод по годам'!D14 -> 90
B39: ='2.5. Свод по годам'!B15 -> 6 Этап | C39: ='2.5. Свод по годам'!D15 -> 95 | D39: ='2.5. Свод по годам'!E15 -> 46736
C40: =SUM(C34:C39) -> 440
B41: Планируемая дата начала оказания услуг | C41: ='2.5. Свод по годам'!C10 -> 46297
B42: Дата окончания оказания услуг | C42: ='2.5. Свод по годам'!E15 -> 46736
A45: № п/п | B45: Наименование услуг | C45: Средняя стоимость услуг, руб. с НДС | D45: Кол-во услуг | E45: Итого, общая стоимость услуг, руб. с НДС | F45: Распределение стоимости по услугам | G45: Расчет стоимости услуги с инфляцией ГБУ АЦ | H45: Начальная (максимальная) цена контракта с учетом экспертного зключения ГБУ «Аналитический центр» от 23.07.2026 № 0903-5-1-3-230726, руб., в том числе НДС 22%
A46: 1 | B46: Организационно-штатные и подготовительные мероприятия этапа 1 | C46: =F25 -> 65271 | D46: 1 | E46: =ROUND(C46*D46,2) -> 65271 | F46: =ROUND(E46/$E$50,4) -> 0.0006 | G46: 65271 | H46: =G46*D46 -> 65271
A47: 2 | B47: Выполнение 1 (одного) тестового сценария, включая повторное выполнение в случае обнаружения и оперативного устранения дефекта | C47: =F26 -> 1405.08 | D47: 44455 | E47: =ROUND(C47*D47,2) -> 62462831 | F47: =ROUND(E47/$E$50,4) -> 0.5408 | G47: 1404.8 | H47: =G47*D47 -> 62450384
A48: 3 | B48: Подготовка или актуализация 1 (одного) тестового сценария | C48: =F27 -> 1149.03 | D48: 44455 | E48: =ROUND(C48*D48,2) -> 51080129 | F48: =ROUND(E48/$E$50,4) -> 0.4423 | G48: 1148.8 | H48: =G48*D48 -> 51069904
...

Sheet 2.4. ОКВЭД 62.0. 
B1: Разработка компьютерного программного обеспечения, консультационные услуги в данной области и другие сопутствующие услуги
A3: № | B3: Статья | C3: Сумма, руб./мес. на 1 специалиста | D3: % от СС | E3: % от стоимости 1 чел./мес.
A4: 1 | B4: Зарплата основных специалистов (ФОТ) (Мосстат, январь - март 2026г.) | C4: 326037.7 | D4: =C4/C7 -> 0.65800686 | E4: =C4/C9 -> 0.6266732
A5: 2 | B5: =CONCATENATE("Размер страховых взносов (",ROUND(F19*100,2),"%)") -> Размер страховых взносов (26,65%) | C5: =ROUND(C4*F19,2) -> 86873.02 | D5: =C5/C7 -> 0.17532648 | E5: =C5/C9 -> 0.1669776
A6: 3 | B6: Накладные расходы (20 % от прямых расходов) | C6: =ROUND((C4+C5)*20%,2) -> 82582.14 | D6: =C6/C7 -> 0.16666666 | E6: =C6/C9 -> 0.15873015
A7: 4 | B7: Итого расходы (себестоимость (СС)) | C7: =ROUND(SUM(C4:C6),2) -> 495492.86 | D7: =C7/C7 -> 1 | E7: =C7/C9 -> 0.95238096
A8: 5 | B8: Прибыль (5% на итого расходы) | C8: =ROUND(C7*5%,2) -> 24774.64 | D8: =C8/C7 -> 0.049999994 | E8: =C8/C9 -> 0.047619042
A9: 6 | B9: Стоимость 1 человеко-месяца, без НДС | C9: =ROUND(SUM(C7:C8),2) -> 520267.5 | D9: =C9/C7 -> 1.05 | E9: =C9/C9 -> 1
A10: 7 | B10: Стоимость 1 человеко-дня, без НДС | C10: =ROUND(C9*12/247,2) -> 25276.15
A11: 8 | B11: Стоимость 1 человеко-часа, без НДС | C11: =ROUND(C10/8,2) -> 3159.52
A13: Размер ФОТ за 12 месяцев составляет: | C13: =ROUND(C4*12,2) -> 3912452.4
A14: № | B14: Наименование тарифов страховых взносов | C14: Тариф страховых взносов, % | D14: Предельная величина базы для исчисления страховых взносов, руб./год | E14: База для начисления страховых взносов, руб. /год | F14: Итого, руб./год
A15: 1 | B15: на обязательное пенсионное страхование, на обязательное социальное страхование на случай временной нетрудоспособности и в связи с материнством, на обязательное медицинское страхование в 2026 г. | C15: 0.3 | D15: 2979000 | E15: =IF(C13<D15,C13,D15) -> 2979000 | F15: =ROUND(C15*E15,2) -> 893700 | G15: =F15/$C$13 -> 0.2284245 | H15: =G15*$C$4 -> 74475
C16: 0.151 | D16: свыше 2 979 000,00 | E16: =C13-E15 -> 933452.4 | F16: =ROUND(C16*E16,2) -> 140951.31 | G16: =F16/$C$13 -> 0.036026332 | H16: =G16*$C$4 -> 11745.943
A17: 2 | B17: на обязательное социальное страхование от несчастных случаев на производстве и профессиональных заболеваний по I классу профессионального риска | C17: 0.002 | D17: - | E17: =C13 -> 3912452.4 | F17: =ROUND(C17*E17,2) -> 7824.9 | G17: =F17/$C$13 -> 0.0019999988 | H17: =G17*$C$4 -> 652.075
A18: 3 | B18: Итого взносов: | F18: =ROUND(SUM(F15:F17),2) -> 1042476.2 | H18: =SUM(H15:H17) -> 86873.018
A19: 4 | B19: Размер страховых взносов в %: | F19: =F18/C13 -> 0.26645084

Sheet 2.5. Свод по годам
A1: № пп | B1: Год | C1: Расчетная начальная (максимальная) цена контракта, руб., в том числе НДС 22% | D1: Начальная (максимальная) цена контракта с учетом экспертного зключения ГБУ «Аналитический центр» от 23.07.2026 № 0903-5-1-3-230726, руб., в том числе НДС 22%
A2: Всего, в том числе по годам: | C2: ='2.3. НМЦК_Реестра'!E50 -> 1.15493e+08 | D2: ='2.3. НМЦК_Реестра'!H50 -> 115469947
A3: 1 | B3: 2026 | C3: =SUMIF($G$10:$G$15,$B3,$F$10:$F$15) -> 64903038 | D3: =SUMIF($G$10:$G$15,$B3,$I$10:$I$15) -> 64890099
A4: 2 | B4: 2027 | C4: =SUMIF($G$10:$G$15,$B4,$F$10:$F$15) -> 50589957 | D4: =SUMIF($G$10:$G$15,$B4,$I$10:$I$15) -> 50579848
B9: Наименование ОП | C9: Планируемая дата начала ОП | D9: Кол-во дней ОП | E9: Планируемая дата окончания ОП | F9: Сумма по периодам, руб. | G9: Год | H9: % распределения суммы по периодам | I9: Сумма по периодам с учетом экспертного заключения, руб.
B10: 1 Этап | C10: 46297 | D10: 20 | E10: =C10+D10-1 -> 46316 | F10: ='2.3. НМЦК_Реестра'!E46 -> 65271 | G10: =YEAR(E10) -> 2026 | H10: ='2.3. НМЦК_Реестра'!F46 -> 0.0006 | I10: ='2.3. НМЦК_Реестра'!H46 -> 65271
B11: 2 Этап | C11: =E10+1 -> 46317 | D11: 55 | E11: =C11+D11-1 -> 46371 | F11: =ROUND($H11*C$2,2) -> 64837767 | G11: =YEAR(E11) -> 2026 | H11: 0.5614 | I11: =ROUND($H11*D$2,2) -> 64824828
B12: 3 Этап | C12: =E11+1 -> 46372 | D12: 90 | E12: =C12+D12-1 -> 46461 | F12: =ROUND($H12*C$2,2) -> 10394370 | G12: =YEAR(E12) -> 2027 | H12: 0.09 | I12: =ROUND($H12*D$2,2) -> 10392295
B13: 4 Этап | C13: =E12+1 -> 46462 | D13: 90 | E13: =C13+D13-1 -> 46551 | F13: =ROUND($H13*C$2,2) -> 10394370 | G13: =YEAR(E13) -> 2027 | H13: 0.09 | I13: =ROUND($H13*D$2,2) -> 10392295
B14: 5 Этап | C14: =E13+1 -> 46552 | D14: 90 | E14: =C14+D14-1 -> 46641 | F14: =ROUND($H14*C$2,2) -> 14713808 | G14: =YEAR(E14) -> 2027 | H14: 0.1274 | I14: =ROUND($H14*D$2,2) -> 14710871
B15: 6 Этап | C15: =E14+1 -> 46642 | D15: 95 | E15: =C15+D15-1 -> 46736 | F15: =C2-SUM(F10:F14) -> 15087410 | G15: =YEAR(E15) -> 2027 | H15: =1-SUM(H10:H14) -> 0.1306 | I15: =D2-SUM(I10:I14) -> 15084386
B16: ИТОГО | D16: =SUM(D10:D15) -> 440 | F16: =SUM(F10:F15) -> 1.15493e+08 | H16: =SUM(H10:H15) -> 1 | I16: =SUM(I10:I15) -> 115469947
