Workbook
Name _ftn1: '2.4.Трудоемкость'!#REF!
Name _ftnref1: '2.4.Трудоемкость'!#REF!
Name _GoBack: '2.4.Трудоемкость'!#REF!
Name _Hlk226029820: '2.3.Функции'!$C$41
Name _Ref226450848: '2.3.Функции'!$C$88
Name _Toc424036212: '2.4.Трудоемкость'!#REF!

Sheet 2.1.Титул
I1: Приложение 2 к протоколу
I2: начальной (максимальной)
I3: цены контракта (цены лота)
A21: Таблица расчета начальной (максимальной) цены контракта
A22: на выполнение работ по развитию государственной информационной системы: информационная система «Система долговременного ухода и социальные стационары» в части создания Сервиса «Чат-бот MAX социальных сервисов»

Sheet 2.2.Свод_по_годам
B3: Определение стоимости услуг по годам | E3: 80000000
B4: № пп | C4: Год | D4: Начальная (максимальная) цена контракта (расчетная), руб. с учетом НДС | E4: Начальная (максимальная) цена контракта с учетом лимита бюджетного финансирования, руб. с учетом НДС | F4: НЕ УДАЛЯТЬ!
C5: Всего, в т.ч. по годам: | D5: ='2.5.Расчет стоимости'!E19 -> 81087916 | E5: =SUM(E6:E8) -> 80000072 | F5: =SUM(F6:F8) -> 77104916 | G5: =SUM(G6:G8) -> 1
B6: 1 | C6: 2026 | D6: ='2.5.Расчет стоимости'!E16 -> 44160190 | E6: =SUMIF($L$13:$L$18,$C6,$O$13:$O$18) -> 43911915 | F6: =E6/'2.5.Расчет стоимости'!B16 -> 42736657 | G6: =ROUND(F6/$F$5,2) -> 0.55
B7: 2 | C7: 2027 | D7: ='2.5.Расчет стоимости'!E17 -> 28679020 | E7: =SUMIF($L$13:$L$18,$C7,$O$13:$O$18) -> 28608301 | F7: =E7/'2.5.Расчет стоимости'!B17 -> 27282377 | G7: =ROUND(F7/$F$5,2) -> 0.35
B8: 3 | C8: 2028 | D8: ='2.5.Расчет стоимости'!E18 -> 8248705.4 | E8: =SUMIF($L$13:$L$18,$C8,$O$13:$O$18) -> 7479856.3 | F8: =E8/'2.5.Расчет стоимости'!B18 -> 7085881.3 | G8: =1-G7-G6 -> 0.1
N11: ='2.5.Расчет стоимости'!C12 -> 148.88
H12: Этап | I12: Начало | J12: Кол-во дней | K12: Окончание | L12: Год | M12: % | N12: Трудоемкость | O12: Сумма
H13: 1 | I13: 46321 | J13: 50 | K13: =I13+J13-1 -> 46370 | L13: =YEAR(K13) -> 2026 | M13: =ROUND(N13/$N$19,4) -> 0.5489 | N13: 81.72 | O13: =N13*$P$19 -> 43911915
H14: 2 | I14: =K13+1 -> 46371 | J14: 90 | K14: =I14+J14-1 -> 46460 | L14: =YEAR(K14) -> 2027 | M14: =ROUND(N14/$N$19,4) -> 0.0922 | N14: 13.72 | O14: =N14*$P$19 -> 7372387.1
H15: 3 | I15: =K14+1 -> 46461 | J15: 90 | K15: =I15+J15-1 -> 46550 | L15: =YEAR(K15) -> 2027 | M15: =ROUND(N15/$N$19,4) -> 0.0922 | N15: 13.72 | O15: =N15*$P$19 -> 7372387.1
H16: 4 | I16: =K15+1 -> 46551 | J16: 90 | K16: =I16+J16-1 -> 46640 | L16: =YEAR(K16) -> 2027 | M16: =ROUND(N16/$N$19,4) -> 0.0866 | N16: 12.9 | O16: =N16*$P$19 -> 6931763.4
H17: 5 | I17: =K16+1 -> 46641 | J17: 90 | K17: =I17+J17-1 -> 46730 | L17: =YEAR(K17) -> 2027 | M17: =ROUND(N17/$N$19,4) -> 0.0866 | N17: 12.9 | O17: =N17*$P$19 -> 6931763.4
H18: 6 | I18: =K17+1 -> 46731 | J18: 130 | K18: =I18+J18-1 -> 46860 | L18: =YEAR(K18) -> 2028 | M18: =ROUND(N18/$N$19,4) -> 0.0935 | N18: ='2.5.Расчет стоимости'!C12-SUM(N13:N17) -> 13.92 | O18: =N18*$P$19 -> 7479856.3
J19: =SUM(J13:J18) -> 540 | M19: =SUM(M13:M18) -> 1 | N19: =SUM(N13:N18) -> 148.88 | O19: =SUM(O13:O18) -> 80000072 | P19: =ROUND(E3/'2.5.Расчет стоимости'!C12,0) -> 537346

Sheet 2.3.Функции
D3: Количество функций обработки информации (Фi)
B4: № | C4: Наименование выполняемых работ /модулей ИС | D4: Ф1 | E4: Ф2 | F4: Ф3 | G4: Ф4 | H4: Ф5 | I4: Ф6 | J4: Ф7 | K4: Ф8 | L4: Сервис | M4: Модуль
C5: Выполнение работ по развитию государственной информационной системы: информационная система «Система долговременного ухода и социальные стационары» в части создания Сервиса «Чат-бот MAX социальных сервисов» | D5: =SUM(D9:D103) -> 8 | E5: =SUM(E9:E103) -> 4 | F5: =SUM(F9:F103) -> 0 | G5: =SUM(G9:G103) -> 7 | H5: =SUM(H9:H103) -> 7 | I5: =SUM(I9:I103) -> 0 | J5: =SUM(J9:J103) -> 0 | K5: =SUM(K9:K103) -> 0
C6: Сервис «Чат-бот MAX социальных сервисов» | D6: =SUM(D7:D8) -> 8 | E6: =SUM(E7:E8) -> 4 | F6: =SUM(F7:F8) -> 0 | G6: =SUM(G7:G8) -> 7 | H6: =SUM(H7:H8) -> 7 | I6: =SUM(I7:I8) -> 0 | J6: =SUM(J7:J8) -> 0 | K6: =SUM(K7:K8) -> 0 | L6: Сервис «Чат-бот MAX социальных сервисов»
C7: Модуль «Чат-бот» | D7: =SUMIFS(D$9:D$103,$L$9:$L$103,$L7,$M$9:$M$103,$M7) -> 2 | E7: =SUMIFS(E$9:E$103,$L$9:$L$103,$L7,$M$9:$M$103,$M7) -> 4 | F7: =SUMIFS(F$9:F$103,$L$9:$L$103,$L7,$M$9:$M$103,$M7) -> 0 | G7: =SUMIFS(G$9:G$103,$L$9:$L$103,$L7,$M$9:$M$103,$M7) -> 1 | H7: =SUMIFS(H$9:H$103,$L$9:$L$103,$L7,$M$9:$M$103,$M7) -> 3 | I7: =SUMIFS(I$9:I$103,$L$9:$L$103,$L7,$M$9:$M$103,$M7) -> 0 | J7: =SUMIFS(J$9:J$103,$L$9:$L$103,$L7,$M$9:$M$103,$M7) -> 0 | K7: =SUMIFS(K$9:K$103,$L$9:$L$103,$L7,$M$9:$M$103,$M7) -> 0 | L7: Сервис «Чат-бот MAX социальных сервисов» | M7: Модуль «Чат-бот»
C8: Модуль «ИИ-агент» | D8: =SUMIFS(D$9:D$103,$L$9:$L$103,$L8,$M$9:$M$103,$M8) -> 6 | E8: =SUMIFS(E$9:E$103,$L$9:$L$103,$L8,$M$9:$M$103,$M8) -> 0 | F8: =SUMIFS(F$9:F$103,$L$9:$L$103,$L8,$M$9:$M$103,$M8) -> 0 | G8: =SUMIFS(G$9:G$103,$L$9:$L$103,$L8,$M$9:$M$103,$M8) -> 6 | H8: =SUMIFS(H$9:H$103,$L$9:$L$103,$L8,$M$9:$M$103,$M8) -> 4 | I8: =SUMIFS(I$9:I$103,$L$9:$L$103,$L8,$M$9:$M$103,$M8) -> 0 | J8: =SUMIFS(J$9:J$103,$L$9:$L$103,$L8,$M$9:$M$103,$M8) -> 0 | K8: =SUMIFS(K$9:K$103,$L$9:$L$103,$L8,$M$9:$M$103,$M8) -> 0 | L8: Сервис «Чат-бот MAX социальных сервисов» | M8: Модуль «ИИ-агент»
B9: 3.2 | C9: Сервис «Чат-бот MAX социальных сервисов»
B10: 3.2.1 | C10: 3.2.1 Требования к функциям (задачам) создаваемого Сервиса «Чат-бот MAX социальных сервисов» | L10: Сервис «Чат-бот MAX социальных сервисов»
B11: 3.2.1 | C11: Для обеспечения автоматизации процесса информирования и консультирования граждан по вопросам получения мер социальной поддержки города Москвы через мессенджер MAX необходимо создать в составе ИС СДУ Сервис «Чат-бот MAX социальных сервисов». | L11: Сервис «Чат-бот MAX социальных сервисов»
B12: 3.2.1 | C12: В рамках создания Сервиса «Чат-бот MAX социальных сервисов» необходимо выполнить следующие работы: | L12: Сервис «Чат-бот MAX социальных сервисов»
B13: 3.2.1 | C13: ‒ создание модуля «Чат-бот» (см. п. 3.2.1.1 ТЗ); | L13: Сервис «Чат-бот MAX социальных сервисов»
B14: 3.2.1 | C14: ‒ создание модуля «ИИ-агент» (см. п. 3.2.1.2 ТЗ). | L14: Сервис «Чат-бот MAX социальных сервисов»
B15: 3.2.1.1 | C15: Модуль «Чат-бот» | L15: Сервис «Чат-бот MAX социальных сервисов» | M15: Модуль «Чат-бот»
B16: 3.2.1.1 | C16: 3.2.1.1 Требования к созданию модуля «Чат-бот» | L16: Сервис «Чат-бот MAX социальных сервисов» | M16: Модуль «Чат-бот»
B17: 3.2.1.1 | C17: В рамках выполнения работ по созданию модуля «Чат-бот» необходимо реализовать следующие требования: | L17: Сервис «Чат-бот MAX социальных сервисов» | M17: Модуль «Чат-бот»
B18: 3.2.1.1 | C18: ‒ создать функциональность взаимодействия с мессенджером МАХ (см. п. 3.2.1.1.1 ТЗ); | L18: Сервис «Чат-бот MAX социальных сервисов» | M18: Модуль «Чат-бот»
B19: 3.2.1.1 | C19: ‒ создать функциональность консультации граждан о мерах поддержки (см. п. 3.2.1.1.2 ТЗ); | L19: Сервис «Чат-бот MAX социальных сервисов» | M19: Модуль «Чат-бот»
B20: 3.2.1.1 | C20: ‒ создать БД модуля «Чат-бот» (см. п. 3.2.1.1.3 ТЗ). | L20: Сервис «Чат-бот MAX социальных сервисов» | M20: Модуль «Чат-бот»
B21: 3.2.1.1.1 | C21: 3.2.1.1.1 Требования к созданию функциональности взаимодействия с мессенджером МАХ | L21: Сервис «Чат-бот MAX социальных сервисов» | M21: Модуль «Чат-бот»
B22: 3.2.1.1.1 | C22: В рамках создания функциональности взаимодействия с мессенджером МАХ необходимо реализовать следующие требования: | L22: Сервис «Чат-бот MAX социальных сервисов» | M22: Модуль «Чат-бот»
B23: 3.2.1.1.1 | C23: ‒ создать функцию подписки на обновления чат-бота в мессенджере МАХ; | E23: 1 | L23: Сервис «Чат-бот MAX социальных сервисов» | M23: Модуль «Чат-бот»
B24: 3.2.1.1.1 | C24: ‒ создать метод обработки событий чат-бота из мессенджера МАХ; | E24: 1 | L24: Сервис «Чат-бот MAX социальных сервисов» | M24: Модуль «Чат-бот»
B25: 3.2.1.1.1 | C25: ‒ создать функцию отправки сообщения в мессенджер МАХ; | E25: 1 | L25: Сервис «Чат-бот MAX социальных сервисов» | M25: Модуль «Чат-бот»
B26: 3.2.1.1.1 | C26: ‒ создать функцию получения информации о боте из мессенджера МАХ; | E26: 1 | L26: Сервис «Чат-бот MAX социальных сервисов» | M26: Модуль «Чат-бот»
B27: 3.2.1.1.1 | C27: ‒ создать функцию получения обновлений при разработке и тестировании Сервиса «Чат-бот MAX социальных сервисов» из мессенджера МАХ. | L27: Сервис «Чат-бот MAX социальных сервисов» | M27: Модуль «Чат-бот»
B28: 3.2.1.1.1 | C28: В ЧТЗ должны быть приведены входные и выходные параметры для каждой создаваемой функции/метода. | L28: Сервис «Чат-бот MAX социальных сервисов» | M28: Модуль «Чат-бот»
B29: 3.2.1.1.2 | C29: 3.2.1.1.2 Требования к созданию функциональности консультации граждан о мерах поддержки | L29: Сервис «Чат-бот MAX социальных сервисов» | M29: Модуль «Чат-бот»
B30: 3.2.1.1.2 | C30: В рамках создания функциональности консультации граждан о мерах поддержки необходимо реализовать следующие требования: | L30: Сервис «Чат-бот MAX социальных сервисов» | M30: Модуль «Чат-бот»
B31: 3.2.1.1.2 | C31: ‒ создать диалоговый интерфейс , обеспечивающий возможность получения информации об услугах ДТСЗН города Москвы в сфере социальной защиты, условиях их предоставления, необходимых документах и порядке оформления; | H31: 1 | L31: Сервис «Чат-бот MAX социальных сервисов» | M31: Модуль «Чат-бот»
B32: 3.2.1.1.2 | C32: ‒ создать функцию обработки сообщений через модуль «ИИ-агент». Функция должна содержать описание взаимодействия с модулем «ИИ-агент» и перечень данных для сохранения в БД модуля «Чат-бот»; | G32: 1 | L32: Сервис «Чат-бот MAX социальных сервисов» | M32: Модуль «Чат-бот»
B33: 3.2.1.1.2 | C33: ‒ создать структуру отображения карточки меры поддержки в диалоговом интерфейсе чат-бота мессенджера МАХ; | H33: 1 | L33: Сервис «Чат-бот MAX социальных сервисов» | M33: Модуль «Чат-бот»
B34: 3.2.1.1.2 | C34: ‒ создать структуру вывода уведомлений о результах поиска релевантной информации в диалоговый интерфейс чат-бота мессенджера МАХ. | H34: 1 | L34: Сервис «Чат-бот MAX социальных сервисов» | M34: Модуль «Чат-бот»
B35: 3.2.1.1.2 | C35: В ЧТЗ должны быть приведены: | L35: Сервис «Чат-бот MAX социальных сервисов» | M35: Модуль «Чат-бот»
B36: 3.2.1.1.2 | C36: ‒ описание структуры отображения карточки меры поддержки в диалоговом интерфейсе чат-бота; | L36: Сервис «Чат-бот MAX социальных сервисов» | M36: Модуль «Чат-бот»
B37: 3.2.1.1.2 | C37: ‒ описание создаваемых функций. | L37: Сервис «Чат-бот MAX социальных сервисов» | M37: Модуль «Чат-бот»
B38: 3.2.1.1.3 | C38: 3.2.1.1.3 Требования к созданию БД модуля «Чат-бот» | L38: Сервис «Чат-бот MAX социальных сервисов» | M38: Модуль «Чат-бот»
B39: 3.2.1.1.3 | C39: В рамках создания модуля «Чат-бот» должна быть создана БД. | L39: Сервис «Чат-бот MAX социальных сервисов» | M39: Модуль «Чат-бот»
B40: 3.2.1.1.3 | C40: В составе БД модуля «Чат-бот» должно быть создано не менее двух таблиц для хранения данных. | D40: 2 | L40: Сервис «Чат-бот MAX социальных сервисов» | M40: Модуль «Чат-бот»
B41: 3.2.1.1.3 | C41: В ЧТЗ должны быть приведены: | L41: Сервис «Чат-бот MAX социальных сервисов» | M41: Модуль «Чат-бот»
B42: 3.2.1.1.3 | C42: ‒ перечень создаваемых таблиц БД модуля «Чат-бот»»; | L42: Сервис «Чат-бот MAX социальных сервисов» | M42: Модуль «Чат-бот»
...

Sheet 2.4.Трудоемкость
A4: № | B4: Наименование выполняемых работ /модулей ИС | C4: Количество функций обработки информации (Фi) | L4: Количество функциональных точек (ФТi) | U4: Способ реализации (уровень языка разработки) | V4: К-нт преобраз. ФТ в БТ | W4: Базовые трудозатраты | X4: Коэффициенты трудоемкости | AG4: КППК | AH4: Общие расчетные трудозатраты, чел.-мес. | AI4: К пер
C5: Ф1 | D5: Ф2 | E5: Ф3 | F5: Ф4 | G5: Ф5 | H5: Ф6 | I5: Ф7 | J5: Ф8 | K5: ИТОГО | L5: ФТ1 | M5: ФТ2 | N5: ФТ3 | O5: ФТ4 | P5: ФТ5 | Q5: ФТ6 | R5: ФТ7 | S5: ФТ8 | T5: ИТОГО | X5: МТ1 | Y5: МТ2 | Z5: МТ3 | AA5: МТ4 | AB5: МТ5 | AC5: МТ6 | AD5: МТ7 | AE5: МТ8
B6: ='2.3.Функции'!C5 -> Выполнение работ по развитию государственной информационной системы: информационная система «Система долговременного ухода и социальные стационары» в части создания Сервиса «Чат-бот MAX социальных сервисов» | C6: =SUBTOTAL(9,C8:C10) -> 8 | D6: =SUBTOTAL(9,D8:D10) -> 4 | E6: =SUBTOTAL(9,E8:E10) -> 0 | F6: =SUBTOTAL(9,F8:F10) -> 7 | G6: =SUBTOTAL(9,G8:G10) -> 7 | H6: =SUBTOTAL(9,H8:H10) -> 0 | I6: =SUBTOTAL(9,I8:I10) -> 0 | J6: =SUBTOTAL(9,J8:J10) -> 0 | ... T6: =SUBTOTAL(9,T8:T10) -> 700 | W6: =SUM(W8:W10) -> 136.2 | AH6: =SUM(AH8:AH10) -> 148.88 | AI6: =AH6/T6 -> 0.21268571
A7: 1 | B7: ='2.3.Функции'!C6 -> Сервис «Чат-бот MAX социальных сервисов» | AI7: =ROUND(SUM(AH8:AH10)/SUM(T8:T10),4) -> 0.2127
A8: 1.1 | B8: ='2.3.Функции'!C7 -> Модуль «Чат-бот» | C8: ='2.3.Функции'!D7 -> 2 | D8: ='2.3.Функции'!E7 -> 4 | E8: ='2.3.Функции'!F7 -> 0 | F8: ='2.3.Функции'!G7 -> 1 | G8: ='2.3.Функции'!H7 -> 3 | H8: ='2.3.Функции'!I7 -> 0 | I8: ='2.3.Функции'!J7 -> 0 | J8: ='2.3.Функции'!K7 -> 0 | K8: =SUM(C8:J8) -> 10 | L8: =C8*11 -> 22 | M8: =D8*6 -> 24 | N8: =E8*5 -> 0 | O8: =F8*5 -> 5 | P8: =G8*4 -> 12 | Q8: =H8*4 -> 0 | R8: =I8*2 -> 0 | S8: =J8*1 -> 0 | T8: =SUM(L8:S8) -> 63 | U8: язык высокого уровня | V8: 0.255 | W8: =ROUND(POWER(T8,0.94)*V8,2) -> 12.53 | X8: 1 | Y8: 1 | Z8: 0.95 | AA8: 1 | AB8: 1 | AC8: 1.15 | AD8: 1 | AE8: 1 | AF8: =ROUND(X8*Y8*Z8*AA8*AB8*AC8*AD8*AE8,3) -> 1.093 | AG8: 1 | AH8: =ROUND(W8*AF8*AG8,2) -> 13.7
A9: 1.2 | B9: ='2.3.Функции'!C8 -> Модуль «ИИ-агент» | C9: ='2.3.Функции'!D8 -> 6 | D9: ='2.3.Функции'!E8 -> 0 | E9: ='2.3.Функции'!F8 -> 0 | F9: ='2.3.Функции'!G8 -> 6 | G9: ='2.3.Функции'!H8 -> 4 | H9: ='2.3.Функции'!I8 -> 0 | I9: ='2.3.Функции'!J8 -> 0 | J9: ='2.3.Функции'!K8 -> 0 | K9: =SUM(C9:J9) -> 16 | L9: =C9*11 -> 66 | M9: =D9*6 -> 0 | N9: =E9*5 -> 0 | O9: =F9*5 -> 30 | P9: =G9*4 -> 16 | Q9: =H9*4 -> 0 | R9: =I9*2 -> 0 | S9: =J9*1 -> 0 | T9: =SUM(L9:S9) -> 112 | U9: язык высокого уровня | V9: 0.255 | W9: =ROUND(POWER(T9,0.94)*V9,2) -> 21.52 | X9: 1 | Y9: 1 | Z9: 0.95 | AA9: 1 | AB9: 1 | AC9: 1.15 | AD9: 1 | AE9: 1 | AF9: =ROUND(X9*Y9*Z9*AA9*AB9*AC9*AD9*AE9,3) -> 1.093 | AG9: 1 | AH9: =ROUND(W9*AF9*AG9,2) -> 23.52
B10: Прочие задачи Сервиса «СоцКазна.Чат-бот MAX» | T10: =ROUND(SUM(T8:T9)/$W$16*$W$17,0) -> 525 | W10: =ROUND(SUM(W8:W9)/$W$16*$W$17,2) -> 102.15 | AH10: =ROUND(SUM(AH8:AH9)/$W$16*$W$17,2) -> 111.66
V12: Количество задач в ТЗ | W12: =W16+W19+W22 -> 10 | X12: =W12/W14 -> 0.25
V13: Количество прочих задач | W13: =W17+W20+W23 -> 30
V14: Общее количество задач | W14: =SUM(W12:W13) -> 40
T16: =B7 -> Сервис «Чат-бот MAX социальных сервисов» | V16: Известные задачи | W16: 10 | X16: =W16/SUM(W16:W17) -> 0.25
V17: Прочие задачи | W17: 30 | X17: =1-X16 -> 0.75

Sheet 2.5.Расчет стоимости
B1: ='2.3.Функции'!C5 -> Выполнение работ по развитию государственной информационной системы: информационная система «Система долговременного ухода и социальные стационары» в части создания Сервиса «Чат-бот MAX социальных сервисов»
B3: Расчет стоимости единицы трудозатрат
A5: № п/п | B5: Среднемесячная заработная плата по данным Мосстата, руб. | C5: К-нт рентабельности | D5: К-нт доли з/п в себесто-имости | E5: Стоимость единицы трудозатрат (чел-мес.), руб.
A6: 1 | B6: 274521.1 | C6: 1.05 | D6: 0.67 | E6: =ROUND(B6/D6*C6,2) -> 430219.63
B9: Расчет стоимости выполненения работ по разработке ИС
A11: № п/п | B11: Стоимость единицы трудозатрат (чел-мес.), руб. | C11: общие расчетные трудозатраты, чел.-месяцев
A12: 1 | B12: =E6 -> 430219.63 | C12: ='2.4.Трудоемкость'!AH6 -> 148.88
A15: Год | B15: Коэффициент, учитывающий инфляцию в i-й год финансирования | C15: Доля от общих расчетных трудозатрат в i-й год финансирования, % | D15: Стоимость выполнения работ по разработке информационной системы по годам, (руб.) без НДС | E15: Стоимость выполнения работ по разработке информационной системы по годам, (руб.) с НДС
A16: 2026 | B16: =1.0275 -> 1.0275 | C16: ='2.2.Свод_по_годам'!G6 -> 0.55 | D16: =ROUND($B$12*$C$12*B16*C16,2) -> 36196877 | E16: =ROUND(D16*1.22,2) -> 44160190
A17: 2027 | B17: =ROUND(B16*(1+0.0205/12*12),4) -> 1.0486 | C17: ='2.2.Свод_по_годам'!G7 -> 0.35 | D17: =ROUND($B$12*$C$12*B17*C17,2) -> 23507394 | E17: =ROUND(D17*1.22,2) -> 28679020
A18: 2028 | B18: =ROUND(B17*(1+0.02/12*4),4) -> 1.0556 | C18: =1-SUM(C16:C17) -> 0.1 | D18: =ROUND($B$12*$C$12*B18*C18,2) -> 6761234 | E18: =ROUND(D18*1.22,2) -> 8248705.4
A19: Итоговая стоимость работ | D19: =SUM(D16:D18) -> 66465505 | E19: =SUM(E16:E18) -> 81087916

Sheet 2.6.Коэффициенты
B2: 1. Коэффициент трудоемкости «Требуемая надежность информационной системы» (МТ1)
B3: Коэффициент определяется по ИС в целом
B5: Тип разрабатываемой ИС | C5: отраслевая ИС | D5: общегородская ИС | E5: критичная ИС
B6: Значение коэффициента трудоемкости (МТ1) | C6: 0.9 | D6: 1 | E6: 1.15
B8: 2. Коэффициент трудоемкости «Среда разработки» (МТ2)
B9: Коэффициент определяется по ИС в целом
B11: Количество сред разработки | C11: 2 среды | D11: 3 среды | E11: 4 среды
B12: Значение коэффициента трудоемкости (МТ2) | C12: 0.93 | D12: 1 | E12: 1.07
B14: 3. Коэффициент трудоемкости «Интеграции с внешними системами» (МТ3)
B15: Коэффициент определяется по ИС в целом
B17: Количество интеграций | C17: менее 10 | D17: от 10 до 20 | E17: свыше 20
B19: Значение коэффициента трудоемкости (МТ3) | C19: 0.95 | D19: 1 | E19: 1.05
B21: 4. Коэффициент трудоемкости «Сложность информационной системы» (МТ4)
B22: Коэффициент определяется отдельно по каждой из подсистем ИС
B24: Класс разрабатываемой ИС | C24: информационно-поисковая (реестр, регистр и др.) | D24: обеспечения деятельности ОИВ, портал, прочая | E24: информационно-аналитическая, управляющая
B25: Значение коэффициента трудоемкости (МТ4) | C25: 0.85 | D25: 1 | E25: 1.15
B27: 5. Коэффициент трудоемкости «Размещение компонент на мобильных устройствах» (МТ5)
B28: Коэффициент определяется отдельно по каждой из подсистем ИС
B30: Использование системой мобильных устройств | C30: не | D30: предусматривается
C31: предусматривается
B32: Значение коэффициента трудоемкости (МТ5) | C32: 1 | D32: 1.07
B34: 6. Коэффициент трудоемкости «Частота обновления платформы» (МТ6)
B35: Коэффициент определяется отдельно по каждой из подсистем ИС
B37: Выход обновления ОС либо СУБД | C37: не чаще чем 1 раз в 12 месяцев | D37: от 1 раза в 12 месяцев до 1 раза в 6 месяцев | E37: чаще чем 1 раз в 6 месяцев
B38: Значение коэффициента трудоемкости (МТ6) | C38: 0.87 | D38: 1 | E38: 1.15
B40: 7. Коэффициент трудоемкости «Новизна информационной системы» (МТ7)
B41: Коэффициент определяется отдельно по каждой из подсистем ИС
B43: Характер выполняемых работ | C43: развитие и/или модернизация | D43: создание новых | E43: создание новой
C44: подсистем действующей ИС | D44: подсистем действующей ИС | E44: ИС
B45: Значение коэффициента трудоемкости (МТ7) | C45: 0.97 | D45: 1 | E45: 1.04
B48: 8. Коэффициент трудоемкости «Сложность аналитической деятельности и проектирования» (МТ8)
B49: Коэффициент определяется отдельно по каждой из подсистем ИС
B51: Сложность аналитической деятельности и проектирования | C51: Не требуется | D51: Наличие модели архитектуры (или новая подсистема) | E51: Отсутствие модели архитектуры
B52: Значение коэффициента трудоемкости (МТ8) | C52: 1 | D52: 1.03 | E52: 1.05
