Workbook
Name DEVEL_TOTAL: '[2]2.2.Свод'!$E$4
Name FUNC_QTTY: '[2]2.3.Функции'!$A$125
Name MAINTENANCE_TOTAL: '[2]2.2.Свод'!$E$5
Name SUBJ: '[2]2.3.Функции'!$C$3
Name СУММ: '[3]2.4. Трудоемкость'!#REF!

Sheet 2.1.Титул
I1: Приложение 2 к протоколу
I2: начальной (максимальной)
I3: цены контракта (цены лота)
A21: Таблица расчета начальной (максимальной) цены контракта
A22: на оказание комплексных услуг по технической поддержке и системному сопровождению Единой автоматизированной информационной системы управления кадрами Правительства Москвы (ЕАИС Кадры 2.0) в 2026-2027 годах

Sheet 2.2.Свод_ТЗ
B3: № пп | C3: Наименование услуг | D3: Начальная (максимальная) цена контракта (расчетная), руб., в том числе НДС 22% | E3: Начальная (максимальная) цена контракта с учетом лимита бюджетного финансирования, руб., в том числе НДС 22% | F3: Доля в стоимости работ, % | I3: Начальная (максимальная) цена контракта с учетом экспертного заключения ГБУ «Аналитический центр» от 24.09.2026 № 1189-5-1-3-240926, руб., в том числе НДС 22% | J3: Доля в стоимости услуг, %
F4: всего | G4: в подготовительном этапе | H4: в основном этапе | J4: всего | K4: в подготовительном этапе | L4: в основном этапе
B5: 1 | C5: поддержка пользователей | D5: ='2.4.Расчет_ТП'!AE14 -> 53203272 | E5: =ROUND($E$9*F5,2) -> 41708504 | F5: =ROUND(D5/D$9,4) -> 0.2648 | G5: 0.001 | H5: =ROUND((1-G$5)*F5,4) -> 0.2645 | I5: 41337960 | J5: =ROUND(I5/$I$9,4) -> 0.2647 | K5: 0.001 | L5: =ROUND((1-K$5)*J5,4) -> 0.2644
B6: 2 | C6: прикладное администрирование | D6: ='2.4.Расчет_ТП'!AF14 -> 89650386 | E6: =ROUNDDOWN($E$9*F6,2) -> 70280720 | F6: =ROUND(D6/D$9,4) -> 0.4462 | H6: =ROUND((1-G$5)*F6,4) -> 0.4458 | I6: 69679291 | J6: =ROUND(I6/$I$9,4) -> 0.4461 | L6: =ROUND((1-K$5)*J6,4) -> 0.4457
B7: 3 | C7: системное администрирование | D7: ='2.4.Расчет_ТП'!AG14 -> 51124379 | E7: =ROUND($E$9*F7,2) -> 40070406 | F7: =ROUND(D7/D$9,4) -> 0.2544 | H7: =ROUND((1-G$5)*F7,4) -> 0.2541 | I7: 39726596 | J7: =ROUND(I7/$I$9,4) -> 0.2543 | L7: =ROUND((1-K$5)*J7,4) -> 0.254
B8: 4 | C8: адаптационное сопровождение | D8: ='2.4.Расчет_ТП'!AH14 -> 6963453.2 | E8: =ROUND($E$9*F8,2) -> 5449827.2 | F8: =ROUNDDOWN(D8/D$9,4) -> 0.0346 | H8: =ROUND((1-G$5)*F8,4) -> 0.0346 | I8: 5449827.2 | J8: =ROUND(I8/$I$9,4) -> 0.0349 | L8: =ROUND((1-K$5)*J8,4) -> 0.0349
B9: Итого | D9: =SUBTOTAL(9,D5:D8) -> 2.0094149e+08 | E9: 1.5750946e+08 | F9: =SUM(F5:F8) -> 1 | G9: =SUM(G5) -> 0.001 | H9: =SUBTOTAL(9,H5:H8) -> 0.999 | I9: =SUM(I5:I8) -> 1.5619367e+08 | J9: =SUM(J5:J8) -> 1 | K9: =K5 -> 0.001 | L9: =SUM(L5:L8) -> 0.999
B10: НДС 22% | D10: =ROUND(D9/122*22,2) -> 36235351 | I10: =ROUND(I9/12*2,2) -> 26032279
B12: Расчет стоимости оказания услуг проводится исходя из длительности Основного этапа оказания услуг и коэффициентов, учитывающих инфляцию в каждый год финансирования. С учетом оказания услуг Основного этапа длительностью 365 календарных дней расчетная начальная (максимальная) цена контракта на оказание комплексных услуг по технической поддержке и системному сопровождению Единой автоматизированной информационной системы управления кадрами Правительства Москвы (ЕАИС Кадры 2.0) в 2026-2027 годах составит 200 941 490,32 руб. (двести миллионов девятьсот сорок одна тысяча четыреста девяносто рублей 32 копейки), в том числе НДС 22%. С учетом лимита бюджетного финансирования данного проекта в размере 157 509 457,95 руб. (ста пятидесяти семи миллионов пятисот девяти тысяч четырехсот пятидесяти семи рублей 95 копеек), в том числе НДС 22%, начальная (максимальная) цена контракта на оказание комплексных услуг по технической поддержке и системному сопровождению Единой автоматизированной информационной системы управления кадрами Правительства Москвы (ЕАИС Кадры 2.0) в 2026-2027 годах была принята равной 157 509 457,95 руб. (ста пятидесяти семи миллионам пятистам девяти тысячам четыремстам пятидесяти семи рублям 95 копейкам), в том числе НДС 22%. С учетом экспертного заключения ГБУ «Аналитический центр» от 24.09.2026 № 1189-5-1-3-240926 начальная (максимальная) цена контракта на оказание комплексных услуг по технической поддержке и системному сопровождению Единой автоматизированной информационной системы управления кадрами Правительства Москвы (ЕАИС Кадры 2.0) в 2026-2027 годах принимается равной 156 193 674,49 руб. (ста пятидесяти шести миллионам ста девяноста трем тысячам шестистам семидесяти четырем рублям 49 копейкам), в том числе НДС 22%.

Sheet 2.3.Свод_по_годам
B1: Определение стоимости работ по годам
B2: № пп | C2: Год | D2: Начальная (максимальная) цена контракта (расчетная), руб., в том числе НДС 22% | E2: Начальная (максимальная) цена контракта с учетом лимита бюджетного финансирования, руб., в том числе НДС 22% | F2: Начальная (максимальная) цена контракта с учетом экспертного заключения ГБУ «Аналитический центр» от 24.09.2026 № 1189-5-1-3-240926, руб., в том числе НДС 22%
B3: Всего, в т.ч. по годам: | D3: =SUM(D4:D5) -> 2.0094149e+08 | E3: =SUM(E4:E5) -> 1.5750946e+08 | F3: =F4+F5 -> 1.5619367e+08
B4: 1 | C4: 2026 | D4: 200941.49 | E4: 157509.46 | F4: 156193.67
B5: 2 | C5: 2027 | D5: 2.0074055e+08 | E5: 1.5735195e+08 | F5: 1.5603748e+08

Sheet 2.4.Расчет_ТП
E3: Исходные данные для расчетов из Паспортов информационных систем | Q3: Коэффициенты функциональной сложности ИСиР | T3: Коэффициенты SLA | X3: Трудоемкость работ (услуг), чел.-дней | AE3: Стоимость эксплуатации ИС, руб.
B4: №№ | C4: Заказчик | D4: Наименование ИСиР | E4: Количество пользователей ИСиР | G4: Эффективное количество процессорных ядер ИСиР, Np | H4: Количество процессорных ядер аппаратных серверов, используемых ИСиР, с учетом контуров Na | I4: Согласованные уровни фукнкциональной сложности | K4: Согласованные уровни сервиса | Q4: поддержка пользователей, Кfпп | R4: прикладное администрирование, Кfпа | T4: поддержка пользователей, Кslaпп | U4: администри-рование, Kslaa | V4: сопровождение и техническая поддержка аппаратного обеспечения, Кslaао | X4: Трудоемкость по поддержке пользователей ИСиР, чел./дней, Hпп | Y4: Трудоемкость по прикладному администрированию ИСиР, чел./дней, Hпа | Z4: Трудоемкость по системному администрированию ИСиР, чел./дней, Hса | AA4: Согласованный лимит трудоемкости по адаптационному сопровождению ИСиР, чел./дней, Hам | AB4: Трудоемкость по сопровождению аппаратного обеспечения ИСиР, чел./дней, Hсо | AC4: Трудоемкость по технической поддержке аппаратного обеспечения ИСиР, чел./дней, Hтп | AE4: Стоимость поддержки пользователей ИСиР, Vпп | AF4: Стоимость прикладного администрирования ИСиР, Vпа | AG4: Стоимость системного администрирования ИСиР, Vса | AH4: Стоимость адаптационного сопровождения, Vам | AI4: Стоимость сопровождения аппаратного обеспечения ИСиР, Vсо | AJ4: Стоимость технической поддержки аппаратного обеспечения ИСиР, Vтп | AK4: Согласованный лимит услуг по поддержке аппаратного обеспечения ИСиР производителем (тыс.руб.) Vва | AL4: Согласованный лимит услуг по поддержке программного обеспечения ИСиР производителем (тыс.руб.) Vвп | AM4: Всего
E5: Госслужащие и работники госучреждений, Nk | F5: Физические лица и работники коммерческих организаций, Nk | I5: прикладной FП | J5: системной FС | K5: режим поддержка пользователей Kslaс | L5: режим техническое сопровождение Kslaи | M5: режим сопровождение и техническая поддержка АО Kslaп | N5: временные параметры Kslaв | O5: уровень доступности Kslaд
B6: 1 | C6: ГКУ «Инфогород» | D6: ЕАИС Кадры 2.0 | E6: 28689 | F6: 13469 | G6: 1307 | H6: 0 | I6: 4.798 | J6: 3.954 | K6: 2 | L6: 1 | M6: 3 | N6: 2 | O6: 1 | Q6: =ROUND('2.6.Коэф_и_показатели'!$E$18+'2.6.Коэф_и_показатели'!$E$19*LN(I6),3) -> 1.571 | R6: =ROUND('2.6.Коэф_и_показатели'!$E$20+'2.6.Коэф_и_показатели'!$E$21*LN(I6),3) -> 1.655 | T6: =ROUND(IF(K6=1,'2.7.SLA'!$D$4,IF(K6=2,'2.7.SLA'!$E$4,'2.7.SLA'!$F$4))*IF(N6=1,'2.7.SLA'!$D$7,IF(N6=2,'2.7.SLA'!$E$7,'2.7.SLA'!$F$7)),3) -> 1.21 | U6: =ROUND(IF(L6=1,'2.7.SLA'!$D$5,IF(L6=2,'2.7.SLA'!$E$5,'2.7.SLA'!$F$5))*IF(N6=1,'2.7.SLA'!$D$7,IF(N6=2,'2.7.SLA'!$E$7,'2.7.SLA'!$F$7))*IF(O6=1,'2.7.SLA'!$D$8,IF(O6=2,'2.7.SLA'!$E$8,'2.7.SLA'!$F$8)),3) -> 1.581 | V6: =ROUND(IF(M6=1,'2.7.SLA'!$D$6,IF(M6=2,'2.7.SLA'!$E$6,'2.7.SLA'!$F$6))*IF(N6=1,'2.7.SLA'!$D$7,IF(N6=2,'2.7.SLA'!$E$7,'2.7.SLA'!$F$7)),3) -> 1.1 | X6: =ROUND('2.6.Коэф_и_показатели'!$E$3*POWER(E6+F6*'2.6.Коэф_и_показатели'!$E$23,'2.6.Коэф_и_показатели'!$E$11)*POWER(Q6,'2.6.Коэф_и_показатели'!$E$12)*T6*'2.8.Услуги'!$G$4,2) -> 1940.65 | Y6: =ROUND('2.6.Коэф_и_показатели'!$E$4*POWER(E6+F6*'2.6.Коэф_и_показатели'!$E$25,'2.6.Коэф_и_показатели'!$E$13)*POWER(R6,'2.6.Коэф_и_показатели'!$E$14)*U6*'2.8.Услуги'!$G$12,2) -> 3270.1 | Z6: =ROUND(('2.6.Коэф_и_показатели'!$E$6*LN(J6)+'2.6.Коэф_и_показатели'!$E$5*POWER(G6,'2.6.Коэф_и_показатели'!$E$15))*U6*'2.8.Услуги'!$G$24,2) -> 1864.82 | AA6: 254 | AB6: =ROUND('2.6.Коэф_и_показатели'!$E$7*POWER(H6,'2.6.Коэф_и_показатели'!E16)*V6,2) -> 0 | AC6: =ROUND('2.6.Коэф_и_показатели'!$E$9*POWER(H6,'2.6.Коэф_и_показатели'!E17)*V6,2) -> 0 | AE6: =ROUND(X6*'2.5.СтоимостьЕдТрудоемкости'!$F$3,2) -> 51008549 | AF6: =ROUND(Y6*'2.5.СтоимостьЕдТрудоемкости'!$F$3,2) -> 85952159 | AG6: =ROUND(Z6*'2.5.СтоимостьЕдТрудоемкости'!$F$3,2) -> 49015414 | AH6: =ROUND(AA6*'2.5.СтоимостьЕдТрудоемкости'!$F$3,2) -> 6676202 | AI6: =ROUND(AB6*'2.5.СтоимостьЕдТрудоемкости'!$F$3,2) -> 0 | AJ6: =ROUND(AC6*'2.5.СтоимостьЕдТрудоемкости'!$F$4,2) -> 0 | AK6: 0 | AL6: 0 | AM6: =ROUND(SUM(AE6:AL6),2) -> 1.9265232e+08
Y9: на срок осн этапа, дней: | Z9: 365 | AA9: =ROUNDDOWN(AA6/365*$Z$9,0) -> 254
AA11: Год | AB11: Коэффициент, учитывающий инфляцию в i-й год финансирования | AC11: Планируемый период эксплуатации в i-й год финансирования, дней | AE11: Стоимость оказания услуг по поддержке пользователей, (руб.) с НДС | AF11: Стоимость оказания услуг по прикладному администрированию ИСиР, (руб.) с НДС | AG11: Стоимость оказания услуг по системному администрированию ИСиР, (руб.) с НДС | AH11: Стоимость оказания услуг по адаптационному сопровождению ИСиР, (руб.) с НДС | AI11: Стоимость оказания услуг по сопровождению и поддержки аппаратного обеспесчения ИСиР, (руб.) с НДС | AJ11: Стоимость оказания услуг по эксплуатации информационной системы по годам, (руб.) с НДС
AA12: 2026 | AB12: 1.0275 | AC12: 43 | AE12: =ROUND($AE$6*$AC12/365*$AB12,2) -> 6174480.1 | AF12: =ROUND($AF$6*$AC12/365*$AB12,2) -> 10404332 | AG12: =ROUND($AG$6*$AC12/365*$AB12,2) -> 5933215.1 | AH12: =$AH$14/$Z$9*$AC12 -> 820352.02 | AI12: =ROUND(($AI$6+$AJ$6)*$AC12/365*$AB12,2) -> 0 | AJ12: =SUM(AE12:AI12) -> 23332379
AA13: 2027 | AB13: =ROUND(AB12*(1+0.0205/12*10),4) -> 1.0451 | AC13: 322 | AE13: =ROUND($AE$6*$AC13/365*$AB13,2) -> 47028792 | AF13: =ROUND($AF$6*$AC13/365*$AB13,2) -> 79246053 | AG13: =ROUND($AG$6*$AC13/365*$AB13,2) -> 45191164 | AH13: =$AH$14/$Z$9*$AC13 -> 6143101.2 | AI13: =ROUND(($AI$6+$AJ$6)*$AC13/365*$AB13,2) -> 0 | AJ13: =SUM(AE13:AI13) -> 1.7760911e+08
AA14: Итоговая стоимость услуг | AE14: =SUM(AE12:AE13) -> 53203272 | AF14: =SUM(AF12:AF13) -> 89650386 | AG14: =SUM(AG12:AG13) -> 51124379 | AH14: =((ROUNDDOWN(AH6/AA6*AB12/Z9*AC12,2))+(ROUNDDOWN(AH6/AA6*AB13/Z9*AC13,2)))*AA9 -> 6963453.2 | AI14: =SUM(AI12:AI13) -> 0 | AJ14: =SUM(AE14:AI14) -> 2.0094149e+08

Sheet 2.5.СтоимостьЕдТрудоемкости
A2: №№ | B2: Обозначение показателя в Порядке 18р | C2: Наименование показателя в Порядке 18р | F2: Стоимость единицы трудоемкости в ценах 2025 года (руб. за 1 чел.-день)
A3: 1. | B3: Rп | C3: Стоимость единицы трудоемкости поддержки пользователей, администрирования и сопровождения | F3: =ROUND(274521.1/0.65*1.05*1.22*12/247,2) -> 26284.26
A4: 2. | B4: Rт | C4: Стоимость единицы трудоемкости технической поддержки аппаратного обеспечения | F4: =ROUND(138314.6/0.64*1.05*1.22*12/247,2) -> 13449.97

Sheet 2.6.Коэф_и_показатели
B2: №№ | C2: Коэффициенты и показатели Методики | D2: Обозначение в Методике | E2: Значение
B3: 1. | C3: Коэффициенты связи: | D3: aпп | E3: 11.13
D4: aпа | E4: 22.54
D5: aса | E5: 0.855
D6: bса | E6: 318
D7: aсо | E7: 1.429
D8: bсо | E8: 0.431
D9: aтп | E9: 0.796
D10: bтп | E10: 0.413
B11: 2. | C11: Коэффициенты масштаба: | D11: bпп | E11: 0.438
D12: cпп | E12: 1.048
D13: bпа | E13: 0.372
D14: cпа | E14: 1.39
D15: cса | E15: 0.943
D16: cсо | E16: 0.943
D17: cтп | E17: 0.943
B18: 3. | C18: Коэффициенты связи для расчета коэффициентов функциональной сложности ИС: | D18: dпп | E18: 0.589
D19: gпп | E19: 0.626
D20: dпа | E20: 0.673
D21: gпа | E21: 0.626
B22: 4. | C22: Коэффициенты категорий пользователей: | D22: Kpппг | E22: 1
D23: Kpппф | E23: =1/150 -> 0.0066666667
D24: Kpпаг | E24: 1
D25: Kpпаф | E25: =1/275 -> 0.0036363636

Sheet 2.7.SLA
B3: 5. Коэффициенты уровня сервиса | C3: Обозначение в Методике | D3: Уровень 1 | E3: Уровень 2 | F3: Уровень 3
B4: Коэффициент уровня сервиса по показателю «Режим оказания услуг» (сервисное обслуживание) | C4: Kslaс | D4: 1.25 | E4: 1.1 | F4: 1
B5: Коэффициент уровня сервиса по показателю «Режим оказания услуг» (инцидентная работа) | C5: Kslaи | D5: 1.25 | E5: 1.1 | F5: 1
B6: Коэффициент уровня сервиса по показателю «Режим оказания услуг» (сопровождение и техническая поддержка аппаратного обеспечения) | C6: Kslaп | D6: 1.25 | E6: 1.1 | F6: 1
B7: Коэффициент уровня сервиса по показателю «Временные параметры услуг» | C7: Kslaв | D7: 1.15 | E7: 1.1 | F7: 1
B8: Коэффициент уровня сервиса по показателю «Уровень доступности информационной системы» | C8: Kslaд | D8: 1.15 | E8: 1.1 | F8: 1

Sheet 2.8.Услуги
E2: Отметка (если услуга/линия используется - поставьте 1, иначе - 0) | G2: Коэффициент
B3: Услуга | C3: Процент от общей стоимости услуг по комплексу «Поддержка пользователей»
B4: Поддержка пользователей, всего | C4: 0.87 | G4: =IF(E5=1,C5,0)+IF(E6=1,C6,0)+IF(E7=1,C7,0) -> 1
B5: в т.ч. 1-я линия поддержки | C5: 0.61 | E5: 1
B6: 2-я линия поддержки | C6: 0.26 | E6: 1
B7: Управление знаниями | C7: 0.13 | E7: 1
B11: Услуга | C11: Процент от общей стоимости услуг по комплексу «Прикладное администрирование»
B12: Управление инцидентами, всего | C12: 0.45 | G12: =IF(E13=1,C13,0)+IF(E14=1,C14,0)+IF(E15=1,C15,0)+IF(E16=1,C16,0)+IF(E17=1,C17,0)+IF(E18=1,C18,0)+IF(E19=1,C19,0) -> 1
B13: в т.ч. 2-я линия поддержки | C13: 0.3 | E13: 1
B14: 3-я линия поддержки | C14: 0.15 | E14: 1
B15: Управление событиями | C15: 0.07 | E15: 1
B16: Управление изменениями | C16: 0.19 | E16: 1
B17: Функциональное тестирование | C17: 0.08 | E17: 1
B18: Управление доступом | C18: 0.09 | E18: 1
B19: Управление плановыми работами | C19: 0.12 | E19: 1
B23: Услуга | C23: Процент от общей стоимости услуг по комплексу «Системное администрирование»
B24: Управление инцидентами, всего | C24: 0.28 | G24: =IF(E25=1,C25,0)+IF(E26=1,C26,0)+IF(E27=1,C27,0)+IF(E28=1,C28,0)+IF(E29=1,C29,0)+IF(E30=1,C30,0)+IF(E31=1,C31,0) -> 1
B25: в т.ч. 2-я линия поддержки | C25: 0.19 | E25: 1
B26: 3-я линия поддержки | C26: 0.09 | E26: 1
B27: Управление событиями | C27: 0.09 | E27: 1
B28: Управление изменениями | C28: 0.16 | E28: 1
B29: Нагрузочное тестирование | C29: 0.08 | E29: 1
B30: Управление плановыми работами | C30: 0.25 | E30: 1
B31: Управление резервным копированием | C31: 0.14 | E31: 1
