Workbook
Name _Toc194935826: 'Методика описания'!$A$5
Name _Toc194935830: 'Методика описания'!$A$12
Name _Toc194935831: 'Методика описания'!$A$19
Name _Toc194935832: 'Методика описания'!$A$39
Name _Toc194935835: 'Методика Приложения'!$A$2
Name _Toc194935836: 'Методика Приложения'!$A$25
Name _Toc194935837: 'Методика Приложения'!$A$41
Name _Toc194935838: 'Методика Приложения'!#REF!
Name _Toc195252395: Взаимодействие!$A$1
Name _Toc195252396: Взаимодействие!$A$5
Name _Toc195252397: Взаимодействие!$A$10
Name _Toc195252398: Взаимодействие!$A$16
Name _Toc195252399: Взаимодействие!$A$21
Name _Toc195252400: Взаимодействие!$A$26
Name _Toc195252401: Взаимодействие!$A$32
Name _Toc195252402: Взаимодействие!$A$38
Name _Toc195252403: Взаимодействие!$A$51
Name _Toc195252404: Взаимодействие!$A$56
Name _Toc195252405: Взаимодействие!$A$65
Name _Toc195252406: 'СУО (SLA)'!$A$3
Name _Toc195252410: 'Методика описания'!$A$1
Name _Toc198398920: Взаимодействие!$A$3
Name _Toc64636613: Регламент!$A$2
Name S_sla: Справочники!$D$4:$D$7
Name манипуляция: Справочники!$E$4:$E$6
Name Приоритет: Справочники!$B$4:$B$7
Name Тип: Справочники!$C$4:$C$6

Sheet Расчёт
B1: Расчёт времени исполнения запроса на настройку СИСТЕМЫ
B5: Текст заявки (или ЧТЗ, или ссылка на ЧТЗ) на настройку СИСТЕМЫ. | J5: № ЧТЗ | K5: _ _ _
B9: Система - автоматизированная информационная система. ЧТЗ - частное техническое задание на настройку Системы. ПО - программное обеспечение Системы.
B10: Инструкция по автоматическому расчету трудозатрат на настройку Системы:
B11: Введите (или скопируйте) номер и название ЧТЗ на настройку Системы. На листе "Детализация" кратко опишите суть настройки каждого объекта Системы.
B12: Введите количество (*не более 12) настраиваемых объектов Системы по видам настройки. В строке "Время настройки (час)" отобразится предельное время трудозатрат на настройку КИС.
B13: *Пояснение. Большее (чем 12) количество объектов настройки свидетельствует о недостаточной декомпозиции задачи по настройке Системы.
B15: Максимальное время на минимальную настройку объекта Системы "Документация" (в минутах) - | K15: 9
B17: Расчет максимального времени реализации запроса на настройку Системы
B18: Тип настраиваемых объектов Системы (микрообъекты Системы) | C18: Количество настраиваемых объектов Системы по виду настройки. | F18: Веc (V) | H18: Минимальная настройка (час) | I18: Время по виду настройки (в часах)
C19: Корректировка | D19: Калибровка | E19: Юстировка | I19: Корректировка | J19: Калибровка | K19: Юстировка
C20: 0.5 | D20: 2 | E20: 4 | H20: =K15/60 -> 0.15 | I20: 0.5 | J20: 2 | K20: 4
B21: 1. Запрос к БД | C21: 0 | D21: 0 | E21: 1 | F21: 8 | H21: Время настройки по типам объектов (час) | I21: =ROUND($H$20*C$20*$F21*IF(INT(C21)>=12,12,IF(C21<=0,0,C21)),2) -> 0 | J21: =ROUND($H$20*D$20*$F21*IF(INT(D21)>=12,12,IF(D21<=0,0,D21)),2) -> 0 | K21: =ROUND($H$20*E$20*$F21*IF(INT(E21)>=12,12,IF(E21<=0,0,E21)),2) -> 4.8 | L21: =$F21*IF(F21>=16,16,IF(F21<=0,0,F21)) -> 64
B22: 2. Процедура | C22: 0 | D22: 1 | E22: 0 | F22: 7 | I22: =ROUND($H$20*C$20*$F22*IF(INT(C22)>=12,12,IF(C22<=0,0,C22)),2) -> 0 | J22: =ROUND($H$20*D$20*$F22*IF(INT(D22)>=12,12,IF(D22<=0,0,D22)),2) -> 2.1 | K22: =ROUND($H$20*E$20*$F22*IF(INT(E22)>=12,12,IF(E22<=0,0,E22)),2) -> 0
B23: 3. Обработка события | C23: 0 | D23: 1 | E23: 0 | F23: 6 | I23: =ROUND($H$20*C$20*$F23*IF(INT(C23)>=12,12,IF(C23<=0,0,C23)),2) -> 0 | J23: =ROUND($H$20*D$20*$F23*IF(INT(D23)>=12,12,IF(D23<=0,0,D23)),2) -> 1.8 | K23: =ROUND($H$20*E$20*$F23*IF(INT(E23)>=12,12,IF(E23<=0,0,E23)),2) -> 0
B24: 4. Экранная форма | C24: 1 | D24: 0 | E24: 0 | F24: 5 | I24: =ROUND($H$20*C$20*$F24*IF(INT(C24)>=12,12,IF(C24<=0,0,C24)),2) -> 0.38 | J24: =ROUND($H$20*D$20*$F24*IF(INT(D24)>=12,12,IF(D24<=0,0,D24)),2) -> 0 | K24: =ROUND($H$20*E$20*$F24*IF(INT(E24)>=12,12,IF(E24<=0,0,E24)),2) -> 0
B25: 5. Набор данных | C25: 0 | D25: 1 | E25: 0 | F25: 4 | I25: =ROUND($H$20*C$20*$F25*IF(INT(C25)>=12,12,IF(C25<=0,0,C25)),2) -> 0 | J25: =ROUND($H$20*D$20*$F25*IF(INT(D25)>=12,12,IF(D25<=0,0,D25)),2) -> 1.2 | K25: =ROUND($H$20*E$20*$F25*IF(INT(E25)>=12,12,IF(E25<=0,0,E25)),2) -> 0
B26: 6. Макет | C26: 0 | D26: 0 | E26: 1 | F26: 3 | I26: =ROUND($H$20*C$20*$F26*IF(INT(C26)>=12,12,IF(C26<=0,0,C26)),2) -> 0 | J26: =ROUND($H$20*D$20*$F26*IF(D26>=12,12,IF(D26<=0,0,D26)),2) -> 0 | K26: =ROUND($H$20*E$20*$F26*IF(INT(E26)>=12,12,IF(E26<=0,0,E26)),2) -> 1.8
B27: 7. Документация | C27: 1 | D27: 0 | E27: 0 | F27: 2 | I27: =ROUND($H$20*C$20*$F27*IF(INT(C27)>=12,12,IF(C27<=0,0,C27)),2) -> 0.15 | J27: =ROUND($H$20*D$20*$F27*IF(D27>=12,12,IF(D27<=0,0,D27)),2) -> 0 | K27: =ROUND($H$20*E$20*$F27*IF(INT(E27)>=12,12,IF(E27<=0,0,E27)),2) -> 0
H28: _Настройка объектов (час) | I28: =SUM(I21:K27) -> 12.23

Sheet  Детализация
B1: № ЧТЗ | C1: Детализация расчета максимального времени (час) реализации запроса на настройку Системы.
B3: =Расчёт!K5 -> _ _ _ | D3: =IF((B16+D16+D22)-TRUNC((B16+D16+D22),0)=0,(B16+D16+D22),IF((B16+D16+D22)-TRUNC((B16+D16+D22),0)>=0.51,ROUNDUP((B16+D16+D22),0),TRUNC((B16+D16+D22),0)+0.5)) -> 15.5 | E3: час - Итоговое время по запросу (округляется вверх до получаса).
B5: =Расчёт!B5 -> Текст заявки (или ЧТЗ, или ссылка на ЧТЗ) на настройку СИСТЕМЫ.
B7: I. Работы по настройке Системы (реализованной на 1С или на другой платформе/языке программирования).
B8: Объект | C8: Пояснение настройки объекта для ФЗ (на основании ЧТЗ) | D8: Настройка | E8: Объекты Системы | F8: Описание настройки объектов Системы
B9: =Расчёт!B21 -> 1. Запрос к БД | D9: Юстировка
B10: =Расчёт!B22 -> 2. Процедура | D10: Калибровка
B11: =Расчёт!B23 -> 3. Обработка события | D11: Калибровка
B12: =Расчёт!B24 -> 4. Экранная форма | D12: Корректировка
B13: =Расчёт!B25 -> 5. Набор данных | D13: Калибровка
B14: =Расчёт!B26 -> 6. Макет | D14: Юстировка
B15: =Расчёт!B27 -> 7. Документация | D15: Корректировка
B16: =SUM(Расчёт!I21:K27) -> 12.23 | C16: =Расчёт!H28 -> _Настройка объектов (час) | D16: =B16*0.2 -> 2.446 | E16: _Подготовка настройки (час) составляет 20% от настройки объектов
B18: II. Манипуляции с данными (для добавления манипуляции: 1. вставить строку ниже первой манипуляции; 2. скопировать строку первой манипуляции в новую строку 3. Заполнить строку корректными данными новой манипуляции с данными рабочей БД)
A19: час | B19: Количество | C19: Время за единицу (час) | D19: Манипуляция | E19: Описание манипуляции с данными
A20: =B20*C20 -> 0.1 | B20: 1 | C20: =IF(D20=Справочники!$E$4,Справочники!C$27,IF(D20=Справочники!$E$5,Справочники!D$27,Справочники!E$27)) -> 0.1 | D20: Удаление
A21: =B21*C21 -> 0.6 | B21: 1 | C21: =IF(D21=Справочники!$E$4,Справочники!C$27,IF(D21=Справочники!$E$5,Справочники!D$27,Справочники!E$27)) -> 0.6 | D21: Изменение
D22: =ROUND(SUM(A20:A21),2) -> 0.7 | E22: _ Манипуляции с данными (час)
B24: Сформировано: руководитель проектной команды Исполнителя
B25: _________________ | C25: __________ ________________________ ______________________________
B26: Дата | C26: подпись ФИО должность
B28: Согласовано : Функциональный заказчик (в части перечня услуг и соответствия ТЗ):
B29: _________________ | C29: __________ ________________________ ______________________________
B30: Дата | C30: подпись ФИО должность
B32: Утверждено : руководитель Проекта Заказчика (ответственный сотрудник ИТ)
B34: _________________ | C34: __________ ________________________ ______________________________
B35: Дата | C35: подпись ФИО должность

Sheet Справочники
B1: Справочники:
B3: Сложность настройки | C3: Виды настройки | D3: Коэффициенты SLA | E3: Виды манипуляции
B4: Минимум | C4: Корректировка | D4: 1 | E4: Удаление
B5: Малая | C5: Калибровка | D5: 0.9 | E5: Создание
B6: Средняя | C6: Юстировка | D6: 0.5 | E6: Изменение
B7: Максимум | D7: 0
B9: Предельное время минимальной настройки (корректировка объекта ПО "Документация") | E9: 0.15
E10: час
B12: Трудоёмкости юстировки, калибровки и корректировки объектов Системы.
B13: Объект настройки | C13: Вид настройки / время за 1 настройку (час). | F13: Веc
C14: Корректировка | D14: Калибровка | E14: Юстировка
C15: 0.5 | D15: 2 | E15: 4
B16: Запрос к БД | C16: =ROUND($C$22*$C$15*$F16,2) -> 0.6 | D16: =ROUND(C16*4,1) -> 2.4 | E16: =D16*2 -> 4.8 | F16: 8
B17: Процедура модуля | C17: =ROUND($C$22*$C$15*$F17,2) -> 0.53 | D17: =ROUND(C17*4,1) -> 2.1 | E17: =D17*2 -> 4.2 | F17: 7
B18: Обработка события | C18: =ROUND($C$22*$C$15*$F18,2) -> 0.45 | D18: =ROUND(C18*4,1) -> 1.8 | E18: =D18*2 -> 3.6 | F18: 6
B19: Экранная форма | C19: =ROUND($C$22*$C$15*$F19,2) -> 0.38 | D19: =ROUND(C19*4,1) -> 1.5 | E19: =D19*2 -> 3 | F19: 5
B20: Набор данных | C20: =ROUND($C$22*$C$15*$F20,2) -> 0.3 | D20: =ROUND(C20*4,1) -> 1.2 | E20: =D20*2 -> 2.4 | F20: 4
B21: Макет | C21: =ROUND($C$22*$C$15*$F21,2) -> 0.23 | D21: =ROUND(C21*4,1) -> 0.9 | E21: =D21*2 -> 1.8 | F21: 3
B22: Документация | C22: 0.15 | D22: =ROUND(C22*4,1) -> 0.6 | E22: =D22*2 -> 1.2 | F22: 2
C24: Вид манипуляции с данными (время (час) за 1 манипуляцию | F24: Веc
C25: Удаление (час) | D25: Создание (час) | E25: Изменение (час)
C26: 0.5 | D26: 2 | E26: 4
B27: Манипуляция с данными | C27: 0.1 | D27: 0.3 | E27: 0.6 | F27: 1

Sheet Регламент
A1: 1. НАЗНАЧЕНИЕ 1.1. Регламент по организации сопровождения автоматизированных информационных систем АО «Россети Кубань является нормативным документом. Сопровождение автоматизированных информационных систем состоит из услуг настройки и поддержки АИС. 1.2. Задача данного Регламента – описание порядка взаимодействия между структурными подразделениями Функционального заказчика, ДЦТИТ и Исполнителем. Регламент описывает действия каждого из участников процесса, выполняемых ими в рамках функциональных направлений, порядок и параметры взаимодействия. 2. НОРМАТИВНЫЕ ССЫЛКИ - Р 157-2022 «Регламент по соблюдению правил информационной безопасности ПАО «Россети Кубань» в действующей редакции. - Приказ о вводе в промышленную эксплуатацию АС «РИТМ» от 28.03.2024 №212–од.
A2: 3. Термины, определения, обозначения и сокращения
A3: Термин | B3: Определение
A4: АИС | B4: Автоматизированная информационная система, автоматизирующая бизнес-процессы ФЗ
A5: АС «РИТМ» | B5: Автоматизированная система «Расчет исполнительских трудозатрат по модификации» АО «Россети Кубань» (введена в промышленную эксплуатацию приказом от 28.03.2024 №212–од), предназначенная для ведения Заявок, ЧТЗ, РВ, формирования отчетов по услугам Исполнителя
A6: Базовые виды объектов | B6: Объекты, существующие во всех АИС (независимо от технологий или языков программирования): запрос к БД, процедура, обработка события, экранная форма, набор данных, макет, документация.
A7: БД | B7: База данных АИС
A8: Виды настройки АИС | B8: Виды настройки (виды сложности настройки), существующие во всех АИС (независимо от технологий или языков программирования): корректировка (малая сложность), настройка (средняя сложность), юстировка (максимальная сложность).
A9: Договор | B9: Договор с Исполнителем на сопровождение АИС Заказчика
A10: ДЦТИТ | B10: Департамент цифровой трансформации информационных технологий
A11: Заявка | B11: Обращение, составляемое пользователем АИС и передаваемое Исполнителю с целью дальнейшего получения Услуг от Исполнителя
A12: ЗНН | B12: Заявка Пользователя на выполнение настройки АИС
A13: Исполнитель | B13: Победитель конкурсных процедур, предоставляющий услуги Заказчику по сопровождению АИС
A14: Манипуляция с данными | B14: Массовая манипуляция – запуск процедуры/функции обработки данных (удаление, создание, изменение) в АИС с проверкой корректности результата. Удаление - запуск обработки по удалению данных. Создание - запуск обработки по созданию новых данных, возможно ещё с удалением данных. Изменение - запуск обработки по изменению данных, возможно ещё с удалением данных и/или созданием данных
... A30: ЧТЗ | B30: Частное техническое задание от ФЗ на настройку АИС (или от ДЦТИТ на оптимизацию производительности АИС), прилагаемое к ЗНН

Sheet Взаимодействие
A1: 4. Взаимодействие при Настройке АИС
A3: В данном разделе описываются функции участников при реализации заявки на настройку АИС. Для расчета трудозатрат на настройку АИС используется Методика весов - приведена в Приложении 1. Схема взаимодействия между структурными подразделениями Функционального заказчика, ДЦТИТ и Исполнителем при реализации ЗНН приведена в Приложении 2.
A5: 4.1. Формирование ЧТЗ функциональным Заказчиком
A7: При необходимости в настройке АИС ФЗ формирует ЧТЗ и согласовывает его с Исполнителем и в Исполнительном аппарате Общества с руководителем или куратором по своему функциональному направлению (если настройка затронет функциональность других ФЗ, то также необходимо их согласование). Согласованное ЧТЗ ФЗ направляет в ДЦТИТ служебной запиской посредством СЭДО для создания Заявки на выполнение настройки АИС.
A8: Если в отношении требуемой функциональности ранее утверждалось ЧТЗ, то изменения и(или) дополнения вносятся в ранее утверждённое ЧТЗ путём создания новой версии ЧТЗ с указанием даты редакции (например, «№ NN изм. 27.03.2025»). Для сохранения истории, все изменения вносятся в документ в режиме «Исправления». Также возможно исключения (удаления) из ЧТЗ, указывать зачеркнутым шрифтом, а все изменения выделять цветом. После утверждения все правки в документе применяются.
A10: 4.2. СОЗДАНИЕ ЗНН
A12: ДЦТИТ в течение 2 рабочих дней после получения ЧТЗ вносит его в АС РИТМ и создает ЗНН. При недоступности АС «РИТМ» ДЦТИТ направляет ЧТЗ Исполнителю посредством электронной почты (с последующим внесением ЧТЗ в АС «РИТМ» и созданием в нём ЗНН).
A13: Если ЧТЗ объемное, то допустимо разделение ЧТЗ на этапы (понятные ФЗ) и создание нескольких ЗНН (по одной Заявке на каждый этап) на реализацию ЧТЗ (все эти ЗНН связаны одним и тем же ЧТЗ). Этапы могут выполняться Исполнителем (и приниматься ФЗ) как параллельно, так и последовательно (по согласованию с ФЗ и ДЦТИТ).
A14: К одной ЗНН может быть создано несколько РВ. В каждом РВ должны быть указаны трудозатраты одного специалиста Исполнителя (или нескольких, но выполняемых последовательно) на выполнение логически неделимой задачи ЗНН. В этом случае работы по ЗНН принимаются ФЗ (далее – актируются) только по завершению выполнения Исполнителем настройки по всем РВ конкретной Заявки.
A16: 4.3. Создание РВ
A18: Исполнитель, в течение не более 4 рабочих дней с момента создания ЗНН в АС «РИТМ», уточняет (при необходимости) ЧТЗ по ЗНН у ФЗ (инициатора Заявки), создает в АС «РИТМ» необходимое для реализации Заявки количество РВ и устанавливает им статус «Согласование».
A19: ДЦТИТ контролирует сроки создания РВ (при необходимости участвует в уточнении ЧТЗ).
... A69: Исполнитель должен выполнять заявку на поддержку в срок не более 2 рабочих дней (или по согласованию с ФЗ). ФЗ должен подтвердить выполнение заявки в срок не более 2 рабочих дней (или по согласованию с Исполнителем). Схема взаимодействия между структурными подразделениями Функционального заказчика, ДЦТИТ и Исполнителем при поддержке АИС приведена в Приложении 5.

Sheet СУО (SLA)
A1: 7. СОГЛАШЕНИЕ ОБ УРОВНЕ ОБСЛУЖИВАНИЯ
A3: СУО включает в себя следующие положения: 1. Не должно быть нарушения доступности АИС по вине Исполнителя; 2. Не должно быть нарушения работоспособности какого-либо функционального режима АИС по вине Исполнителя; 3. Замечания к функциональности АИС должны устраняться в согласованные сроки; 4. Действия Исполнителя не должны приводить к потере, недоступности, искажению или несанкционированному удалению данных в АИС; 5. Не должно быть отказа Исполнителя от восстановления работоспособности АИС (или неисполнения восстановления работоспособности АИС в срок по договору или согласованию с Заказчиком); 6. Не должно быть отказа Исполнителя от Задач и услуг в части поддержки и настройки АИС (или неисполнения в срок по договору или согласованию с Заказчиком); 7. Действия Исполнителя не должны приводить к некорректному отображению статусов ЗНН в АС «РИТМ»; 8. Отчет об оказанных услугах своевременно представляется Исполнителем в срок, указанный в Договоре. Фактическая стоимость услуг Исполнителя за отчетный период будет снижена на 10% (Сф *0,9) если: – будет нарушена доступность АИС по вине Исполнителя на время, превышающее 1 час; – будет нарушена работоспособность какого-либо функционального режима АИС по вине Исполнителя на время, превышающее 2 часа; – не будет устранено замечание к функциональности АИС в согласованные ФЗ или ДЦТИТ сроки; – действия Исполнителя приведут к потере, недоступности или искажению данных в АИС; – в отчетном месяце произойдет отказ Исполнителя от предоставления конкретной услуги по настройке или поддержке АИС; – действия Исполнителя приведут к некорректному отображению статусов ЗНН в АС «РИТМ». Если перечисленные случаи повторятся в отчетном месяце от 2 до 5 раз, то фактическая стоимость услуг Исполнителя за отчетный период будет снижена на 50% (Сф *0,5), а если 5 и более раз, то фактическая стоимость услуг Исполнителя за отчетный период будет равна 0 (Сф *0). При недоступности функциональности АИС или нарушении работоспособности отдельных программных модулей в АИС по вине Исполнителя более 5 рабочих дней, фактическая стоимость услуг Исполнителя за отчетный период будет равна 0 (Сф *0). При отказе Исполнителя от восстановления работоспособности АИС, при условии, что АИС стала неработоспособной по вине Исполнителя, фактическая стоимость услуг Исполнителя за отчетный период будет равна 0 (Сф *0). При несвоевременном и/или некачественном предоставлении отчета об оказанных услугах Исполнителем, фактическая стоимость услуг Исполнителя за отчетный период будет снижена на 10%. В таких случаях актирование услуг Исполнителя производится на основании отчёта, сформированного в АС РИТМ Заказчиком. Повторное нарушение СУО со стороны Исполнителя служит основанием для расторжения Заказчиком договора в одностороннем порядке.

Sheet Стоимость
A1: 8. РАСЧЕТ СТОИМОСТИ СОПРОВОЖДЕНИЯ АИС ЗА ОТЧЕТНЫЙ ПЕРИОД
A3: Стоимость реализации настройки по ЗНН вычисляется по формуле Снастр= КЧР*Ст_ч * S1*S2, где: Снастр - фактическая стоимость настройки по ЗНН, КЧР – Количество Часов Расчетное (суммарное значение часов по всем РВ в ЗНН), Ст_ч - стоимость часа настройки по Договору, S2 – понижающий коэффициент, зависит от задержки исполнения ЗНН и вычисляется по формуле S2 = КЧР/КЧФ, где КЧФ – Количество Часов Фактическое (суммарное значение часов фактического исполнения по всем РВ в ЗНН). Если КЧФ <= КЧР, то S2 =1. S1 – понижающий коэффициент, зависит от количества неудачных попыток сдачи-приемки выполненных работ по ЗНН. S1 = 1-К*0,05, где К- количество неудачных попыток сдачи-приемки выполненных работ по ЗНН. Количество попыток сдачи-приемки выполненных работ определяется по количеству статусов «Настройка» при наличии статуса «Приёмка завершена». Если неудачных попыток сдачи-приемки выполненных работ не было, то К=0.
A4: Примеры расчета стоимости настройки АИС приведены в Приложении 4. Фактическая стоимость услуг Исполнителя по Договору (Сф) за отчётный месяц вычисляется по формуле: Сф = Спод+Снастр_мес+Ссогл, где : Сф - сумма вычисленных стоимостей всех реализованных и подтвержденных в отчетном месяце услуг, Спод – стоимость услуг по поддержке АИС за отчетный период указывается в Договоре и является постоянной величиной на весь срок действия Договора, Снастр_мес - стоимость услуг по настройке АИС за отчетный период. Определяется, как сумма работ по всем ЗНН (Cзнн) за отчётный период, Ссогл - стоимость услуг по реализованной нетиповой настройке АИС (или её части) за отчетный период. Окончательный расчет суммы производится на основании СУО.
A6: 9. Взаимодействие при формировании отчета об оказании услуг
A8: Исполнитель направляет Заказчику отчет по сопровождению АИС за отчетный период в срок, указанный в Договоре.
A9: При отсутствии замечаний (или после доработки) отчет подписывается Исполнителем, ФЗ (в части качества и соответствия работ) и ДЦТИТ (в части соответствия договорным условиям) в срок, указанный в Договоре.
A10: Если ФЗ не подписывает отчет и не направляет к нему замечания (при наличии оказанных Исполнителем услуг данному ФЗ), то отчет подписывает ДЦТИТ (при отсутствии замечаний в части ответственности ДЦТИТ). При наличии такого факта ДЦТИТ (в срок не более 2 рабочих дней) направляет служебную записку руководителю функционального направления. При повторении данной ситуации ДЦТИТ направляет служебную записку руководству Общества для принятия соответствующих мер. До решения руководства Общества по данному факту все новые Заявки данного функционального направления не принимаются для рассмотрения и исполнения, а работа по текущим Заявкам будет приостановлена. Схема взаимодействия между структурными подразделениями Функционального заказчика, ДЦТИТ и Исполнителем при формировании отчета по сопровождению АИС за отчетный период приведена в Приложении 6.

Sheet Методика описания
A1: Приложение 1
A3: Методика расчета трудозатрат на настройку АИС
A5: 1. Общие сведения о методике расчета трудозатрат на настройку АИС
A6: Методика весов является альтернативой субъективной экспертной оценки трудозатрат на настройку АИС. Универсальность Методики весов позволяет с достаточной степенью точности рассчитывать трудозатраты специалистов (достаточной квалификации), использующих в работе различные технологии и(или) языки программирования. Методика весов используется с 2012 года на проектах настройки АИС, созданных на технологических платформах и(или) языках программирования 1С, SAP, Documino, xMedia, Java(Jmix, Struts), Oracle pl/sql. Технические задания к договорам на оказание услуг по настройке и сопровождению АИС, включающие Методику весов, за период 2012 – 2025 гг. были согласованы без замечаний вышестоящей организацией Заказчика ПАО «Россети».
A8: За конкурсные работы на основе Методики весов АО «Россети Кубань» награждено в 2018 и 2020 гг. дипломами лауреата Международного конкурса научных, научно-технических и инновационных разработок, направленных на развитие топливно-энергетической и добывающей отрасли за вклад в инновационное развитие топливно-энергетического комплекса.
A10: Используемые в Методике весов нормативные значения трудоёмкостей базовых видов объектов и видов настройки АИС определены на основании анализа и аппроксимации результатов экспертных оценок и фактических трудозатрат программистов на проектах создания, поддержки и настройки АИС. Объективные различия при использовании разных технологий и(или) языков программирования нивелируются в итоговом расчете трудозатрат. Это достигается использованием в расчете базовых объектов АИС, практически одинаковых во всех АИС (в том числе и по трудозатратам на их настройку). Специфика технологий и(или) языков программирования учитывается в расчете трудозатрат по конкретной Задаче настройки АИС в виде различного количества базовых объектов и видов настройки АИС.
A12: 2. Оказание услуг по настройке АИС
A13: При необходимости в настройке АИС ФЗ формирует ЧТЗ и согласовывает его в Исполнительном аппарате Общества с руководителем или куратором по своему функциональному направлению (если настройка затронет функциональность других ФЗ, то также необходимо их согласование), а также с Исполнителем. Согласованное ЧТЗ ФЗ направляет в ДЦТИТ служебной запиской (посредством СЭДО) о создании Заявки на выполнение настройки АИС.
A15: Заказчик создает ЗНН в АС «РИТМ» (при недоступности – направляет по электронной почте Исполнителю, с последующим вводом в АС «РИТМ») с присоединением согласованного ЧТЗ. При необходимости Исполнитель дополнительно уточняет с Заказчиком требования ЧТЗ, предлагает типовые или альтернативные решения. По результатам уточнений к ЗНН присоединяется уточненное согласованное ЧТЗ.
A17: Исполнитель разрабатывает необходимое количество РВ по ЧТЗ к ЗНН (с расчетом трудозатрат по Методике весов) и согласовывает их с ФЗ и ДЦТИТ. После утверждения Заказчиком РВ по ЗНН Исполнитель приступает к реализации (подготовке и выполнению настройки АИС).
A19: 3. Условия предоставления услуг по настройке АИС
A20: Подготовленные Исполнителем РВ согласовываются ФЗ и ДЦТИТ в АС «РИТМ» в срок по Регламенту (или в другой, согласованный с Исполнителем, ФЗ и ДЦТИТ срок). Согласованные РВ распечатываются, бумажные версии РВ подписываются Исполнителем, ФЗ и ДЦТИТ. После подписания РВ считается утвержденным и в АС «РИТМ» для РВ устанавливается статус «Утвержден». После утверждения всех РВ по ЗНН:
... A46: Для однозначного определения нарушения или отсутствия нарушения времени реализации настройки по РВ в АС «РИТМ» фиксируется дата и время начала/приостановки/завершения реализации. Приостановка реализации настройки по РВ происходит только при передаче настроенной функциональности на тестирование специалистам Заказчика или по согласованию сторон.

Sheet Методика Приложения
A1: Приложения к Методике весов:
A2: Приложение 1 к Методике
A3: Базовые виды объектов и виды настройки АИС
C4: Виды настройки АИС
A5: Базовые виды объектов АИС | C5: Корректировка | D5: Калибровка | E5: Юстировка
B6: Определение базовых видов объектов АИС | C6: Настройка «косметических" изменений (переименование, изменение) в существующем базовом объекте (без изменения функциональности). | D6: Настройка значительных изменений в существующем базовом объекте (с изменением функциональности). | E6: Настройка нового базового объекта (с созданием новой функциональности).
A7: 1. Запрос к БД | B7: Запрос к базе данных АИС для отбора, изменения данных из одной или нескольких таблиц БД по логически неделимому условию. | C7: Изменение в существующем запросе, которое не влечёт за собой изменение результата запроса. В существующем запросе изменение набора/порядка полей без добавления новых таблиц и/или создания/ изменения связей таблиц. | D7: Изменение в существующем запросе, которое влечёт за собой изменение результата запроса. В существующем запросе изменение набора таблиц, их связей, группировки, индексов, условий выборки. | E7: Создание запроса, которое влечёт за собой получение нового результата.
A9: 2. Процедура | B9: Процедура/функция/метод для автоматического выполнения логически неделимого действия в АИС. | C9: Изменение в существующей процедуре, которое не влечёт за собой изменение результата. | D9: Изменение в существующей процедуре, которое влечёт за собой изменение результата. | E9: Создание процедуры, которое влечёт за собой получение нового результата.
C10: Изменение параметров вызовов, их типов, очередности параметров, проверка значений параметров. | D10: Изменение алгоритма, состава параметров, типа возвращаемого результата.
A13: 3. Обработка события | B13: Процедура/функция, для автоматического выполнения действий в АИС при наступлении какого-либо события. | C13: Изменение в существующей обработке события, которое не влечёт за собой изменение результата. | D13: Изменение в существующей обработки события, которое влечёт за собой изменение результата. | E13: Создание обработки события, которое влечёт за собой получение нового результата.
C14: Изменение параметров вызовов, их типов, очередности параметров, проверка значений параметров. | D14: Изменение алгоритма, состава параметров, типа возвращаемого результата.
A15: 4. Экранная форма | B15: Экранная форма (справочника, документа, отчета) предназначена для ввода, отображения, редактирования информации. | C15: Изменение элементов: стиля, формата, названия, положения элементов на форме, переименование элементов или формы. | D15: Добавление на существующую форму новых элементов интерфейса, колонок, полей ввода, выпадающих списков, таблиц, кнопок. | E15: Создание формы.
A16: 5. Набор данных | B16: Структура данных (справочник, регистр, таблица, документ, перечисление, коллекция, очередь и тому подобное). | C16: Переименование или удаление полей, объектов метаданных. | D16: Изменение структуры набора данных: добавление полей, изменение типов значений полей, добавление индексов. | E16: Создание набора данных.
A17: 6. Макет | B17: Макет отчета - печатная форма документа/справочника. | C17: Перемещение элементов макета, изменение названий макета и/или полей. Изменение в макете стилей, элементов вывода данных, колонок таблиц, их порядка. | D17: Изменение наборов элементов макета или добавление в макет новых стилей, элементов вывода данных, колонок таблиц. | E17: Создание макета.
A18: 7. Документация | B18: Текстовый документ (или раздел), описывающий функциональность АИС. | C18: Корректировка документации к существующей функциональности АИС. | D18: Изменение документации в случае изменения функциональности АИС. | E18: Создание текстового документа (или раздела) АИС.
A21: Манипуляция с данными: запуск процедуры/функции обработки данных в АИС с проверкой корректности результата.
A22: Удаление | B22: Создание | C22: Изменение
A23: Запуск обработки по удалению данных. | B23: Запуск обработки по созданию новых данных, возможно ещё с удалением данных. | C23: Запуск обработки по изменению данных, возможно ещё с удалением данных и/или созданием данных.
A25: Приложение 2 к Методике
A26: Нормы времени (трудоёмкости) настройки и манипуляций с данными АИС.
A27: Базовый объект настройки АИС | B27: Вид настройки АИС / время за 1 настройку
B28: Корректировка (час) | C28: Калибровка (час) | D28: Юстировка (час)
A29: Запрос к БД | B29: 0.6 | C29: 2.4 | D29: 4.8
A30: Процедура модуля | B30: 0.53 | C30: 2.1 | D30: 4.2
A31: Обработка события | B31: 0.45 | C31: 1.8 | D31: 3.6
A32: Экранная форма | B32: 0.38 | C32: 1.5 | D32: 3
A33: Набор данных | B33: 0.3 | C33: 1.2 | D33: 2.4
A34: Макет | B34: 0.23 | C34: 0.9 | D34: 1.8
A35: Документация | B35: 0.15 | C35: 0.6 | D35: 1.2
A36: Автоматическая обработка данных АИС | B36: Вид манипуляции с данными / время за 1 манипуляцию
B37: Удаление (час) | C37: Создание (час) | D37: Изменение (час)
A38: Манипуляция с данными | B38: 0.1 | C38: 0.3 | D38: 0.6
A41: Приложение 3 к Методике
A42: Примеры описания настроек АИС в РВ
A43: ОКО-023_Перенос_строк Изменение отображения графы "Улицы" в списке "Отключение электроэнергии"
A44: Объект | B44: Настройка | C44: Пояснение настройки объекта для ФЗ (на основании ЧТЗ) | D44: Объекты (платформа Jmix/Java) | E44: Описание настройки (платформа Jmix/Java)
A45: Экранная форма | B45: Юстировка | C45: При нажатии на ссылку на странице «Отключение электроэнергии» появляется всплывающее окно с наименованием улицы. | D45: streetNames | E45: Создать в колонке streetNames таблицы energyOffsTable формы energy-off-browse.xml новую форму в виде всплывающего окна, которое появляется после нажатия на ссылку. Форма будет содержать наименование улицы.
D46: maxtextLength
D47: energyOffsTable
D48: energy-off-browse.xml
A49: Экранная форма | B49: Корректировка | C49: Ограничение ширины колонки «Улицы» на странице «Отключение электроэнергии» | D49: width | E49: Добавить в колонку streetNames таблицы energyOffsTable формы energy-off-browse.xml атрибут width, ограничивающий ширину колонки
D50: streetNames
D51: energyOffsTable
D52: energy-off-browse.xml
A54: ОКО-025_Печать_PDF Создание базового сервиса конвертации (ConverterService)
A55: Объект | B55: Настройка | C55: Пояснение настройки объекта для ФЗ (на основании ЧТЗ) | D55: Объекты (платформа Jmix/Java) | E55: Описание настройки (платформа Jmix/Java)
A56: Процедура модуля | B56: Юстировка | C56: Подключение возможности конвертации файлов в АИС ОКО | D56: JODConverter | E56: Подключить, выполнить системную конфигурацию и настроить JOD Converter в системе сборки АИС ОКО
A57: Процедура модуля | B57: Юстировка | C57: Создание шаблона конвертации файлов | D57: ConverterService | E57: Создать сервис ConverterService с методами, содержащими различную логику конвертации файлов
A59: ЧТЗ № 210 | C59: Создание обработки по массовой смене паролей пользователей.
A60: Объект | B60: Настройка | C60: Пояснение настройки объекта для ФЗ (на основании ЧТЗ) | D60: Объекты (платформа 1С) | E60: Описание настройки (платформа 1С)
A61: Запрос к БД | B61: Юстировка | C61: Заполнение экранной формы "Массовая установка признака смена пароля" записями из справочника "Пользователи" для установки параметра ПотребоватьСменуПароляПриВходе | D61: Внешние обработки.эпМассоваяУстановкаПризнакаСменаПароля Форма обработки Модуль формы эпМассоваяУстановкаПризнакаСменаПар | E61: Создание запроса ЗаполнитьТаблицуПользователей в модуле формы обработки эпМассоваяУстановкаПризнакаСменаПароля
A62: Обработка события | B62: Юстировка | C62: Запуск алгоритма проставления отметки ПотребоватьСменуПароляПриВходе всем пользователям, отмеченным "галочкой" в табличной части. | D62: Внешние обработки.эпМассоваяУстановкаПризнакаСменаПароля Форма обработки Модуль формы эпМассоваяУстановкаПризнакаСменаПар УстановитьНаСервере | E62: Создание обработки события УстановитьНаСервере: выполнение команды при нажатии на кнопку "Установить" - запуск алгоритма изменения записей в регистре сведений СведенияОПользователях.
A64: 21_ДУ_Интеграция_ОбнулениеСтатусов Доработка модуля заявок ДУ в части экспорта в 1С:УПП согласно СЗ №РК/028/8-сз от 05.02.25.
A65: Объект | B65: Настройка | C65: Пояснение настройки объекта для ФЗ (на основании ЧТЗ) | D65: Объекты (платформа Oracle/SQL) | E65: Описание настройки (платформа Oracle/SQL)
A66: Запрос к БД | B66: Калибровка | C66: Экспорт заявок ДУ (Дополнительных Услуг) из очереди, только для тех заданий формы 949, у которых отсутствует статус экспорта или экспорт требуется согласно статуса. | D66: SetCustomerAction | E66: Доработка запроса выбора массива заданий на экспорт заявок ДУ из очереди, доработка запроса обновления заглушки перед экспортом заявок из очереди.
A67: Запрос к БД | B67: Корректировка | C67: Для исключения несоответствия после экспорта заявки ДУ и записи информации об экспорте в задание, проверять, что у задания установлена заглушка. | D67: updateResivedRow | E67: Доработка запроса на обновление данных об успешном экспорте заявки ДУ, только по заданиям, у которых была установлена заглушка.
A69: Приложение 4 к Методике
A70: Примеры расчета стоимости настройки АИС
A72: Исходные данные: стоимость часа настройки Ст_ч=1000 руб., ЗНН № 7, время оказания услуг с 8:00 до 18:00, расчётное время настройки функциональности АИС по ЗНН №7 КЧР7=16 часов. Начало - 15.05.2015 10:00.
A73: 1 вариант - выполнено своевременно. Завершение 16.05.2015 16-00. Результат реализации настройки: S1=1 - попыток сдачи-приемки выполненных работ нет, S2=1 - нарушения времени реализации нет, Снастр=16*1000=16000 руб.;
A74: 2 вар. - выполнено досрочно. Завершение 16.05.2015 12-00. Результат реализации настройки: если принято с 1 раза, то S=1, Снастр=1000*16=16000 руб.; Если принято после 3-х попыток сдачи-приемки выполненных работ, то S=1-3*0,05=0,85, Снастр=1000*16*0,85=13600 руб."
A75: 3 вариант - выполнено за большее время. Завершение 17.05.2015 10-00. Результат реализации: есть превышение времени реализации. Фактическое время 20 часов. S2=16/20. Сумма Снастр=16*1000*(16/20) =12800 руб.

Sheet Приложение 2
A1: Приложение 2 Схема взаимодействия между структурными подразделениями Функционального заказчика, ДЦТИТ и Исполнителем при выполнении ЗНН.

Sheet Приложение 3,4
A1: Приложение 3 Форма соглашения на нетиповую настройку Соглашение на нетиповую настройку АИС ________ №__________ г. Краснодар «____» _____ 202_ г. ________________________, именуемое в дальнейшем Исполнитель, и Акционерное общество «Россети Кубань» (АО «Россети Кубань»), именуемое в дальнейшем Заказчик, заключили настоящее соглашение на нетиповую настройку АИС ________(далее - Соглашение) к Договору № _________________ от ___.____.202_ г. о нижеследующем: 1. ПРЕДМЕТ СОГЛАШЕНИЯ 1.1 Заказчик поручает, а Исполнитель принимает на себя обязательство произвести по настоящему Соглашению работы, направленные на реализацию нетиповой настройки АИС______. 1.2. Перечень, объем и этапность выполняемых работ указаны в частном техническом задании (Приложение №___ к настоящему Соглашению). 1.3. Общая стоимость работ по данному Соглашению составляет _________ (_____) руб. 2. СРОКИ ВЫПОЛНЕНИЯ РАБОТ 2.1. Работы по данному Соглашению проводятся с ___. _____.202_ г. по ___.____.202_ г. 3. ПРИЕМКА РАБОТ 3.1. Приемка Заказчиком выполненных работ по настоящему Соглашению производится поэтапно в течение пяти рабочих дней с момента извещения его Исполнителем о выполнении соответствующего этапа. 3.2. Порядок приема выполненных работ описан в частном техническом задании. Приложение №___ к Соглашению - «Частное техническое задание».
A2: ЗАКАЗЧИК ИСПОЛНИТЕЛЬ Директор по цифровизации – начальник ДЦТИТ ______________ / ____________ / ________________ /_________/
A3: Приложение 4 Схема взаимодействия при Нетиповой настройке АИС

Sheet Приложение 5,6
A1: Приложение 5 Схема взаимодействия при поддержке АИС
A32: Приложение 6 Схема взаимодействия при формировании отчета об оказании услуг поддержки АИС
